BEGIN:VCALENDAR
VERSION:2.0
PRODID:-//Sabre//Sabre VObject 4.5.8//EN
CALSCALE:GREGORIAN
BEGIN:VEVENT
UID:sabre-vobject-6b719a47-e1ed-4474-8428-c7dad5b91a03
DTSTAMP:20260422T175723Z
SUMMARY:A Good Yarn
DESCRIPTION:A Monthly Gathering for Crafters to Connect.&nbsp\;\n
X-ALT-DESC:FMTTYPE=text/html:<!DOCTYPE HTML PUBLIC "-//W3C//DTD HTML 3.2//E
 N"><HTML><p>A Monthly Gathering for Crafters to Connect.&nbsp\;</p>\n</HTM
 L>
CREATED;TZID=Europe/Oslo:20251009T091044
URL;VALUE=URI:https://baumholder.armymwr.com/calendar/event
DTSTART;TZID=Europe/Oslo:20251014T153000
DTEND;TZID=Europe/Oslo:20251014T163000
SEQUENCE:0
END:VEVENT
END:VCALENDAR
