BEGIN:VCALENDAR
VERSION:2.0
PRODID:-//Sabre//Sabre VObject 4.5.8//EN
CALSCALE:GREGORIAN
BEGIN:VEVENT
UID:sabre-vobject-96d44723-94dd-47e2-832f-d72667c366a6
DTSTAMP:20260425T235122Z
SUMMARY:German Storytime
DESCRIPTION:Introduce Your Little Ones to the Joy of German Language and Ta
 les.\n
X-ALT-DESC:FMTTYPE=text/html:<!DOCTYPE HTML PUBLIC "-//W3C//DTD HTML 3.2//E
 N"><HTML><p>Introduce Your Little Ones to the Joy of German Language and T
 ales.</p>\n</HTML>
CREATED;TZID=Europe/Oslo:20251009T084116
URL;VALUE=URI:https://baumholder.armymwr.com/calendar/event
DTSTART;TZID=Europe/Oslo:20251001T150000
DTEND;TZID=Europe/Oslo:20251001T160000
SEQUENCE:0
END:VEVENT
END:VCALENDAR
