BEGIN:VCALENDAR
VERSION:2.0
PRODID:-//Sabre//Sabre VObject 4.5.8//EN
CALSCALE:GREGORIAN
BEGIN:VEVENT
UID:sabre-vobject-50b617e1-14b4-4824-a180-b17b4ba093c2
DTSTAMP:20260425T121518Z
SUMMARY:Spanish Storytime
DESCRIPTION:A Fun Way to Explore Language\, Culture and Imagination!\n
X-ALT-DESC:FMTTYPE=text/html:<!DOCTYPE HTML PUBLIC "-//W3C//DTD HTML 3.2//E
 N"><HTML><p>A Fun Way to Explore Language\, Culture and Imagination!</p>\n
 </HTML>
CREATED;TZID=Europe/Oslo:20251009T091535
URL;VALUE=URI:https://baumholder.armymwr.com/calendar/event
DTSTART;TZID=Europe/Oslo:20251021T150000
DTEND;TZID=Europe/Oslo:20251021T160000
SEQUENCE:0
END:VEVENT
END:VCALENDAR
