BEGIN:VCALENDAR
VERSION:2.0
PRODID:-//Sabre//Sabre VObject 4.5.8//EN
CALSCALE:GREGORIAN
BEGIN:VEVENT
UID:sabre-vobject-29dd9a90-c21e-4515-b203-6b81cd7bed78
DTSTAMP:20260422T163130Z
SUMMARY:Preschool Storytime
DESCRIPTION:Where Every Page Sparks Imagination and Fun!\n
X-ALT-DESC:FMTTYPE=text/html:<!DOCTYPE HTML PUBLIC "-//W3C//DTD HTML 3.2//E
 N"><HTML><p>Where Every Page Sparks Imagination and Fun!</p>\n</HTML>
CREATED;TZID=Europe/Oslo:20251009T091916
URL;VALUE=URI:https://baumholder.armymwr.com/calendar/event
DTSTART;TZID=Europe/Oslo:20251008T103000
DTEND;TZID=Europe/Oslo:20251008T113000
SEQUENCE:0
END:VEVENT
BEGIN:VEVENT
UID:sabre-vobject-66ef9ef0-65a9-4b7c-9766-52d5986f397f
DTSTAMP:20260422T163130Z
SUMMARY:Preschool Storytime
DESCRIPTION:Where Every Page Sparks Imagination and Fun!\n
X-ALT-DESC:FMTTYPE=text/html:<!DOCTYPE HTML PUBLIC "-//W3C//DTD HTML 3.2//E
 N"><HTML><p>Where Every Page Sparks Imagination and Fun!</p>\n</HTML>
CREATED;TZID=Europe/Oslo:20251009T091916
URL;VALUE=URI:https://baumholder.armymwr.com/calendar/event
DTSTART;TZID=Europe/Oslo:20251022T103000
DTEND;TZID=Europe/Oslo:20251022T113000
SEQUENCE:1
END:VEVENT
END:VCALENDAR
