BEGIN:VCALENDAR
VERSION:2.0
PRODID:-//Sabre//Sabre VObject 4.5.8//EN
CALSCALE:GREGORIAN
BEGIN:VEVENT
UID:sabre-vobject-2b373b16-a437-4820-8d17-89a26373c3a9
DTSTAMP:20260420T102844Z
SUMMARY:Staying in Germany
DESCRIPTION:This workshop offers essential guidance to help navigate the pr
 ocess of staying in Germany.\n
X-ALT-DESC:FMTTYPE=text/html:<!DOCTYPE HTML PUBLIC "-//W3C//DTD HTML 3.2//E
 N"><HTML><p>This workshop offers essential guidance to help navigate the p
 rocess of staying in Germany.</p>\n</HTML>
CREATED;TZID=Europe/Oslo:20260219T144332
URL;VALUE=URI:https://baumholder.armymwr.com/calendar/event
DTSTART;TZID=Europe/Oslo:20260316T140000
DTEND;TZID=Europe/Oslo:20260316T160000
SEQUENCE:0
END:VEVENT
END:VCALENDAR
