BEGIN:VCALENDAR
VERSION:2.0
PRODID:-//Sabre//Sabre VObject 4.5.8//EN
CALSCALE:GREGORIAN
BEGIN:VEVENT
UID:sabre-vobject-e752a4c7-fe80-4c0d-9d06-c85ab0812d66
DTSTAMP:20260419T220832Z
SUMMARY:Saturday Night Comedy Show
DESCRIPTION:See you at the Rheinlander Community Club for a night of hilari
 ous comedy.\n
X-ALT-DESC:FMTTYPE=text/html:<!DOCTYPE HTML PUBLIC "-//W3C//DTD HTML 3.2//E
 N"><HTML><p><b>See you at the Rheinlander Community Club for a night of hi
 larious comedy.</b></p>\n</HTML>
CREATED;TZID=Europe/Oslo:20260220T081142
URL;VALUE=URI:https://baumholder.armymwr.com/calendar/event
DTSTART;TZID=Europe/Oslo:20260321T190000
DTEND;TZID=Europe/Oslo:20260321T210000
SEQUENCE:0
END:VEVENT
END:VCALENDAR
