BEGIN:VCALENDAR
VERSION:2.0
PRODID:-//Sabre//Sabre VObject 4.5.8//EN
CALSCALE:GREGORIAN
BEGIN:VEVENT
UID:sabre-vobject-4a885724-6302-4264-bf1d-e668112e5faf
DTSTAMP:20260422T072348Z
SUMMARY:San Remo and the Italian Riviera
DESCRIPTION:Two Rivieras&nbsp\;-&nbsp\;One unforgettable trip!\n\n$799+ per
  person | Early Bird Discount expires Monday\, March 30\n
X-ALT-DESC:FMTTYPE=text/html:<!DOCTYPE HTML PUBLIC "-//W3C//DTD HTML 3.2//E
 N"><HTML><p><strong>Two Rivieras</strong>&nbsp\;-&nbsp\;<strong>One unforg
 ettable trip</strong>!<br />\n<br />\n$799+ per person | <strong>Early Bir
 d Discount expires Monday\, March 30</strong></p>\n</HTML>
CREATED;TZID=Europe/Oslo:20260316T112719
URL;VALUE=URI:https://baumholder.armymwr.com/calendar/event
DTSTART;TZID=Europe/Oslo:20260618T000000
DTEND;TZID=Europe/Oslo:20260618T235959
SEQUENCE:0
END:VEVENT
BEGIN:VEVENT
UID:sabre-vobject-71e7a910-6f8e-4c34-95bb-e171fbb25d35
DTSTAMP:20260422T072348Z
SUMMARY:San Remo and the Italian Riviera
DESCRIPTION:Two Rivieras&nbsp\;-&nbsp\;One unforgettable trip!\n\n$799+ per
  person | Early Bird Discount expires Monday\, March 30\n
X-ALT-DESC:FMTTYPE=text/html:<!DOCTYPE HTML PUBLIC "-//W3C//DTD HTML 3.2//E
 N"><HTML><p><strong>Two Rivieras</strong>&nbsp\;-&nbsp\;<strong>One unforg
 ettable trip</strong>!<br />\n<br />\n$799+ per person | <strong>Early Bir
 d Discount expires Monday\, March 30</strong></p>\n</HTML>
CREATED;TZID=Europe/Oslo:20260316T112719
URL;VALUE=URI:https://baumholder.armymwr.com/calendar/event
DTSTART;TZID=Europe/Oslo:20260619T000000
DTEND;TZID=Europe/Oslo:20260619T235959
SEQUENCE:1
END:VEVENT
BEGIN:VEVENT
UID:sabre-vobject-724f68f2-1b0c-4862-a0c7-c029e8517cd6
DTSTAMP:20260422T072348Z
SUMMARY:San Remo and the Italian Riviera
DESCRIPTION:Two Rivieras&nbsp\;-&nbsp\;One unforgettable trip!\n\n$799+ per
  person | Early Bird Discount expires Monday\, March 30\n
X-ALT-DESC:FMTTYPE=text/html:<!DOCTYPE HTML PUBLIC "-//W3C//DTD HTML 3.2//E
 N"><HTML><p><strong>Two Rivieras</strong>&nbsp\;-&nbsp\;<strong>One unforg
 ettable trip</strong>!<br />\n<br />\n$799+ per person | <strong>Early Bir
 d Discount expires Monday\, March 30</strong></p>\n</HTML>
CREATED;TZID=Europe/Oslo:20260316T112719
URL;VALUE=URI:https://baumholder.armymwr.com/calendar/event
DTSTART;TZID=Europe/Oslo:20260620T000000
DTEND;TZID=Europe/Oslo:20260620T235959
SEQUENCE:2
END:VEVENT
BEGIN:VEVENT
UID:sabre-vobject-152c51db-c21f-4240-a2b3-59185d91d936
DTSTAMP:20260422T072348Z
SUMMARY:San Remo and the Italian Riviera
DESCRIPTION:Two Rivieras&nbsp\;-&nbsp\;One unforgettable trip!\n\n$799+ per
  person | Early Bird Discount expires Monday\, March 30\n
X-ALT-DESC:FMTTYPE=text/html:<!DOCTYPE HTML PUBLIC "-//W3C//DTD HTML 3.2//E
 N"><HTML><p><strong>Two Rivieras</strong>&nbsp\;-&nbsp\;<strong>One unforg
 ettable trip</strong>!<br />\n<br />\n$799+ per person | <strong>Early Bir
 d Discount expires Monday\, March 30</strong></p>\n</HTML>
CREATED;TZID=Europe/Oslo:20260316T112719
URL;VALUE=URI:https://baumholder.armymwr.com/calendar/event
DTSTART;TZID=Europe/Oslo:20260621T000000
DTEND;TZID=Europe/Oslo:20260621T235959
SEQUENCE:3
END:VEVENT
BEGIN:VEVENT
UID:sabre-vobject-4226be5c-ee16-4a67-9ff4-23b6ed80e320
DTSTAMP:20260422T072348Z
SUMMARY:San Remo and the Italian Riviera
DESCRIPTION:Two Rivieras&nbsp\;-&nbsp\;One unforgettable trip!\n\n$799+ per
  person | Early Bird Discount expires Monday\, March 30\n
X-ALT-DESC:FMTTYPE=text/html:<!DOCTYPE HTML PUBLIC "-//W3C//DTD HTML 3.2//E
 N"><HTML><p><strong>Two Rivieras</strong>&nbsp\;-&nbsp\;<strong>One unforg
 ettable trip</strong>!<br />\n<br />\n$799+ per person | <strong>Early Bir
 d Discount expires Monday\, March 30</strong></p>\n</HTML>
CREATED;TZID=Europe/Oslo:20260316T112719
URL;VALUE=URI:https://baumholder.armymwr.com/calendar/event
DTSTART;TZID=Europe/Oslo:20260622T000000
DTEND;TZID=Europe/Oslo:20260622T235959
SEQUENCE:4
END:VEVENT
END:VCALENDAR
