BEGIN:VCALENDAR
VERSION:2.0
PRODID:-//Sabre//Sabre VObject 4.5.8//EN
CALSCALE:GREGORIAN
BEGIN:VEVENT
UID:sabre-vobject-c996cfb7-977f-4fce-805f-68dc96214cf1
DTSTAMP:20260421T052100Z
SUMMARY:Mother's Day Spa
DESCRIPTION:Come on&nbsp\;Mom you deserve a day!\n
X-ALT-DESC:FMTTYPE=text/html:<!DOCTYPE HTML PUBLIC "-//W3C//DTD HTML 3.2//E
 N"><HTML><p>Come on&nbsp\;<strong>Mom you deserve a day</strong>!</p>\n</H
 TML>
CREATED;TZID=Europe/Oslo:20260407T153744
URL;VALUE=URI:https://baumholder.armymwr.com/calendar/event
DTSTART;TZID=Europe/Oslo:20260510T080000
DTEND;TZID=Europe/Oslo:20260510T200000
SEQUENCE:0
END:VEVENT
END:VCALENDAR
