BEGIN:VCALENDAR
VERSION:2.0
PRODID:-//Sabre//Sabre VObject 4.5.8//EN
CALSCALE:GREGORIAN
BEGIN:VEVENT
UID:sabre-vobject-20ed3f86-56bb-4381-8395-ebfcb5ecee05
DTSTAMP:20260421T015256Z
SUMMARY:Unit Level Soccer Season Registration
DESCRIPTION:Letters of Intent are available&nbsp\;at the&nbsp\;Hall of Cham
 pions Physical Fitness Center.\n
X-ALT-DESC:FMTTYPE=text/html:<!DOCTYPE HTML PUBLIC "-//W3C//DTD HTML 3.2//E
 N"><HTML><p><strong>Letters of Intent are available&nbsp\;</strong>at the&
 nbsp\;<strong>Hall of Champions Physical Fitness Center.</strong></p>\n</H
 TML>
CREATED;TZID=Europe/Oslo:20260420T121155
URL;VALUE=URI:https://baumholder.armymwr.com/calendar/event
DTSTART;TZID=Europe/Oslo:20260501T000000
DTEND;TZID=Europe/Oslo:20260501T235959
SEQUENCE:0
END:VEVENT
END:VCALENDAR
