BEGIN:VCALENDAR
VERSION:2.0
PRODID:-//Sabre//Sabre VObject 4.5.8//EN
CALSCALE:GREGORIAN
BEGIN:VEVENT
UID:sabre-vobject-ff971c50-4595-4509-a26d-00b4aca55ba0
DTSTAMP:20260420T194910Z
SUMMARY:Letting Go Series - Tips & Techniques to Tame Your Temper
DESCRIPTION:Take control of your temper with Army Community Service (ACS) a
 nd join this informative class on how to understand and control anger.\n
X-ALT-DESC:FMTTYPE=text/html:<!DOCTYPE HTML PUBLIC "-//W3C//DTD HTML 3.2//E
 N"><HTML><p>Take control of your temper with Army Community Service (ACS) 
 and join this informative class on how to understand and control anger.</p
 >\n</HTML>
CREATED;TZID=Europe/Oslo:20190619T084619
URL;VALUE=URI:https://baumholder.armymwr.com/calendar/event
DTSTART;TZID=Europe/Oslo:20180416T120000
DTEND;TZID=Europe/Oslo:20180416T130000
SEQUENCE:0
END:VEVENT
BEGIN:VEVENT
UID:sabre-vobject-7ae5b58c-fa24-4c97-83a8-c1198b72f7be
DTSTAMP:20260420T194910Z
SUMMARY:Letting Go Series - Tips & Techniques to Tame Your Temper
DESCRIPTION:Take control of your temper with Army Community Service (ACS) a
 nd join this informative class on how to understand and control anger.\n
X-ALT-DESC:FMTTYPE=text/html:<!DOCTYPE HTML PUBLIC "-//W3C//DTD HTML 3.2//E
 N"><HTML><p>Take control of your temper with Army Community Service (ACS) 
 and join this informative class on how to understand and control anger.</p
 >\n</HTML>
CREATED;TZID=Europe/Oslo:20190619T084619
URL;VALUE=URI:https://baumholder.armymwr.com/calendar/event
DTSTART;TZID=Europe/Oslo:20180423T120000
DTEND;TZID=Europe/Oslo:20180423T130000
SEQUENCE:1
END:VEVENT
BEGIN:VEVENT
UID:sabre-vobject-ff29c13e-149a-46b3-a006-f26a8f1fa955
DTSTAMP:20260420T194910Z
SUMMARY:Letting Go Series - Tips & Techniques to Tame Your Temper
DESCRIPTION:Take control of your temper with Army Community Service (ACS) a
 nd join this informative class on how to understand and control anger.\n
X-ALT-DESC:FMTTYPE=text/html:<!DOCTYPE HTML PUBLIC "-//W3C//DTD HTML 3.2//E
 N"><HTML><p>Take control of your temper with Army Community Service (ACS) 
 and join this informative class on how to understand and control anger.</p
 >\n</HTML>
CREATED;TZID=Europe/Oslo:20190619T084619
URL;VALUE=URI:https://baumholder.armymwr.com/calendar/event
DTSTART;TZID=Europe/Oslo:20180521T120000
DTEND;TZID=Europe/Oslo:20180521T130000
SEQUENCE:2
END:VEVENT
BEGIN:VEVENT
UID:sabre-vobject-64b3c4fe-dec1-4a66-9a8e-fa4e81511952
DTSTAMP:20260420T194910Z
SUMMARY:Letting Go Series - Tips & Techniques to Tame Your Temper
DESCRIPTION:Take control of your temper with Army Community Service (ACS) a
 nd join this informative class on how to understand and control anger.\n
X-ALT-DESC:FMTTYPE=text/html:<!DOCTYPE HTML PUBLIC "-//W3C//DTD HTML 3.2//E
 N"><HTML><p>Take control of your temper with Army Community Service (ACS) 
 and join this informative class on how to understand and control anger.</p
 >\n</HTML>
CREATED;TZID=Europe/Oslo:20190619T084619
URL;VALUE=URI:https://baumholder.armymwr.com/calendar/event
DTSTART;TZID=Europe/Oslo:20180529T120000
DTEND;TZID=Europe/Oslo:20180529T130000
SEQUENCE:3
END:VEVENT
BEGIN:VEVENT
UID:sabre-vobject-58cbf775-e6b0-43b1-b075-16f925198f87
DTSTAMP:20260420T194910Z
SUMMARY:Letting Go Series - Tips & Techniques to Tame Your Temper
DESCRIPTION:Take control of your temper with Army Community Service (ACS) a
 nd join this informative class on how to understand and control anger.\n
X-ALT-DESC:FMTTYPE=text/html:<!DOCTYPE HTML PUBLIC "-//W3C//DTD HTML 3.2//E
 N"><HTML><p>Take control of your temper with Army Community Service (ACS) 
 and join this informative class on how to understand and control anger.</p
 >\n</HTML>
CREATED;TZID=Europe/Oslo:20190619T084619
URL;VALUE=URI:https://baumholder.armymwr.com/calendar/event
DTSTART;TZID=Europe/Oslo:20180618T120000
DTEND;TZID=Europe/Oslo:20180618T130000
SEQUENCE:4
END:VEVENT
BEGIN:VEVENT
UID:sabre-vobject-abb67809-5667-4318-8df3-6391f2fc5f7c
DTSTAMP:20260420T194910Z
SUMMARY:Letting Go Series - Tips & Techniques to Tame Your Temper
DESCRIPTION:Take control of your temper with Army Community Service (ACS) a
 nd join this informative class on how to understand and control anger.\n
X-ALT-DESC:FMTTYPE=text/html:<!DOCTYPE HTML PUBLIC "-//W3C//DTD HTML 3.2//E
 N"><HTML><p>Take control of your temper with Army Community Service (ACS) 
 and join this informative class on how to understand and control anger.</p
 >\n</HTML>
CREATED;TZID=Europe/Oslo:20190619T084619
URL;VALUE=URI:https://baumholder.armymwr.com/calendar/event
DTSTART;TZID=Europe/Oslo:20180917T120000
DTEND;TZID=Europe/Oslo:20180917T130000
SEQUENCE:5
END:VEVENT
BEGIN:VEVENT
UID:sabre-vobject-3bbef4b7-9ce5-4302-9714-b7099718d94f
DTSTAMP:20260420T194910Z
SUMMARY:Letting Go Series - Tips & Techniques to Tame Your Temper
DESCRIPTION:Take control of your temper with Army Community Service (ACS) a
 nd join this informative class on how to understand and control anger.\n
X-ALT-DESC:FMTTYPE=text/html:<!DOCTYPE HTML PUBLIC "-//W3C//DTD HTML 3.2//E
 N"><HTML><p>Take control of your temper with Army Community Service (ACS) 
 and join this informative class on how to understand and control anger.</p
 >\n</HTML>
CREATED;TZID=Europe/Oslo:20190619T084619
URL;VALUE=URI:https://baumholder.armymwr.com/calendar/event
DTSTART;TZID=Europe/Oslo:20180924T120000
DTEND;TZID=Europe/Oslo:20180924T130000
SEQUENCE:6
END:VEVENT
BEGIN:VEVENT
UID:sabre-vobject-ac9f8505-dc8b-43b8-a959-1015680176b2
DTSTAMP:20260420T194910Z
SUMMARY:Letting Go Series - Tips & Techniques to Tame Your Temper
DESCRIPTION:Take control of your temper with Army Community Service (ACS) a
 nd join this informative class on how to understand and control anger.\n
X-ALT-DESC:FMTTYPE=text/html:<!DOCTYPE HTML PUBLIC "-//W3C//DTD HTML 3.2//E
 N"><HTML><p>Take control of your temper with Army Community Service (ACS) 
 and join this informative class on how to understand and control anger.</p
 >\n</HTML>
CREATED;TZID=Europe/Oslo:20190619T084619
URL;VALUE=URI:https://baumholder.armymwr.com/calendar/event
DTSTART;TZID=Europe/Oslo:20190128T120000
DTEND;TZID=Europe/Oslo:20190128T140000
SEQUENCE:7
END:VEVENT
BEGIN:VEVENT
UID:sabre-vobject-50dd3340-2fae-491a-892f-d61e07f7d7c6
DTSTAMP:20260420T194910Z
SUMMARY:Letting Go Series - Tips & Techniques to Tame Your Temper
DESCRIPTION:Take control of your temper with Army Community Service (ACS) a
 nd join this informative class on how to understand and control anger.\n
X-ALT-DESC:FMTTYPE=text/html:<!DOCTYPE HTML PUBLIC "-//W3C//DTD HTML 3.2//E
 N"><HTML><p>Take control of your temper with Army Community Service (ACS) 
 and join this informative class on how to understand and control anger.</p
 >\n</HTML>
CREATED;TZID=Europe/Oslo:20190619T084619
URL;VALUE=URI:https://baumholder.armymwr.com/calendar/event
DTSTART;TZID=Europe/Oslo:20190225T120000
DTEND;TZID=Europe/Oslo:20190225T140000
SEQUENCE:8
END:VEVENT
BEGIN:VEVENT
UID:sabre-vobject-640f44fd-dd00-4c25-963e-acbe7cf2252a
DTSTAMP:20260420T194910Z
SUMMARY:Letting Go Series - Tips & Techniques to Tame Your Temper
DESCRIPTION:Take control of your temper with Army Community Service (ACS) a
 nd join this informative class on how to understand and control anger.\n
X-ALT-DESC:FMTTYPE=text/html:<!DOCTYPE HTML PUBLIC "-//W3C//DTD HTML 3.2//E
 N"><HTML><p>Take control of your temper with Army Community Service (ACS) 
 and join this informative class on how to understand and control anger.</p
 >\n</HTML>
CREATED;TZID=Europe/Oslo:20190619T084619
URL;VALUE=URI:https://baumholder.armymwr.com/calendar/event
DTSTART;TZID=Europe/Oslo:20190318T120000
DTEND;TZID=Europe/Oslo:20190318T130000
SEQUENCE:9
END:VEVENT
BEGIN:VEVENT
UID:sabre-vobject-e52d0d9f-141e-45ef-9d34-8eda5b0a7d1a
DTSTAMP:20260420T194910Z
SUMMARY:Letting Go Series - Tips & Techniques to Tame Your Temper
DESCRIPTION:Take control of your temper with Army Community Service (ACS) a
 nd join this informative class on how to understand and control anger.\n
X-ALT-DESC:FMTTYPE=text/html:<!DOCTYPE HTML PUBLIC "-//W3C//DTD HTML 3.2//E
 N"><HTML><p>Take control of your temper with Army Community Service (ACS) 
 and join this informative class on how to understand and control anger.</p
 >\n</HTML>
CREATED;TZID=Europe/Oslo:20190619T084619
URL;VALUE=URI:https://baumholder.armymwr.com/calendar/event
DTSTART;TZID=Europe/Oslo:20190325T120000
DTEND;TZID=Europe/Oslo:20190325T130000
SEQUENCE:10
END:VEVENT
BEGIN:VEVENT
UID:sabre-vobject-81c84a63-e340-44d6-85c3-be8be6694204
DTSTAMP:20260420T194910Z
SUMMARY:Letting Go Series - Tips & Techniques to Tame Your Temper
DESCRIPTION:Take control of your temper with Army Community Service (ACS) a
 nd join this informative class on how to understand and control anger.\n
X-ALT-DESC:FMTTYPE=text/html:<!DOCTYPE HTML PUBLIC "-//W3C//DTD HTML 3.2//E
 N"><HTML><p>Take control of your temper with Army Community Service (ACS) 
 and join this informative class on how to understand and control anger.</p
 >\n</HTML>
CREATED;TZID=Europe/Oslo:20190619T084619
URL;VALUE=URI:https://baumholder.armymwr.com/calendar/event
DTSTART;TZID=Europe/Oslo:20190422T120000
DTEND;TZID=Europe/Oslo:20190422T130000
SEQUENCE:11
END:VEVENT
BEGIN:VEVENT
UID:sabre-vobject-41f45473-cc5b-42e1-951e-f8effe9083c1
DTSTAMP:20260420T194910Z
SUMMARY:Letting Go Series - Tips & Techniques to Tame Your Temper
DESCRIPTION:Take control of your temper with Army Community Service (ACS) a
 nd join this informative class on how to understand and control anger.\n
X-ALT-DESC:FMTTYPE=text/html:<!DOCTYPE HTML PUBLIC "-//W3C//DTD HTML 3.2//E
 N"><HTML><p>Take control of your temper with Army Community Service (ACS) 
 and join this informative class on how to understand and control anger.</p
 >\n</HTML>
CREATED;TZID=Europe/Oslo:20190619T084619
URL;VALUE=URI:https://baumholder.armymwr.com/calendar/event
DTSTART;TZID=Europe/Oslo:20190429T120000
DTEND;TZID=Europe/Oslo:20190429T130000
SEQUENCE:12
END:VEVENT
BEGIN:VEVENT
UID:sabre-vobject-dc88062f-0120-470d-a2a2-3e57aa463eb4
DTSTAMP:20260420T194910Z
SUMMARY:Letting Go Series - Tips & Techniques to Tame Your Temper
DESCRIPTION:Take control of your temper with Army Community Service (ACS) a
 nd join this informative class on how to understand and control anger.\n
X-ALT-DESC:FMTTYPE=text/html:<!DOCTYPE HTML PUBLIC "-//W3C//DTD HTML 3.2//E
 N"><HTML><p>Take control of your temper with Army Community Service (ACS) 
 and join this informative class on how to understand and control anger.</p
 >\n</HTML>
CREATED;TZID=Europe/Oslo:20190619T084619
URL;VALUE=URI:https://baumholder.armymwr.com/calendar/event
DTSTART;TZID=Europe/Oslo:20190520T120000
DTEND;TZID=Europe/Oslo:20190520T143000
SEQUENCE:13
END:VEVENT
BEGIN:VEVENT
UID:sabre-vobject-7147cb4a-fffe-4d19-95bd-fee44cd5c875
DTSTAMP:20260420T194910Z
SUMMARY:Letting Go Series - Tips & Techniques to Tame Your Temper
DESCRIPTION:Take control of your temper with Army Community Service (ACS) a
 nd join this informative class on how to understand and control anger.\n
X-ALT-DESC:FMTTYPE=text/html:<!DOCTYPE HTML PUBLIC "-//W3C//DTD HTML 3.2//E
 N"><HTML><p>Take control of your temper with Army Community Service (ACS) 
 and join this informative class on how to understand and control anger.</p
 >\n</HTML>
CREATED;TZID=Europe/Oslo:20190619T084619
URL;VALUE=URI:https://baumholder.armymwr.com/calendar/event
DTSTART;TZID=Europe/Oslo:20190617T120000
DTEND;TZID=Europe/Oslo:20190617T130000
SEQUENCE:14
END:VEVENT
BEGIN:VEVENT
UID:sabre-vobject-5421bfac-14f6-4960-aed2-73a876a15d88
DTSTAMP:20260420T194910Z
SUMMARY:Letting Go Series - Tips & Techniques to Tame Your Temper
DESCRIPTION:Take control of your temper with Army Community Service (ACS) a
 nd join this informative class on how to understand and control anger.\n
X-ALT-DESC:FMTTYPE=text/html:<!DOCTYPE HTML PUBLIC "-//W3C//DTD HTML 3.2//E
 N"><HTML><p>Take control of your temper with Army Community Service (ACS) 
 and join this informative class on how to understand and control anger.</p
 >\n</HTML>
CREATED;TZID=Europe/Oslo:20190619T084619
URL;VALUE=URI:https://baumholder.armymwr.com/calendar/event
DTSTART;TZID=Europe/Oslo:20190624T120000
DTEND;TZID=Europe/Oslo:20190624T130000
SEQUENCE:15
END:VEVENT
BEGIN:VEVENT
UID:sabre-vobject-7a5ed155-a8d4-48b7-be76-2558089a3a73
DTSTAMP:20260420T194910Z
SUMMARY:Letting Go Series - Tips & Techniques to Tame Your Temper
DESCRIPTION:Take control of your temper with Army Community Service (ACS) a
 nd join this informative class on how to understand and control anger.\n
X-ALT-DESC:FMTTYPE=text/html:<!DOCTYPE HTML PUBLIC "-//W3C//DTD HTML 3.2//E
 N"><HTML><p>Take control of your temper with Army Community Service (ACS) 
 and join this informative class on how to understand and control anger.</p
 >\n</HTML>
CREATED;TZID=Europe/Oslo:20190619T084619
URL;VALUE=URI:https://baumholder.armymwr.com/calendar/event
DTSTART;TZID=Europe/Oslo:20190722T120000
DTEND;TZID=Europe/Oslo:20190722T130000
SEQUENCE:16
END:VEVENT
BEGIN:VEVENT
UID:sabre-vobject-187f2f69-a280-4b14-b252-992810e75a9f
DTSTAMP:20260420T194910Z
SUMMARY:Letting Go Series - Tips & Techniques to Tame Your Temper
DESCRIPTION:Take control of your temper with Army Community Service (ACS) a
 nd join this informative class on how to understand and control anger.\n
X-ALT-DESC:FMTTYPE=text/html:<!DOCTYPE HTML PUBLIC "-//W3C//DTD HTML 3.2//E
 N"><HTML><p>Take control of your temper with Army Community Service (ACS) 
 and join this informative class on how to understand and control anger.</p
 >\n</HTML>
CREATED;TZID=Europe/Oslo:20190619T084619
URL;VALUE=URI:https://baumholder.armymwr.com/calendar/event
DTSTART;TZID=Europe/Oslo:20190729T120000
DTEND;TZID=Europe/Oslo:20190729T130000
SEQUENCE:17
END:VEVENT
END:VCALENDAR
