BEGIN:VCALENDAR
VERSION:2.0
PRODID:-//Sabre//Sabre VObject 4.5.8//EN
CALSCALE:GREGORIAN
BEGIN:VEVENT
UID:sabre-vobject-f2fc34d9-b460-4347-b3e0-5097567777e0
DTSTAMP:20260423T140216Z
SUMMARY:"The Rock" Superstar Karaoke Competition
DESCRIPTION:So you wanna be &quot\;The Rock&quot\; Superstar? Live large\, 
 big house\, five cars\, you in charge?\n
X-ALT-DESC:FMTTYPE=text/html:<!DOCTYPE HTML PUBLIC "-//W3C//DTD HTML 3.2//E
 N"><HTML><p>So you wanna be &quot\;The Rock&quot\; Superstar? Live large\,
  big house\, five cars\, you in charge?</p>\n</HTML>
CREATED;TZID=Europe/Oslo:20190411T094618
URL;VALUE=URI:https://baumholder.armymwr.com/calendar/event
DTSTART;TZID=Europe/Oslo:20190608T200000
DTEND;TZID=Europe/Oslo:20190608T210000
SEQUENCE:0
END:VEVENT
BEGIN:VEVENT
UID:sabre-vobject-4df775ae-de43-4381-87fe-5757b838c1f8
DTSTAMP:20260423T140216Z
SUMMARY:"The Rock" Superstar Karaoke Competition
DESCRIPTION:So you wanna be &quot\;The Rock&quot\; Superstar? Live large\, 
 big house\, five cars\, you in charge?\n
X-ALT-DESC:FMTTYPE=text/html:<!DOCTYPE HTML PUBLIC "-//W3C//DTD HTML 3.2//E
 N"><HTML><p>So you wanna be &quot\;The Rock&quot\; Superstar? Live large\,
  big house\, five cars\, you in charge?</p>\n</HTML>
CREATED;TZID=Europe/Oslo:20190411T094618
URL;VALUE=URI:https://baumholder.armymwr.com/calendar/event
DTSTART;TZID=Europe/Oslo:20190607T200000
DTEND;TZID=Europe/Oslo:20190607T210000
SEQUENCE:1
END:VEVENT
BEGIN:VEVENT
UID:sabre-vobject-4a302be1-d3be-4c6e-998d-39e2d01e3706
DTSTAMP:20260423T140216Z
SUMMARY:"The Rock" Superstar Karaoke Competition
DESCRIPTION:So you wanna be &quot\;The Rock&quot\; Superstar? Live large\, 
 big house\, five cars\, you in charge?\n
X-ALT-DESC:FMTTYPE=text/html:<!DOCTYPE HTML PUBLIC "-//W3C//DTD HTML 3.2//E
 N"><HTML><p>So you wanna be &quot\;The Rock&quot\; Superstar? Live large\,
  big house\, five cars\, you in charge?</p>\n</HTML>
CREATED;TZID=Europe/Oslo:20190411T094618
URL;VALUE=URI:https://baumholder.armymwr.com/calendar/event
DTSTART;TZID=Europe/Oslo:20190511T200000
DTEND;TZID=Europe/Oslo:20190511T210000
SEQUENCE:2
END:VEVENT
BEGIN:VEVENT
UID:sabre-vobject-1326f880-1f0b-427e-a1ed-893cb30d4f73
DTSTAMP:20260423T140216Z
SUMMARY:"The Rock" Superstar Karaoke Competition
DESCRIPTION:So you wanna be &quot\;The Rock&quot\; Superstar? Live large\, 
 big house\, five cars\, you in charge?\n
X-ALT-DESC:FMTTYPE=text/html:<!DOCTYPE HTML PUBLIC "-//W3C//DTD HTML 3.2//E
 N"><HTML><p>So you wanna be &quot\;The Rock&quot\; Superstar? Live large\,
  big house\, five cars\, you in charge?</p>\n</HTML>
CREATED;TZID=Europe/Oslo:20190411T094618
URL;VALUE=URI:https://baumholder.armymwr.com/calendar/event
DTSTART;TZID=Europe/Oslo:20190518T200000
DTEND;TZID=Europe/Oslo:20190518T210000
SEQUENCE:3
END:VEVENT
BEGIN:VEVENT
UID:sabre-vobject-45b7960b-018a-4ab5-b7d8-3c804e390582
DTSTAMP:20260423T140216Z
SUMMARY:"The Rock" Superstar Karaoke Competition
DESCRIPTION:So you wanna be &quot\;The Rock&quot\; Superstar? Live large\, 
 big house\, five cars\, you in charge?\n
X-ALT-DESC:FMTTYPE=text/html:<!DOCTYPE HTML PUBLIC "-//W3C//DTD HTML 3.2//E
 N"><HTML><p>So you wanna be &quot\;The Rock&quot\; Superstar? Live large\,
  big house\, five cars\, you in charge?</p>\n</HTML>
CREATED;TZID=Europe/Oslo:20190411T094618
URL;VALUE=URI:https://baumholder.armymwr.com/calendar/event
DTSTART;TZID=Europe/Oslo:20190525T200000
DTEND;TZID=Europe/Oslo:20190525T210000
SEQUENCE:4
END:VEVENT
BEGIN:VEVENT
UID:sabre-vobject-53514136-444b-4627-9014-ac49f0159130
DTSTAMP:20260423T140216Z
SUMMARY:"The Rock" Superstar Karaoke Competition
DESCRIPTION:So you wanna be &quot\;The Rock&quot\; Superstar? Live large\, 
 big house\, five cars\, you in charge?\n
X-ALT-DESC:FMTTYPE=text/html:<!DOCTYPE HTML PUBLIC "-//W3C//DTD HTML 3.2//E
 N"><HTML><p>So you wanna be &quot\;The Rock&quot\; Superstar? Live large\,
  big house\, five cars\, you in charge?</p>\n</HTML>
CREATED;TZID=Europe/Oslo:20190411T094618
URL;VALUE=URI:https://baumholder.armymwr.com/calendar/event
DTSTART;TZID=Europe/Oslo:20190601T200000
DTEND;TZID=Europe/Oslo:20190601T210000
SEQUENCE:5
END:VEVENT
END:VCALENDAR
