BEGIN:VCALENDAR
VERSION:2.0
PRODID:-//Sabre//Sabre VObject 4.5.8//EN
CALSCALE:GREGORIAN
BEGIN:VEVENT
UID:sabre-vobject-6b7986f1-0d5a-4e9e-9e68-2a0c73e57574
DTSTAMP:20260423T092653Z
SUMMARY:Smooth Moves Workshop
DESCRIPTION:Are you getting ready to PCS? Let ACS help you get ready for th
 e transition!\n
X-ALT-DESC:FMTTYPE=text/html:<!DOCTYPE HTML PUBLIC "-//W3C//DTD HTML 3.2//E
 N"><HTML><p>Are you getting ready to PCS? Let ACS help you get ready for t
 he transition!</p>\n</HTML>
CREATED;TZID=Europe/Oslo:20190531T140309
URL;VALUE=URI:https://baumholder.armymwr.com/calendar/event
DTSTART;TZID=Europe/Oslo:20180828T100000
DTEND;TZID=Europe/Oslo:20180828T113000
SEQUENCE:0
END:VEVENT
BEGIN:VEVENT
UID:sabre-vobject-ac8b582c-bc9b-4c45-b7f6-607124f6d573
DTSTAMP:20260423T092653Z
SUMMARY:Smooth Moves Workshop
DESCRIPTION:Are you getting ready to PCS? Let ACS help you get ready for th
 e transition!\n
X-ALT-DESC:FMTTYPE=text/html:<!DOCTYPE HTML PUBLIC "-//W3C//DTD HTML 3.2//E
 N"><HTML><p>Are you getting ready to PCS? Let ACS help you get ready for t
 he transition!</p>\n</HTML>
CREATED;TZID=Europe/Oslo:20190531T140309
URL;VALUE=URI:https://baumholder.armymwr.com/calendar/event
DTSTART;TZID=Europe/Oslo:20181218T100000
DTEND;TZID=Europe/Oslo:20181218T110000
SEQUENCE:1
END:VEVENT
BEGIN:VEVENT
UID:sabre-vobject-08fabe97-e672-4c90-a0f5-9231e8d0f01e
DTSTAMP:20260423T092653Z
SUMMARY:Smooth Moves Workshop
DESCRIPTION:Are you getting ready to PCS? Let ACS help you get ready for th
 e transition!\n
X-ALT-DESC:FMTTYPE=text/html:<!DOCTYPE HTML PUBLIC "-//W3C//DTD HTML 3.2//E
 N"><HTML><p>Are you getting ready to PCS? Let ACS help you get ready for t
 he transition!</p>\n</HTML>
CREATED;TZID=Europe/Oslo:20190531T140309
URL;VALUE=URI:https://baumholder.armymwr.com/calendar/event
DTSTART;TZID=Europe/Oslo:20190122T100000
DTEND;TZID=Europe/Oslo:20190122T113000
SEQUENCE:2
END:VEVENT
BEGIN:VEVENT
UID:sabre-vobject-3dc0f4f6-c10f-4e36-9868-eebf10482d9a
DTSTAMP:20260423T092653Z
SUMMARY:Smooth Moves Workshop
DESCRIPTION:Are you getting ready to PCS? Let ACS help you get ready for th
 e transition!\n
X-ALT-DESC:FMTTYPE=text/html:<!DOCTYPE HTML PUBLIC "-//W3C//DTD HTML 3.2//E
 N"><HTML><p>Are you getting ready to PCS? Let ACS help you get ready for t
 he transition!</p>\n</HTML>
CREATED;TZID=Europe/Oslo:20190531T140309
URL;VALUE=URI:https://baumholder.armymwr.com/calendar/event
DTSTART;TZID=Europe/Oslo:20190212T150000
DTEND;TZID=Europe/Oslo:20190212T163000
SEQUENCE:3
END:VEVENT
BEGIN:VEVENT
UID:sabre-vobject-7c49c78f-cf50-43ca-8e37-95f936aaa5df
DTSTAMP:20260423T092653Z
SUMMARY:Smooth Moves Workshop
DESCRIPTION:Are you getting ready to PCS? Let ACS help you get ready for th
 e transition!\n
X-ALT-DESC:FMTTYPE=text/html:<!DOCTYPE HTML PUBLIC "-//W3C//DTD HTML 3.2//E
 N"><HTML><p>Are you getting ready to PCS? Let ACS help you get ready for t
 he transition!</p>\n</HTML>
CREATED;TZID=Europe/Oslo:20190531T140309
URL;VALUE=URI:https://baumholder.armymwr.com/calendar/event
DTSTART;TZID=Europe/Oslo:20190417T130000
DTEND;TZID=Europe/Oslo:20190417T140000
SEQUENCE:4
END:VEVENT
BEGIN:VEVENT
UID:sabre-vobject-ae137a86-3374-4079-8051-44d0707e6496
DTSTAMP:20260423T092653Z
SUMMARY:Smooth Moves Workshop
DESCRIPTION:Are you getting ready to PCS? Let ACS help you get ready for th
 e transition!\n
X-ALT-DESC:FMTTYPE=text/html:<!DOCTYPE HTML PUBLIC "-//W3C//DTD HTML 3.2//E
 N"><HTML><p>Are you getting ready to PCS? Let ACS help you get ready for t
 he transition!</p>\n</HTML>
CREATED;TZID=Europe/Oslo:20190531T140309
URL;VALUE=URI:https://baumholder.armymwr.com/calendar/event
DTSTART;TZID=Europe/Oslo:20190529T130000
DTEND;TZID=Europe/Oslo:20190529T143000
SEQUENCE:5
END:VEVENT
BEGIN:VEVENT
UID:sabre-vobject-96fa4c63-e2d6-4a95-92b6-f72ac94eafde
DTSTAMP:20260423T092653Z
SUMMARY:Smooth Moves Workshop
DESCRIPTION:Are you getting ready to PCS? Let ACS help you get ready for th
 e transition!\n
X-ALT-DESC:FMTTYPE=text/html:<!DOCTYPE HTML PUBLIC "-//W3C//DTD HTML 3.2//E
 N"><HTML><p>Are you getting ready to PCS? Let ACS help you get ready for t
 he transition!</p>\n</HTML>
CREATED;TZID=Europe/Oslo:20190531T140309
URL;VALUE=URI:https://baumholder.armymwr.com/calendar/event
DTSTART;TZID=Europe/Oslo:20190619T133000
DTEND;TZID=Europe/Oslo:20190619T150000
SEQUENCE:6
END:VEVENT
END:VCALENDAR
