BEGIN:VCALENDAR
VERSION:2.0
PRODID:-//Sabre//Sabre VObject 4.5.8//EN
CALSCALE:GREGORIAN
BEGIN:VEVENT
UID:sabre-vobject-d8c847f4-25fc-4291-bbde-7851f51ffb98
DTSTAMP:20260420T092845Z
SUMMARY:Parent and Child Art Night Out
DESCRIPTION:Get creative with your kids!\n
X-ALT-DESC:FMTTYPE=text/html:<!DOCTYPE HTML PUBLIC "-//W3C//DTD HTML 3.2//E
 N"><HTML><p>Get creative with your kids!</p>\n</HTML>
CREATED;TZID=Europe/Oslo:20190930T123126
URL;VALUE=URI:https://baumholder.armymwr.com/calendar/event
DTSTART;TZID=Europe/Oslo:20190322T183000
DTEND;TZID=Europe/Oslo:20190322T203000
SEQUENCE:0
END:VEVENT
BEGIN:VEVENT
UID:sabre-vobject-4cbf4605-e7c8-4347-a4fe-e82755d013fd
DTSTAMP:20260420T092845Z
SUMMARY:Parent and Child Art Night Out
DESCRIPTION:Get creative with your kids!\n
X-ALT-DESC:FMTTYPE=text/html:<!DOCTYPE HTML PUBLIC "-//W3C//DTD HTML 3.2//E
 N"><HTML><p>Get creative with your kids!</p>\n</HTML>
CREATED;TZID=Europe/Oslo:20190930T123126
URL;VALUE=URI:https://baumholder.armymwr.com/calendar/event
DTSTART;TZID=Europe/Oslo:20190426T183000
DTEND;TZID=Europe/Oslo:20190426T203000
SEQUENCE:1
END:VEVENT
BEGIN:VEVENT
UID:sabre-vobject-61cef9b7-8435-40bd-bde2-8120a5832a66
DTSTAMP:20260420T092845Z
SUMMARY:Parent and Child Art Night Out
DESCRIPTION:Get creative with your kids!\n
X-ALT-DESC:FMTTYPE=text/html:<!DOCTYPE HTML PUBLIC "-//W3C//DTD HTML 3.2//E
 N"><HTML><p>Get creative with your kids!</p>\n</HTML>
CREATED;TZID=Europe/Oslo:20190930T123126
URL;VALUE=URI:https://baumholder.armymwr.com/calendar/event
DTSTART;TZID=Europe/Oslo:20190524T183000
DTEND;TZID=Europe/Oslo:20190524T203000
SEQUENCE:2
END:VEVENT
BEGIN:VEVENT
UID:sabre-vobject-1bdc8aec-6362-4792-85f1-4cc3adc5853d
DTSTAMP:20260420T092845Z
SUMMARY:Parent and Child Art Night Out
DESCRIPTION:Get creative with your kids!\n
X-ALT-DESC:FMTTYPE=text/html:<!DOCTYPE HTML PUBLIC "-//W3C//DTD HTML 3.2//E
 N"><HTML><p>Get creative with your kids!</p>\n</HTML>
CREATED;TZID=Europe/Oslo:20190930T123126
URL;VALUE=URI:https://baumholder.armymwr.com/calendar/event
DTSTART;TZID=Europe/Oslo:20190628T183000
DTEND;TZID=Europe/Oslo:20190628T203000
SEQUENCE:3
END:VEVENT
BEGIN:VEVENT
UID:sabre-vobject-ebf3ea79-dcb8-4085-b8ac-acea0150ec1a
DTSTAMP:20260420T092845Z
SUMMARY:Parent and Child Art Night Out
DESCRIPTION:Get creative with your kids!\n
X-ALT-DESC:FMTTYPE=text/html:<!DOCTYPE HTML PUBLIC "-//W3C//DTD HTML 3.2//E
 N"><HTML><p>Get creative with your kids!</p>\n</HTML>
CREATED;TZID=Europe/Oslo:20190930T123126
URL;VALUE=URI:https://baumholder.armymwr.com/calendar/event
DTSTART;TZID=Europe/Oslo:20190726T183000
DTEND;TZID=Europe/Oslo:20190726T203000
SEQUENCE:4
END:VEVENT
BEGIN:VEVENT
UID:sabre-vobject-362144b8-c447-4c3d-a2b9-a9995b94be13
DTSTAMP:20260420T092845Z
SUMMARY:Parent and Child Art Night Out
DESCRIPTION:Get creative with your kids!\n
X-ALT-DESC:FMTTYPE=text/html:<!DOCTYPE HTML PUBLIC "-//W3C//DTD HTML 3.2//E
 N"><HTML><p>Get creative with your kids!</p>\n</HTML>
CREATED;TZID=Europe/Oslo:20190930T123126
URL;VALUE=URI:https://baumholder.armymwr.com/calendar/event
DTSTART;TZID=Europe/Oslo:20190823T183000
DTEND;TZID=Europe/Oslo:20190823T203000
SEQUENCE:5
END:VEVENT
END:VCALENDAR
