BEGIN:VCALENDAR
VERSION:2.0
PRODID:-//Sabre//Sabre VObject 4.5.8//EN
CALSCALE:GREGORIAN
BEGIN:VEVENT
UID:sabre-vobject-825dba50-9885-49ce-994e-3844213728d5
DTSTAMP:20260425T201714Z
SUMMARY:Baumholder Breastfeeding
DESCRIPTION:Join parents for breastfeeding support and education.\n
X-ALT-DESC:FMTTYPE=text/html:<!DOCTYPE HTML PUBLIC "-//W3C//DTD HTML 3.2//E
 N"><HTML><p>Join parents for breastfeeding support and education.</p>\n</H
 TML>
CREATED;TZID=Europe/Oslo:20190619T083103
URL;VALUE=URI:https://baumholder.armymwr.com/calendar/event
DTSTART;TZID=Europe/Oslo:20180912T110000
DTEND;TZID=Europe/Oslo:20180912T120000
SEQUENCE:0
END:VEVENT
BEGIN:VEVENT
UID:sabre-vobject-eeb9671d-96f4-49fc-a15f-d4207abbb65a
DTSTAMP:20260425T201714Z
SUMMARY:Baumholder Breastfeeding
DESCRIPTION:Join parents for breastfeeding support and education.\n
X-ALT-DESC:FMTTYPE=text/html:<!DOCTYPE HTML PUBLIC "-//W3C//DTD HTML 3.2//E
 N"><HTML><p>Join parents for breastfeeding support and education.</p>\n</H
 TML>
CREATED;TZID=Europe/Oslo:20190619T083103
URL;VALUE=URI:https://baumholder.armymwr.com/calendar/event
DTSTART;TZID=Europe/Oslo:20180926T110000
DTEND;TZID=Europe/Oslo:20180926T120000
SEQUENCE:1
END:VEVENT
BEGIN:VEVENT
UID:sabre-vobject-4f60eff8-7544-40c0-af32-fa328cc6feae
DTSTAMP:20260425T201714Z
SUMMARY:Baumholder Breastfeeding
DESCRIPTION:Join parents for breastfeeding support and education.\n
X-ALT-DESC:FMTTYPE=text/html:<!DOCTYPE HTML PUBLIC "-//W3C//DTD HTML 3.2//E
 N"><HTML><p>Join parents for breastfeeding support and education.</p>\n</H
 TML>
CREATED;TZID=Europe/Oslo:20190619T083103
URL;VALUE=URI:https://baumholder.armymwr.com/calendar/event
DTSTART;TZID=Europe/Oslo:20181010T110000
DTEND;TZID=Europe/Oslo:20181010T120000
SEQUENCE:2
END:VEVENT
BEGIN:VEVENT
UID:sabre-vobject-f2e7c342-0d44-4507-837d-90c220164097
DTSTAMP:20260425T201714Z
SUMMARY:Baumholder Breastfeeding
DESCRIPTION:Join parents for breastfeeding support and education.\n
X-ALT-DESC:FMTTYPE=text/html:<!DOCTYPE HTML PUBLIC "-//W3C//DTD HTML 3.2//E
 N"><HTML><p>Join parents for breastfeeding support and education.</p>\n</H
 TML>
CREATED;TZID=Europe/Oslo:20190619T083103
URL;VALUE=URI:https://baumholder.armymwr.com/calendar/event
DTSTART;TZID=Europe/Oslo:20190109T110000
DTEND;TZID=Europe/Oslo:20190109T120000
SEQUENCE:3
END:VEVENT
BEGIN:VEVENT
UID:sabre-vobject-b5582abf-e8e1-4868-a02a-133f1f22c7a5
DTSTAMP:20260425T201714Z
SUMMARY:Baumholder Breastfeeding
DESCRIPTION:Join parents for breastfeeding support and education.\n
X-ALT-DESC:FMTTYPE=text/html:<!DOCTYPE HTML PUBLIC "-//W3C//DTD HTML 3.2//E
 N"><HTML><p>Join parents for breastfeeding support and education.</p>\n</H
 TML>
CREATED;TZID=Europe/Oslo:20190619T083103
URL;VALUE=URI:https://baumholder.armymwr.com/calendar/event
DTSTART;TZID=Europe/Oslo:20190123T110000
DTEND;TZID=Europe/Oslo:20190123T120000
SEQUENCE:4
END:VEVENT
BEGIN:VEVENT
UID:sabre-vobject-b4c4516d-5b65-48d6-9328-f1ba4a1debd3
DTSTAMP:20260425T201714Z
SUMMARY:Baumholder Breastfeeding
DESCRIPTION:Join parents for breastfeeding support and education.\n
X-ALT-DESC:FMTTYPE=text/html:<!DOCTYPE HTML PUBLIC "-//W3C//DTD HTML 3.2//E
 N"><HTML><p>Join parents for breastfeeding support and education.</p>\n</H
 TML>
CREATED;TZID=Europe/Oslo:20190619T083103
URL;VALUE=URI:https://baumholder.armymwr.com/calendar/event
DTSTART;TZID=Europe/Oslo:20190213T110000
DTEND;TZID=Europe/Oslo:20190213T120000
SEQUENCE:5
END:VEVENT
BEGIN:VEVENT
UID:sabre-vobject-61fe4911-a6f5-4b24-9856-6aa13de60cb5
DTSTAMP:20260425T201714Z
SUMMARY:Baumholder Breastfeeding
DESCRIPTION:Join parents for breastfeeding support and education.\n
X-ALT-DESC:FMTTYPE=text/html:<!DOCTYPE HTML PUBLIC "-//W3C//DTD HTML 3.2//E
 N"><HTML><p>Join parents for breastfeeding support and education.</p>\n</H
 TML>
CREATED;TZID=Europe/Oslo:20190619T083103
URL;VALUE=URI:https://baumholder.armymwr.com/calendar/event
DTSTART;TZID=Europe/Oslo:20190227T110000
DTEND;TZID=Europe/Oslo:20190227T120000
SEQUENCE:6
END:VEVENT
BEGIN:VEVENT
UID:sabre-vobject-491b1965-38a8-4282-9302-8e52698d4e25
DTSTAMP:20260425T201714Z
SUMMARY:Baumholder Breastfeeding
DESCRIPTION:Join parents for breastfeeding support and education.\n
X-ALT-DESC:FMTTYPE=text/html:<!DOCTYPE HTML PUBLIC "-//W3C//DTD HTML 3.2//E
 N"><HTML><p>Join parents for breastfeeding support and education.</p>\n</H
 TML>
CREATED;TZID=Europe/Oslo:20190619T083103
URL;VALUE=URI:https://baumholder.armymwr.com/calendar/event
DTSTART;TZID=Europe/Oslo:20190313T110000
DTEND;TZID=Europe/Oslo:20190313T120000
SEQUENCE:7
END:VEVENT
BEGIN:VEVENT
UID:sabre-vobject-b63d007d-c7e8-4ce2-bf00-8c416100fe06
DTSTAMP:20260425T201714Z
SUMMARY:Baumholder Breastfeeding
DESCRIPTION:Join parents for breastfeeding support and education.\n
X-ALT-DESC:FMTTYPE=text/html:<!DOCTYPE HTML PUBLIC "-//W3C//DTD HTML 3.2//E
 N"><HTML><p>Join parents for breastfeeding support and education.</p>\n</H
 TML>
CREATED;TZID=Europe/Oslo:20190619T083103
URL;VALUE=URI:https://baumholder.armymwr.com/calendar/event
DTSTART;TZID=Europe/Oslo:20190327T110000
DTEND;TZID=Europe/Oslo:20190327T120000
SEQUENCE:8
END:VEVENT
BEGIN:VEVENT
UID:sabre-vobject-bdedeba6-758f-4e97-a203-702ffa8995f4
DTSTAMP:20260425T201714Z
SUMMARY:Baumholder Breastfeeding
DESCRIPTION:Join parents for breastfeeding support and education.\n
X-ALT-DESC:FMTTYPE=text/html:<!DOCTYPE HTML PUBLIC "-//W3C//DTD HTML 3.2//E
 N"><HTML><p>Join parents for breastfeeding support and education.</p>\n</H
 TML>
CREATED;TZID=Europe/Oslo:20190619T083103
URL;VALUE=URI:https://baumholder.armymwr.com/calendar/event
DTSTART;TZID=Europe/Oslo:20190410T110000
DTEND;TZID=Europe/Oslo:20190410T120000
SEQUENCE:9
END:VEVENT
BEGIN:VEVENT
UID:sabre-vobject-638c0fe7-2712-460f-943a-89d0127fadb7
DTSTAMP:20260425T201714Z
SUMMARY:Baumholder Breastfeeding
DESCRIPTION:Join parents for breastfeeding support and education.\n
X-ALT-DESC:FMTTYPE=text/html:<!DOCTYPE HTML PUBLIC "-//W3C//DTD HTML 3.2//E
 N"><HTML><p>Join parents for breastfeeding support and education.</p>\n</H
 TML>
CREATED;TZID=Europe/Oslo:20190619T083103
URL;VALUE=URI:https://baumholder.armymwr.com/calendar/event
DTSTART;TZID=Europe/Oslo:20190424T110000
DTEND;TZID=Europe/Oslo:20190424T120000
SEQUENCE:10
END:VEVENT
END:VCALENDAR
