BEGIN:VCALENDAR
VERSION:2.0
PRODID:-//Sabre//Sabre VObject 4.5.8//EN
CALSCALE:GREGORIAN
BEGIN:VEVENT
UID:sabre-vobject-224cb09a-8c6b-4182-9e70-36fe8830aeba
DTSTAMP:20260424T202229Z
SUMMARY:Matri-Money Financial Workshop
DESCRIPTION:Learn tips and tricks to talk money and plan for the future tog
 ether.\n
X-ALT-DESC:FMTTYPE=text/html:<!DOCTYPE HTML PUBLIC "-//W3C//DTD HTML 3.2//E
 N"><HTML><p>Learn tips and tricks to talk money and plan for the future to
 gether.</p>\n</HTML>
CREATED;TZID=Europe/Oslo:20190422T133537
URL;VALUE=URI:https://baumholder.armymwr.com/calendar/event
DTSTART;TZID=Europe/Oslo:20181017T140000
DTEND;TZID=Europe/Oslo:20181017T153000
SEQUENCE:0
END:VEVENT
BEGIN:VEVENT
UID:sabre-vobject-e094894a-e149-4583-8cb7-2126ef533aa9
DTSTAMP:20260424T202229Z
SUMMARY:Matri-Money Financial Workshop
DESCRIPTION:Learn tips and tricks to talk money and plan for the future tog
 ether.\n
X-ALT-DESC:FMTTYPE=text/html:<!DOCTYPE HTML PUBLIC "-//W3C//DTD HTML 3.2//E
 N"><HTML><p>Learn tips and tricks to talk money and plan for the future to
 gether.</p>\n</HTML>
CREATED;TZID=Europe/Oslo:20190422T133537
URL;VALUE=URI:https://baumholder.armymwr.com/calendar/event
DTSTART;TZID=Europe/Oslo:20181128T140000
DTEND;TZID=Europe/Oslo:20181128T153000
SEQUENCE:1
END:VEVENT
BEGIN:VEVENT
UID:sabre-vobject-d5675401-6edc-4d33-8374-03de1601be29
DTSTAMP:20260424T202229Z
SUMMARY:Matri-Money Financial Workshop
DESCRIPTION:Learn tips and tricks to talk money and plan for the future tog
 ether.\n
X-ALT-DESC:FMTTYPE=text/html:<!DOCTYPE HTML PUBLIC "-//W3C//DTD HTML 3.2//E
 N"><HTML><p>Learn tips and tricks to talk money and plan for the future to
 gether.</p>\n</HTML>
CREATED;TZID=Europe/Oslo:20190422T133537
URL;VALUE=URI:https://baumholder.armymwr.com/calendar/event
DTSTART;TZID=Europe/Oslo:20190211T140000
DTEND;TZID=Europe/Oslo:20190211T153000
SEQUENCE:2
END:VEVENT
BEGIN:VEVENT
UID:sabre-vobject-6c6e8a16-862e-4117-9222-f5a52e01691c
DTSTAMP:20260424T202229Z
SUMMARY:Matri-Money Financial Workshop
DESCRIPTION:Learn tips and tricks to talk money and plan for the future tog
 ether.\n
X-ALT-DESC:FMTTYPE=text/html:<!DOCTYPE HTML PUBLIC "-//W3C//DTD HTML 3.2//E
 N"><HTML><p>Learn tips and tricks to talk money and plan for the future to
 gether.</p>\n</HTML>
CREATED;TZID=Europe/Oslo:20190422T133537
URL;VALUE=URI:https://baumholder.armymwr.com/calendar/event
DTSTART;TZID=Europe/Oslo:20190306T140000
DTEND;TZID=Europe/Oslo:20190306T153000
SEQUENCE:3
END:VEVENT
BEGIN:VEVENT
UID:sabre-vobject-c9e5f135-3814-4833-a3f4-3aa7474bb7f9
DTSTAMP:20260424T202229Z
SUMMARY:Matri-Money Financial Workshop
DESCRIPTION:Learn tips and tricks to talk money and plan for the future tog
 ether.\n
X-ALT-DESC:FMTTYPE=text/html:<!DOCTYPE HTML PUBLIC "-//W3C//DTD HTML 3.2//E
 N"><HTML><p>Learn tips and tricks to talk money and plan for the future to
 gether.</p>\n</HTML>
CREATED;TZID=Europe/Oslo:20190422T133537
URL;VALUE=URI:https://baumholder.armymwr.com/calendar/event
DTSTART;TZID=Europe/Oslo:20190424T140000
DTEND;TZID=Europe/Oslo:20190424T153000
SEQUENCE:4
END:VEVENT
BEGIN:VEVENT
UID:sabre-vobject-cb0ca835-fe07-4a31-b95d-36c95be18616
DTSTAMP:20260424T202229Z
SUMMARY:Matri-Money Financial Workshop
DESCRIPTION:Learn tips and tricks to talk money and plan for the future tog
 ether.\n
X-ALT-DESC:FMTTYPE=text/html:<!DOCTYPE HTML PUBLIC "-//W3C//DTD HTML 3.2//E
 N"><HTML><p>Learn tips and tricks to talk money and plan for the future to
 gether.</p>\n</HTML>
CREATED;TZID=Europe/Oslo:20190422T133537
URL;VALUE=URI:https://baumholder.armymwr.com/calendar/event
DTSTART;TZID=Europe/Oslo:20190508T140000
DTEND;TZID=Europe/Oslo:20190508T153000
SEQUENCE:5
END:VEVENT
END:VCALENDAR
