BEGIN:VCALENDAR
VERSION:2.0
PRODID:-//Sabre//Sabre VObject 4.5.8//EN
CALSCALE:GREGORIAN
BEGIN:VEVENT
UID:sabre-vobject-8572d766-4d70-4e14-ab1d-69e2fce44516
DTSTAMP:20260425T201709Z
SUMMARY:Paris Express
DESCRIPTION:
X-ALT-DESC:FMTTYPE=text/html:<!DOCTYPE HTML PUBLIC "-//W3C//DTD HTML 3.2//E
 N"><HTML></HTML>
CREATED;TZID=Europe/Oslo:20190316T160617
URL;VALUE=URI:https://baumholder.armymwr.com/calendar/event
DTSTART;TZID=Europe/Oslo:20190504T030000
DTEND;TZID=Europe/Oslo:20190505T020000
SEQUENCE:0
END:VEVENT
END:VCALENDAR
