BEGIN:VCALENDAR
VERSION:2.0
PRODID:-//Sabre//Sabre VObject 4.5.8//EN
CALSCALE:GREGORIAN
BEGIN:VEVENT
UID:sabre-vobject-e63a5976-c9de-4f4a-a3f0-85562a5b57d8
DTSTAMP:20260425T035449Z
SUMMARY:Poland Reh Safari
DESCRIPTION:
X-ALT-DESC:FMTTYPE=text/html:<!DOCTYPE HTML PUBLIC "-//W3C//DTD HTML 3.2//E
 N"><HTML></HTML>
CREATED;TZID=Europe/Oslo:20190316T161335
URL;VALUE=URI:https://baumholder.armymwr.com/calendar/event
DTSTART;TZID=Europe/Oslo:20190510T040000
DTEND;TZID=Europe/Oslo:20190513T190000
SEQUENCE:0
END:VEVENT
END:VCALENDAR
