BEGIN:VCALENDAR
VERSION:2.0
PRODID:-//Sabre//Sabre VObject 4.5.8//EN
CALSCALE:GREGORIAN
BEGIN:VEVENT
UID:sabre-vobject-c413241e-f05e-4358-9e4f-da539f59dae3
DTSTAMP:20260424T202228Z
SUMMARY:Stuttgart Zoo and Chocolate Factory
DESCRIPTION:
X-ALT-DESC:FMTTYPE=text/html:<!DOCTYPE HTML PUBLIC "-//W3C//DTD HTML 3.2//E
 N"><HTML></HTML>
CREATED;TZID=Europe/Oslo:20190316T162615
URL;VALUE=URI:https://baumholder.armymwr.com/calendar/event
DTSTART;TZID=Europe/Oslo:20190518T060000
DTEND;TZID=Europe/Oslo:20190518T220000
SEQUENCE:0
END:VEVENT
END:VCALENDAR
