BEGIN:VCALENDAR
VERSION:2.0
PRODID:-//Sabre//Sabre VObject 4.5.8//EN
CALSCALE:GREGORIAN
BEGIN:VEVENT
UID:sabre-vobject-31ac0379-088a-4b8d-afe0-4035204b7fc0
DTSTAMP:20260423T092652Z
SUMMARY:Disneyland Express
DESCRIPTION:
X-ALT-DESC:FMTTYPE=text/html:<!DOCTYPE HTML PUBLIC "-//W3C//DTD HTML 3.2//E
 N"><HTML></HTML>
CREATED;TZID=Europe/Oslo:20190316T171836
URL;VALUE=URI:https://baumholder.armymwr.com/calendar/event
DTSTART;TZID=Europe/Oslo:20190622T024500
DTEND;TZID=Europe/Oslo:20190623T040000
SEQUENCE:0
END:VEVENT
END:VCALENDAR
