BEGIN:VCALENDAR
VERSION:2.0
PRODID:-//Sabre//Sabre VObject 4.5.8//EN
CALSCALE:GREGORIAN
BEGIN:VEVENT
UID:sabre-vobject-09107ea1-8d49-4b4a-b71f-7bec7ad7e79b
DTSTAMP:20260423T020225Z
SUMMARY:Ruwer Train Trail and Mosel River Overnight Bike Ride
DESCRIPTION:
X-ALT-DESC:FMTTYPE=text/html:<!DOCTYPE HTML PUBLIC "-//W3C//DTD HTML 3.2//E
 N"><HTML></HTML>
CREATED;TZID=Europe/Oslo:20190316T172350
URL;VALUE=URI:https://baumholder.armymwr.com/calendar/event
DTSTART;TZID=Europe/Oslo:20190629T070000
DTEND;TZID=Europe/Oslo:20190630T180000
SEQUENCE:0
END:VEVENT
END:VCALENDAR
