BEGIN:VCALENDAR
VERSION:2.0
PRODID:-//Sabre//Sabre VObject 4.5.8//EN
CALSCALE:GREGORIAN
BEGIN:VEVENT
UID:sabre-vobject-a8398fce-40e4-46e7-a89a-17136971c7c9
DTSTAMP:20260422T140952Z
SUMMARY:Swiss Chocolate Train
DESCRIPTION:
X-ALT-DESC:FMTTYPE=text/html:<!DOCTYPE HTML PUBLIC "-//W3C//DTD HTML 3.2//E
 N"><HTML></HTML>
CREATED;TZID=Europe/Oslo:20190624T140731
URL;VALUE=URI:https://baumholder.armymwr.com/calendar/event
DTSTART;TZID=Europe/Oslo:20190712T234500
DTEND;TZID=Europe/Oslo:20190714T010000
SEQUENCE:0
END:VEVENT
END:VCALENDAR
