BEGIN:VCALENDAR
VERSION:2.0
PRODID:-//Sabre//Sabre VObject 4.5.8//EN
CALSCALE:GREGORIAN
BEGIN:VEVENT
UID:sabre-vobject-5e1920aa-0e81-45da-85c8-ddcc724e0c0e
DTSTAMP:20260423T150428Z
SUMMARY:Asperger’s Are Us
DESCRIPTION:&nbsp\;Come out and enjoy the Asperger&rsquo\;s Are Us comedy s
 how! The world&rsquo\;s first comedy troupe made entirely of people with A
 utism.\n
X-ALT-DESC:FMTTYPE=text/html:<!DOCTYPE HTML PUBLIC "-//W3C//DTD HTML 3.2//E
 N"><HTML><p>&nbsp\;Come out and enjoy the Asperger&rsquo\;s Are Us comedy 
 show! The world&rsquo\;s first comedy troupe made entirely of people with 
 Autism.</p>\n</HTML>
CREATED;TZID=Europe/Oslo:20190506T142109
URL;VALUE=URI:https://baumholder.armymwr.com/calendar/event
DTSTART;TZID=Europe/Oslo:20190606T183000
DTEND;TZID=Europe/Oslo:20190606T193000
SEQUENCE:0
END:VEVENT
END:VCALENDAR
