BEGIN:VCALENDAR
VERSION:2.0
PRODID:-//Sabre//Sabre VObject 4.5.8//EN
CALSCALE:GREGORIAN
BEGIN:VEVENT
UID:sabre-vobject-7590a0bd-dffd-4d55-ab7f-b175b200c471
DTSTAMP:20260422T201911Z
SUMMARY:Independence Day on the Rock
DESCRIPTION:Don&#39\;let being overseas stop you from the traditions\, fun 
 and memories of the 4th of July!\n
X-ALT-DESC:FMTTYPE=text/html:<!DOCTYPE HTML PUBLIC "-//W3C//DTD HTML 3.2//E
 N"><HTML><p>Don&#39\;let being overseas stop you from the traditions\, fun
  and memories of the 4th of July!</p>\n</HTML>
CREATED;TZID=Europe/Oslo:20190701T103327
URL;VALUE=URI:https://baumholder.armymwr.com/calendar/event
DTSTART;TZID=Europe/Oslo:20190704T160000
DTEND;TZID=Europe/Oslo:20190704T230000
SEQUENCE:0
END:VEVENT
END:VCALENDAR
