BEGIN:VCALENDAR
VERSION:2.0
PRODID:-//Sabre//Sabre VObject 4.5.8//EN
CALSCALE:GREGORIAN
BEGIN:VEVENT
UID:sabre-vobject-b8e5870d-7bdf-48e6-bca4-d16619c4c6c4
DTSTAMP:20260422T105723Z
SUMMARY:Nifty Twisty Ballon Art Class
DESCRIPTION:Learn the basics of balloon sculpting at the Art &amp\; Crafts 
 Center&nbsp\;in a fun and interactive class.\n
X-ALT-DESC:FMTTYPE=text/html:<!DOCTYPE HTML PUBLIC "-//W3C//DTD HTML 3.2//E
 N"><HTML><p>Learn the basics of balloon sculpting at the Art &amp\; Crafts
  Center&nbsp\;in a fun and interactive class.</p>\n</HTML>
CREATED;TZID=Europe/Oslo:20190603T155555
URL;VALUE=URI:https://baumholder.armymwr.com/calendar/event
DTSTART;TZID=Europe/Oslo:20190712T183000
DTEND;TZID=Europe/Oslo:20190712T203000
SEQUENCE:0
END:VEVENT
END:VCALENDAR
