BEGIN:VCALENDAR
VERSION:2.0
PRODID:-//Sabre//Sabre VObject 4.5.8//EN
CALSCALE:GREGORIAN
BEGIN:VEVENT
UID:sabre-vobject-0447a78a-01d3-4188-992c-3167336fc167
DTSTAMP:20260419T220901Z
SUMMARY:Interview Techniques & Salary Negotiations (SFL-TAP) 
DESCRIPTION:The key to success in any interview is preparation. Join us and
  learn how to prepare for\, execute\, and follow-up on an interview.\n
X-ALT-DESC:FMTTYPE=text/html:<!DOCTYPE HTML PUBLIC "-//W3C//DTD HTML 3.2//E
 N"><HTML><p>The key to success in any interview is preparation. Join us an
 d learn how to prepare for\, execute\, and follow-up on an interview.</p>\
 n</HTML>
CREATED;TZID=Europe/Oslo:20190724T112331
URL;VALUE=URI:https://baumholder.armymwr.com/calendar/event
DTSTART;TZID=Europe/Oslo:20190828T103000
DTEND;TZID=Europe/Oslo:20190828T113000
SEQUENCE:0
END:VEVENT
END:VCALENDAR
