BEGIN:VCALENDAR
VERSION:2.0
PRODID:-//Sabre//Sabre VObject 4.5.8//EN
CALSCALE:GREGORIAN
BEGIN:VEVENT
UID:sabre-vobject-b2a21848-e5b2-4ced-8201-6fffb4ddc63a
DTSTAMP:20260419T220906Z
SUMMARY:Dress for Success (SFL-TAP) 
DESCRIPTION:An interviewer&#39\;s first impression of you is a lasting one\
 , so make sure you&#39\;re dressed to impress!\n
X-ALT-DESC:FMTTYPE=text/html:<!DOCTYPE HTML PUBLIC "-//W3C//DTD HTML 3.2//E
 N"><HTML><p>An interviewer&#39\;s first impression of you is a lasting one
 \, so make sure you&#39\;re dressed to impress!</p>\n</HTML>
CREATED;TZID=Europe/Oslo:20190724T112428
URL;VALUE=URI:https://baumholder.armymwr.com/calendar/event
DTSTART;TZID=Europe/Oslo:20190828T113000
DTEND;TZID=Europe/Oslo:20190828T123000
SEQUENCE:0
END:VEVENT
END:VCALENDAR
