BEGIN:VCALENDAR
VERSION:2.0
PRODID:-//Sabre//Sabre VObject 4.5.8//EN
CALSCALE:GREGORIAN
BEGIN:VEVENT
UID:sabre-vobject-3f4c0c9b-480a-4724-9c60-cb79c2be34c7
DTSTAMP:20260424T164006Z
SUMMARY:Foreign National Military Spouse Employment - HYBRID
DESCRIPTION:Are you a Foreign Military Spouse looking for a job? Join us!\n
X-ALT-DESC:FMTTYPE=text/html:<!DOCTYPE HTML PUBLIC "-//W3C//DTD HTML 3.2//E
 N"><HTML><p>Are you a Foreign Military Spouse looking for a job? Join us!<
 /p>\n</HTML>
CREATED;TZID=Europe/Oslo:20231002T114140
URL;VALUE=URI:https://baumholder.armymwr.com/calendar/event
DTSTART;TZID=Europe/Oslo:20220607T093000
DTEND;TZID=Europe/Oslo:20220607T113000
SEQUENCE:0
END:VEVENT
BEGIN:VEVENT
UID:sabre-vobject-d09a8da9-a778-4691-8f8c-b06757ed30a9
DTSTAMP:20260424T164006Z
SUMMARY:Foreign National Military Spouse Employment - HYBRID
DESCRIPTION:Are you a Foreign Military Spouse looking for a job? Join us!\n
X-ALT-DESC:FMTTYPE=text/html:<!DOCTYPE HTML PUBLIC "-//W3C//DTD HTML 3.2//E
 N"><HTML><p>Are you a Foreign Military Spouse looking for a job? Join us!<
 /p>\n</HTML>
CREATED;TZID=Europe/Oslo:20231002T114140
URL;VALUE=URI:https://baumholder.armymwr.com/calendar/event
DTSTART;TZID=Europe/Oslo:20220802T093000
DTEND;TZID=Europe/Oslo:20220802T113000
SEQUENCE:1
END:VEVENT
BEGIN:VEVENT
UID:sabre-vobject-d8d806e6-09c3-4195-8db7-23c731aec5b5
DTSTAMP:20260424T164006Z
SUMMARY:Foreign National Military Spouse Employment - HYBRID
DESCRIPTION:Are you a Foreign Military Spouse looking for a job? Join us!\n
X-ALT-DESC:FMTTYPE=text/html:<!DOCTYPE HTML PUBLIC "-//W3C//DTD HTML 3.2//E
 N"><HTML><p>Are you a Foreign Military Spouse looking for a job? Join us!<
 /p>\n</HTML>
CREATED;TZID=Europe/Oslo:20231002T114140
URL;VALUE=URI:https://baumholder.armymwr.com/calendar/event
DTSTART;TZID=Europe/Oslo:20221025T093000
DTEND;TZID=Europe/Oslo:20221025T113000
SEQUENCE:2
END:VEVENT
BEGIN:VEVENT
UID:sabre-vobject-b5b04b01-990e-45e3-9111-3f3166db1b9f
DTSTAMP:20260424T164006Z
SUMMARY:Foreign National Military Spouse Employment - HYBRID
DESCRIPTION:Are you a Foreign Military Spouse looking for a job? Join us!\n
X-ALT-DESC:FMTTYPE=text/html:<!DOCTYPE HTML PUBLIC "-//W3C//DTD HTML 3.2//E
 N"><HTML><p>Are you a Foreign Military Spouse looking for a job? Join us!<
 /p>\n</HTML>
CREATED;TZID=Europe/Oslo:20231002T114140
URL;VALUE=URI:https://baumholder.armymwr.com/calendar/event
DTSTART;TZID=Europe/Oslo:20221129T093000
DTEND;TZID=Europe/Oslo:20221129T113000
SEQUENCE:3
END:VEVENT
BEGIN:VEVENT
UID:sabre-vobject-1f236a9f-afc9-4770-9ab8-73084a429e63
DTSTAMP:20260424T164006Z
SUMMARY:Foreign National Military Spouse Employment - HYBRID
DESCRIPTION:Are you a Foreign Military Spouse looking for a job? Join us!\n
X-ALT-DESC:FMTTYPE=text/html:<!DOCTYPE HTML PUBLIC "-//W3C//DTD HTML 3.2//E
 N"><HTML><p>Are you a Foreign Military Spouse looking for a job? Join us!<
 /p>\n</HTML>
CREATED;TZID=Europe/Oslo:20231002T114140
URL;VALUE=URI:https://baumholder.armymwr.com/calendar/event
DTSTART;TZID=Europe/Oslo:20230131T093000
DTEND;TZID=Europe/Oslo:20230131T113000
SEQUENCE:4
END:VEVENT
BEGIN:VEVENT
UID:sabre-vobject-faca1e38-b3fb-483f-8584-395f84ae429b
DTSTAMP:20260424T164006Z
SUMMARY:Foreign National Military Spouse Employment - HYBRID
DESCRIPTION:Are you a Foreign Military Spouse looking for a job? Join us!\n
X-ALT-DESC:FMTTYPE=text/html:<!DOCTYPE HTML PUBLIC "-//W3C//DTD HTML 3.2//E
 N"><HTML><p>Are you a Foreign Military Spouse looking for a job? Join us!<
 /p>\n</HTML>
CREATED;TZID=Europe/Oslo:20231002T114140
URL;VALUE=URI:https://baumholder.armymwr.com/calendar/event
DTSTART;TZID=Europe/Oslo:20230328T093000
DTEND;TZID=Europe/Oslo:20230328T113000
SEQUENCE:5
END:VEVENT
BEGIN:VEVENT
UID:sabre-vobject-a57ce09e-031b-46cc-a25c-65f0a0de1cf9
DTSTAMP:20260424T164006Z
SUMMARY:Foreign National Military Spouse Employment - HYBRID
DESCRIPTION:Are you a Foreign Military Spouse looking for a job? Join us!\n
X-ALT-DESC:FMTTYPE=text/html:<!DOCTYPE HTML PUBLIC "-//W3C//DTD HTML 3.2//E
 N"><HTML><p>Are you a Foreign Military Spouse looking for a job? Join us!<
 /p>\n</HTML>
CREATED;TZID=Europe/Oslo:20231002T114140
URL;VALUE=URI:https://baumholder.armymwr.com/calendar/event
DTSTART;TZID=Europe/Oslo:20230425T093000
DTEND;TZID=Europe/Oslo:20230425T113000
SEQUENCE:6
END:VEVENT
BEGIN:VEVENT
UID:sabre-vobject-83337076-0a9f-4509-8507-b2ccee058be5
DTSTAMP:20260424T164006Z
SUMMARY:Foreign National Military Spouse Employment - HYBRID
DESCRIPTION:Are you a Foreign Military Spouse looking for a job? Join us!\n
X-ALT-DESC:FMTTYPE=text/html:<!DOCTYPE HTML PUBLIC "-//W3C//DTD HTML 3.2//E
 N"><HTML><p>Are you a Foreign Military Spouse looking for a job? Join us!<
 /p>\n</HTML>
CREATED;TZID=Europe/Oslo:20231002T114140
URL;VALUE=URI:https://baumholder.armymwr.com/calendar/event
DTSTART;TZID=Europe/Oslo:20230530T093000
DTEND;TZID=Europe/Oslo:20230530T113000
SEQUENCE:7
END:VEVENT
BEGIN:VEVENT
UID:sabre-vobject-69a93838-23ab-4827-8621-226db56ba6af
DTSTAMP:20260424T164006Z
SUMMARY:Foreign National Military Spouse Employment - HYBRID
DESCRIPTION:Are you a Foreign Military Spouse looking for a job? Join us!\n
X-ALT-DESC:FMTTYPE=text/html:<!DOCTYPE HTML PUBLIC "-//W3C//DTD HTML 3.2//E
 N"><HTML><p>Are you a Foreign Military Spouse looking for a job? Join us!<
 /p>\n</HTML>
CREATED;TZID=Europe/Oslo:20231002T114140
URL;VALUE=URI:https://baumholder.armymwr.com/calendar/event
DTSTART;TZID=Europe/Oslo:20230829T093000
DTEND;TZID=Europe/Oslo:20230829T110000
SEQUENCE:8
END:VEVENT
BEGIN:VEVENT
UID:sabre-vobject-64ec03db-91b6-4bb1-84eb-ec5a9311805a
DTSTAMP:20260424T164006Z
SUMMARY:Foreign National Military Spouse Employment - HYBRID
DESCRIPTION:Are you a Foreign Military Spouse looking for a job? Join us!\n
X-ALT-DESC:FMTTYPE=text/html:<!DOCTYPE HTML PUBLIC "-//W3C//DTD HTML 3.2//E
 N"><HTML><p>Are you a Foreign Military Spouse looking for a job? Join us!<
 /p>\n</HTML>
CREATED;TZID=Europe/Oslo:20231002T114140
URL;VALUE=URI:https://baumholder.armymwr.com/calendar/event
DTSTART;TZID=Europe/Oslo:20231024T093000
DTEND;TZID=Europe/Oslo:20231024T110000
SEQUENCE:9
END:VEVENT
END:VCALENDAR
