BEGIN:VCALENDAR
VERSION:2.0
PRODID:-//Sabre//Sabre VObject 4.5.8//EN
CALSCALE:GREGORIAN
BEGIN:VEVENT
UID:sabre-vobject-4e2e96e5-6911-486c-a427-e36f9dd5a01a
DTSTAMP:20260421T015730Z
SUMMARY:Stress & Anger Management Class
DESCRIPTION:Take hold&nbsp\;of your temper with Army Community Service (ACS
 ) and join this informative class on how to understand and control stress 
 and anger.\n
X-ALT-DESC:FMTTYPE=text/html:<!DOCTYPE HTML PUBLIC "-//W3C//DTD HTML 3.2//E
 N"><HTML><p>Take hold&nbsp\;of your temper with Army Community Service (AC
 S) and join this informative class on how to understand and control stress
  and anger.</p>\n</HTML>
CREATED;TZID=Europe/Oslo:20231017T141452
URL;VALUE=URI:https://baumholder.armymwr.com/calendar/event
DTSTART;TZID=Europe/Oslo:20220607T113000
DTEND;TZID=Europe/Oslo:20220607T123000
SEQUENCE:0
END:VEVENT
BEGIN:VEVENT
UID:sabre-vobject-72dbef57-2049-4c2a-8149-887fdde3dd34
DTSTAMP:20260421T015730Z
SUMMARY:Stress & Anger Management Class
DESCRIPTION:Take hold&nbsp\;of your temper with Army Community Service (ACS
 ) and join this informative class on how to understand and control stress 
 and anger.\n
X-ALT-DESC:FMTTYPE=text/html:<!DOCTYPE HTML PUBLIC "-//W3C//DTD HTML 3.2//E
 N"><HTML><p>Take hold&nbsp\;of your temper with Army Community Service (AC
 S) and join this informative class on how to understand and control stress
  and anger.</p>\n</HTML>
CREATED;TZID=Europe/Oslo:20231017T141452
URL;VALUE=URI:https://baumholder.armymwr.com/calendar/event
DTSTART;TZID=Europe/Oslo:20220705T113000
DTEND;TZID=Europe/Oslo:20220705T123000
SEQUENCE:1
END:VEVENT
BEGIN:VEVENT
UID:sabre-vobject-3674537f-7f27-4166-8d7a-a3effabdd3bb
DTSTAMP:20260421T015730Z
SUMMARY:Stress & Anger Management Class
DESCRIPTION:Take hold&nbsp\;of your temper with Army Community Service (ACS
 ) and join this informative class on how to understand and control stress 
 and anger.\n
X-ALT-DESC:FMTTYPE=text/html:<!DOCTYPE HTML PUBLIC "-//W3C//DTD HTML 3.2//E
 N"><HTML><p>Take hold&nbsp\;of your temper with Army Community Service (AC
 S) and join this informative class on how to understand and control stress
  and anger.</p>\n</HTML>
CREATED;TZID=Europe/Oslo:20231017T141452
URL;VALUE=URI:https://baumholder.armymwr.com/calendar/event
DTSTART;TZID=Europe/Oslo:20220802T233000
DTEND;TZID=Europe/Oslo:20220803T003000
SEQUENCE:2
END:VEVENT
BEGIN:VEVENT
UID:sabre-vobject-68cdc2bd-ceda-4ac3-986b-7de74b705e1e
DTSTAMP:20260421T015730Z
SUMMARY:Stress & Anger Management Class
DESCRIPTION:Take hold&nbsp\;of your temper with Army Community Service (ACS
 ) and join this informative class on how to understand and control stress 
 and anger.\n
X-ALT-DESC:FMTTYPE=text/html:<!DOCTYPE HTML PUBLIC "-//W3C//DTD HTML 3.2//E
 N"><HTML><p>Take hold&nbsp\;of your temper with Army Community Service (AC
 S) and join this informative class on how to understand and control stress
  and anger.</p>\n</HTML>
CREATED;TZID=Europe/Oslo:20231017T141452
URL;VALUE=URI:https://baumholder.armymwr.com/calendar/event
DTSTART;TZID=Europe/Oslo:20220906T113000
DTEND;TZID=Europe/Oslo:20220906T123000
SEQUENCE:3
END:VEVENT
BEGIN:VEVENT
UID:sabre-vobject-7ddbdef1-4273-4deb-ba98-eb36aeb3c348
DTSTAMP:20260421T015730Z
SUMMARY:Stress & Anger Management Class
DESCRIPTION:Take hold&nbsp\;of your temper with Army Community Service (ACS
 ) and join this informative class on how to understand and control stress 
 and anger.\n
X-ALT-DESC:FMTTYPE=text/html:<!DOCTYPE HTML PUBLIC "-//W3C//DTD HTML 3.2//E
 N"><HTML><p>Take hold&nbsp\;of your temper with Army Community Service (AC
 S) and join this informative class on how to understand and control stress
  and anger.</p>\n</HTML>
CREATED;TZID=Europe/Oslo:20231017T141452
URL;VALUE=URI:https://baumholder.armymwr.com/calendar/event
DTSTART;TZID=Europe/Oslo:20220913T113000
DTEND;TZID=Europe/Oslo:20220913T123000
SEQUENCE:4
END:VEVENT
BEGIN:VEVENT
UID:sabre-vobject-94026c58-6390-467e-ae1e-0e05a6fad0ff
DTSTAMP:20260421T015730Z
SUMMARY:Stress & Anger Management Class
DESCRIPTION:Take hold&nbsp\;of your temper with Army Community Service (ACS
 ) and join this informative class on how to understand and control stress 
 and anger.\n
X-ALT-DESC:FMTTYPE=text/html:<!DOCTYPE HTML PUBLIC "-//W3C//DTD HTML 3.2//E
 N"><HTML><p>Take hold&nbsp\;of your temper with Army Community Service (AC
 S) and join this informative class on how to understand and control stress
  and anger.</p>\n</HTML>
CREATED;TZID=Europe/Oslo:20231017T141452
URL;VALUE=URI:https://baumholder.armymwr.com/calendar/event
DTSTART;TZID=Europe/Oslo:20221004T113000
DTEND;TZID=Europe/Oslo:20221004T123000
SEQUENCE:5
END:VEVENT
BEGIN:VEVENT
UID:sabre-vobject-6bc5ab8c-ce95-4dfc-8723-d6fccc695f36
DTSTAMP:20260421T015730Z
SUMMARY:Stress & Anger Management Class
DESCRIPTION:Take hold&nbsp\;of your temper with Army Community Service (ACS
 ) and join this informative class on how to understand and control stress 
 and anger.\n
X-ALT-DESC:FMTTYPE=text/html:<!DOCTYPE HTML PUBLIC "-//W3C//DTD HTML 3.2//E
 N"><HTML><p>Take hold&nbsp\;of your temper with Army Community Service (AC
 S) and join this informative class on how to understand and control stress
  and anger.</p>\n</HTML>
CREATED;TZID=Europe/Oslo:20231017T141452
URL;VALUE=URI:https://baumholder.armymwr.com/calendar/event
DTSTART;TZID=Europe/Oslo:20221011T113000
DTEND;TZID=Europe/Oslo:20221011T123000
SEQUENCE:6
END:VEVENT
BEGIN:VEVENT
UID:sabre-vobject-0d0c17df-06b6-45bb-a756-a76baa799d65
DTSTAMP:20260421T015730Z
SUMMARY:Stress & Anger Management Class
DESCRIPTION:Take hold&nbsp\;of your temper with Army Community Service (ACS
 ) and join this informative class on how to understand and control stress 
 and anger.\n
X-ALT-DESC:FMTTYPE=text/html:<!DOCTYPE HTML PUBLIC "-//W3C//DTD HTML 3.2//E
 N"><HTML><p>Take hold&nbsp\;of your temper with Army Community Service (AC
 S) and join this informative class on how to understand and control stress
  and anger.</p>\n</HTML>
CREATED;TZID=Europe/Oslo:20231017T141452
URL;VALUE=URI:https://baumholder.armymwr.com/calendar/event
DTSTART;TZID=Europe/Oslo:20221101T113000
DTEND;TZID=Europe/Oslo:20221101T123000
SEQUENCE:7
END:VEVENT
BEGIN:VEVENT
UID:sabre-vobject-155a2609-6ddc-47e8-8b54-7bd4cd9ce7ba
DTSTAMP:20260421T015730Z
SUMMARY:Stress & Anger Management Class
DESCRIPTION:Take hold&nbsp\;of your temper with Army Community Service (ACS
 ) and join this informative class on how to understand and control stress 
 and anger.\n
X-ALT-DESC:FMTTYPE=text/html:<!DOCTYPE HTML PUBLIC "-//W3C//DTD HTML 3.2//E
 N"><HTML><p>Take hold&nbsp\;of your temper with Army Community Service (AC
 S) and join this informative class on how to understand and control stress
  and anger.</p>\n</HTML>
CREATED;TZID=Europe/Oslo:20231017T141452
URL;VALUE=URI:https://baumholder.armymwr.com/calendar/event
DTSTART;TZID=Europe/Oslo:20221206T113000
DTEND;TZID=Europe/Oslo:20221206T123000
SEQUENCE:8
END:VEVENT
BEGIN:VEVENT
UID:sabre-vobject-e7dadd42-b537-4012-b46c-dd759c7bde26
DTSTAMP:20260421T015730Z
SUMMARY:Stress & Anger Management Class
DESCRIPTION:Take hold&nbsp\;of your temper with Army Community Service (ACS
 ) and join this informative class on how to understand and control stress 
 and anger.\n
X-ALT-DESC:FMTTYPE=text/html:<!DOCTYPE HTML PUBLIC "-//W3C//DTD HTML 3.2//E
 N"><HTML><p>Take hold&nbsp\;of your temper with Army Community Service (AC
 S) and join this informative class on how to understand and control stress
  and anger.</p>\n</HTML>
CREATED;TZID=Europe/Oslo:20231017T141452
URL;VALUE=URI:https://baumholder.armymwr.com/calendar/event
DTSTART;TZID=Europe/Oslo:20230103T113000
DTEND;TZID=Europe/Oslo:20230103T123000
SEQUENCE:9
END:VEVENT
BEGIN:VEVENT
UID:sabre-vobject-498d7b19-42e6-4192-8f43-7350fc9bd607
DTSTAMP:20260421T015730Z
SUMMARY:Stress & Anger Management Class
DESCRIPTION:Take hold&nbsp\;of your temper with Army Community Service (ACS
 ) and join this informative class on how to understand and control stress 
 and anger.\n
X-ALT-DESC:FMTTYPE=text/html:<!DOCTYPE HTML PUBLIC "-//W3C//DTD HTML 3.2//E
 N"><HTML><p>Take hold&nbsp\;of your temper with Army Community Service (AC
 S) and join this informative class on how to understand and control stress
  and anger.</p>\n</HTML>
CREATED;TZID=Europe/Oslo:20231017T141452
URL;VALUE=URI:https://baumholder.armymwr.com/calendar/event
DTSTART;TZID=Europe/Oslo:20230214T113000
DTEND;TZID=Europe/Oslo:20230214T123000
SEQUENCE:10
END:VEVENT
BEGIN:VEVENT
UID:sabre-vobject-3cef5f97-12d0-4108-b115-3382edb9d304
DTSTAMP:20260421T015730Z
SUMMARY:Stress & Anger Management Class
DESCRIPTION:Take hold&nbsp\;of your temper with Army Community Service (ACS
 ) and join this informative class on how to understand and control stress 
 and anger.\n
X-ALT-DESC:FMTTYPE=text/html:<!DOCTYPE HTML PUBLIC "-//W3C//DTD HTML 3.2//E
 N"><HTML><p>Take hold&nbsp\;of your temper with Army Community Service (AC
 S) and join this informative class on how to understand and control stress
  and anger.</p>\n</HTML>
CREATED;TZID=Europe/Oslo:20231017T141452
URL;VALUE=URI:https://baumholder.armymwr.com/calendar/event
DTSTART;TZID=Europe/Oslo:20230307T113000
DTEND;TZID=Europe/Oslo:20230307T123000
SEQUENCE:11
END:VEVENT
BEGIN:VEVENT
UID:sabre-vobject-e149a549-5444-4023-b86d-199fab476ea0
DTSTAMP:20260421T015730Z
SUMMARY:Stress & Anger Management Class
DESCRIPTION:Take hold&nbsp\;of your temper with Army Community Service (ACS
 ) and join this informative class on how to understand and control stress 
 and anger.\n
X-ALT-DESC:FMTTYPE=text/html:<!DOCTYPE HTML PUBLIC "-//W3C//DTD HTML 3.2//E
 N"><HTML><p>Take hold&nbsp\;of your temper with Army Community Service (AC
 S) and join this informative class on how to understand and control stress
  and anger.</p>\n</HTML>
CREATED;TZID=Europe/Oslo:20231017T141452
URL;VALUE=URI:https://baumholder.armymwr.com/calendar/event
DTSTART;TZID=Europe/Oslo:20230404T113000
DTEND;TZID=Europe/Oslo:20230404T123000
SEQUENCE:12
END:VEVENT
BEGIN:VEVENT
UID:sabre-vobject-b8216324-8048-4276-a32e-3c2b593ec3f6
DTSTAMP:20260421T015730Z
SUMMARY:Stress & Anger Management Class
DESCRIPTION:Take hold&nbsp\;of your temper with Army Community Service (ACS
 ) and join this informative class on how to understand and control stress 
 and anger.\n
X-ALT-DESC:FMTTYPE=text/html:<!DOCTYPE HTML PUBLIC "-//W3C//DTD HTML 3.2//E
 N"><HTML><p>Take hold&nbsp\;of your temper with Army Community Service (AC
 S) and join this informative class on how to understand and control stress
  and anger.</p>\n</HTML>
CREATED;TZID=Europe/Oslo:20231017T141452
URL;VALUE=URI:https://baumholder.armymwr.com/calendar/event
DTSTART;TZID=Europe/Oslo:20230502T113000
DTEND;TZID=Europe/Oslo:20230502T123000
SEQUENCE:13
END:VEVENT
BEGIN:VEVENT
UID:sabre-vobject-8464ff50-d9f7-4a6e-87c6-b97ae981cdf7
DTSTAMP:20260421T015730Z
SUMMARY:Stress & Anger Management Class
DESCRIPTION:Take hold&nbsp\;of your temper with Army Community Service (ACS
 ) and join this informative class on how to understand and control stress 
 and anger.\n
X-ALT-DESC:FMTTYPE=text/html:<!DOCTYPE HTML PUBLIC "-//W3C//DTD HTML 3.2//E
 N"><HTML><p>Take hold&nbsp\;of your temper with Army Community Service (AC
 S) and join this informative class on how to understand and control stress
  and anger.</p>\n</HTML>
CREATED;TZID=Europe/Oslo:20231017T141452
URL;VALUE=URI:https://baumholder.armymwr.com/calendar/event
DTSTART;TZID=Europe/Oslo:20230516T113000
DTEND;TZID=Europe/Oslo:20230516T123000
SEQUENCE:14
END:VEVENT
BEGIN:VEVENT
UID:sabre-vobject-088808bb-97e9-4559-a35c-6b3df13442b0
DTSTAMP:20260421T015730Z
SUMMARY:Stress & Anger Management Class
DESCRIPTION:Take hold&nbsp\;of your temper with Army Community Service (ACS
 ) and join this informative class on how to understand and control stress 
 and anger.\n
X-ALT-DESC:FMTTYPE=text/html:<!DOCTYPE HTML PUBLIC "-//W3C//DTD HTML 3.2//E
 N"><HTML><p>Take hold&nbsp\;of your temper with Army Community Service (AC
 S) and join this informative class on how to understand and control stress
  and anger.</p>\n</HTML>
CREATED;TZID=Europe/Oslo:20231017T141452
URL;VALUE=URI:https://baumholder.armymwr.com/calendar/event
DTSTART;TZID=Europe/Oslo:20230606T113000
DTEND;TZID=Europe/Oslo:20230606T123000
SEQUENCE:15
END:VEVENT
BEGIN:VEVENT
UID:sabre-vobject-b0742fa8-5997-4bb5-a2aa-4a7d4c87baf9
DTSTAMP:20260421T015730Z
SUMMARY:Stress & Anger Management Class
DESCRIPTION:Take hold&nbsp\;of your temper with Army Community Service (ACS
 ) and join this informative class on how to understand and control stress 
 and anger.\n
X-ALT-DESC:FMTTYPE=text/html:<!DOCTYPE HTML PUBLIC "-//W3C//DTD HTML 3.2//E
 N"><HTML><p>Take hold&nbsp\;of your temper with Army Community Service (AC
 S) and join this informative class on how to understand and control stress
  and anger.</p>\n</HTML>
CREATED;TZID=Europe/Oslo:20231017T141452
URL;VALUE=URI:https://baumholder.armymwr.com/calendar/event
DTSTART;TZID=Europe/Oslo:20230620T113000
DTEND;TZID=Europe/Oslo:20230620T123000
SEQUENCE:16
END:VEVENT
BEGIN:VEVENT
UID:sabre-vobject-3b74e3dd-4040-4c4e-8b03-db3cf80d032b
DTSTAMP:20260421T015730Z
SUMMARY:Stress & Anger Management Class
DESCRIPTION:Take hold&nbsp\;of your temper with Army Community Service (ACS
 ) and join this informative class on how to understand and control stress 
 and anger.\n
X-ALT-DESC:FMTTYPE=text/html:<!DOCTYPE HTML PUBLIC "-//W3C//DTD HTML 3.2//E
 N"><HTML><p>Take hold&nbsp\;of your temper with Army Community Service (AC
 S) and join this informative class on how to understand and control stress
  and anger.</p>\n</HTML>
CREATED;TZID=Europe/Oslo:20231017T141452
URL;VALUE=URI:https://baumholder.armymwr.com/calendar/event
DTSTART;TZID=Europe/Oslo:20230612T130000
DTEND;TZID=Europe/Oslo:20230612T140000
SEQUENCE:17
END:VEVENT
BEGIN:VEVENT
UID:sabre-vobject-b25211ba-d503-4d9d-8f0c-744fe83f5696
DTSTAMP:20260421T015730Z
SUMMARY:Stress & Anger Management Class
DESCRIPTION:Take hold&nbsp\;of your temper with Army Community Service (ACS
 ) and join this informative class on how to understand and control stress 
 and anger.\n
X-ALT-DESC:FMTTYPE=text/html:<!DOCTYPE HTML PUBLIC "-//W3C//DTD HTML 3.2//E
 N"><HTML><p>Take hold&nbsp\;of your temper with Army Community Service (AC
 S) and join this informative class on how to understand and control stress
  and anger.</p>\n</HTML>
CREATED;TZID=Europe/Oslo:20231017T141452
URL;VALUE=URI:https://baumholder.armymwr.com/calendar/event
DTSTART;TZID=Europe/Oslo:20230711T113000
DTEND;TZID=Europe/Oslo:20230711T123000
SEQUENCE:18
END:VEVENT
BEGIN:VEVENT
UID:sabre-vobject-71481ea4-3859-4a08-9ecc-bfb974562ec6
DTSTAMP:20260421T015730Z
SUMMARY:Stress & Anger Management Class
DESCRIPTION:Take hold&nbsp\;of your temper with Army Community Service (ACS
 ) and join this informative class on how to understand and control stress 
 and anger.\n
X-ALT-DESC:FMTTYPE=text/html:<!DOCTYPE HTML PUBLIC "-//W3C//DTD HTML 3.2//E
 N"><HTML><p>Take hold&nbsp\;of your temper with Army Community Service (AC
 S) and join this informative class on how to understand and control stress
  and anger.</p>\n</HTML>
CREATED;TZID=Europe/Oslo:20231017T141452
URL;VALUE=URI:https://baumholder.armymwr.com/calendar/event
DTSTART;TZID=Europe/Oslo:20230725T113000
DTEND;TZID=Europe/Oslo:20230725T123000
SEQUENCE:19
END:VEVENT
BEGIN:VEVENT
UID:sabre-vobject-2687db26-1bcd-4612-91d0-a4ad1d24ecb0
DTSTAMP:20260421T015730Z
SUMMARY:Stress & Anger Management Class
DESCRIPTION:Take hold&nbsp\;of your temper with Army Community Service (ACS
 ) and join this informative class on how to understand and control stress 
 and anger.\n
X-ALT-DESC:FMTTYPE=text/html:<!DOCTYPE HTML PUBLIC "-//W3C//DTD HTML 3.2//E
 N"><HTML><p>Take hold&nbsp\;of your temper with Army Community Service (AC
 S) and join this informative class on how to understand and control stress
  and anger.</p>\n</HTML>
CREATED;TZID=Europe/Oslo:20231017T141452
URL;VALUE=URI:https://baumholder.armymwr.com/calendar/event
DTSTART;TZID=Europe/Oslo:20230808T113000
DTEND;TZID=Europe/Oslo:20230808T123000
SEQUENCE:20
END:VEVENT
BEGIN:VEVENT
UID:sabre-vobject-eeae8068-90c9-44d0-b62d-d71b17825998
DTSTAMP:20260421T015730Z
SUMMARY:Stress & Anger Management Class
DESCRIPTION:Take hold&nbsp\;of your temper with Army Community Service (ACS
 ) and join this informative class on how to understand and control stress 
 and anger.\n
X-ALT-DESC:FMTTYPE=text/html:<!DOCTYPE HTML PUBLIC "-//W3C//DTD HTML 3.2//E
 N"><HTML><p>Take hold&nbsp\;of your temper with Army Community Service (AC
 S) and join this informative class on how to understand and control stress
  and anger.</p>\n</HTML>
CREATED;TZID=Europe/Oslo:20231017T141452
URL;VALUE=URI:https://baumholder.armymwr.com/calendar/event
DTSTART;TZID=Europe/Oslo:20230822T113000
DTEND;TZID=Europe/Oslo:20230822T123000
SEQUENCE:21
END:VEVENT
BEGIN:VEVENT
UID:sabre-vobject-9f0615cf-3c7a-4633-83ee-3cd5dc737aa4
DTSTAMP:20260421T015730Z
SUMMARY:Stress & Anger Management Class
DESCRIPTION:Take hold&nbsp\;of your temper with Army Community Service (ACS
 ) and join this informative class on how to understand and control stress 
 and anger.\n
X-ALT-DESC:FMTTYPE=text/html:<!DOCTYPE HTML PUBLIC "-//W3C//DTD HTML 3.2//E
 N"><HTML><p>Take hold&nbsp\;of your temper with Army Community Service (AC
 S) and join this informative class on how to understand and control stress
  and anger.</p>\n</HTML>
CREATED;TZID=Europe/Oslo:20231017T141452
URL;VALUE=URI:https://baumholder.armymwr.com/calendar/event
DTSTART;TZID=Europe/Oslo:20230905T113000
DTEND;TZID=Europe/Oslo:20230905T123000
SEQUENCE:22
END:VEVENT
BEGIN:VEVENT
UID:sabre-vobject-a0c7e3b2-518f-42dd-bfb9-70b6c3be1b3e
DTSTAMP:20260421T015730Z
SUMMARY:Stress & Anger Management Class
DESCRIPTION:Take hold&nbsp\;of your temper with Army Community Service (ACS
 ) and join this informative class on how to understand and control stress 
 and anger.\n
X-ALT-DESC:FMTTYPE=text/html:<!DOCTYPE HTML PUBLIC "-//W3C//DTD HTML 3.2//E
 N"><HTML><p>Take hold&nbsp\;of your temper with Army Community Service (AC
 S) and join this informative class on how to understand and control stress
  and anger.</p>\n</HTML>
CREATED;TZID=Europe/Oslo:20231017T141452
URL;VALUE=URI:https://baumholder.armymwr.com/calendar/event
DTSTART;TZID=Europe/Oslo:20230919T113000
DTEND;TZID=Europe/Oslo:20230919T123000
SEQUENCE:23
END:VEVENT
BEGIN:VEVENT
UID:sabre-vobject-ac709efb-8828-4b11-b13c-855f511a7d6b
DTSTAMP:20260421T015730Z
SUMMARY:Stress & Anger Management Class
DESCRIPTION:Take hold&nbsp\;of your temper with Army Community Service (ACS
 ) and join this informative class on how to understand and control stress 
 and anger.\n
X-ALT-DESC:FMTTYPE=text/html:<!DOCTYPE HTML PUBLIC "-//W3C//DTD HTML 3.2//E
 N"><HTML><p>Take hold&nbsp\;of your temper with Army Community Service (AC
 S) and join this informative class on how to understand and control stress
  and anger.</p>\n</HTML>
CREATED;TZID=Europe/Oslo:20231017T141452
URL;VALUE=URI:https://baumholder.armymwr.com/calendar/event
DTSTART;TZID=Europe/Oslo:20231003T113000
DTEND;TZID=Europe/Oslo:20231003T123000
SEQUENCE:24
END:VEVENT
BEGIN:VEVENT
UID:sabre-vobject-cbb70a6c-ad51-4f5c-80c3-60f93ee1904f
DTSTAMP:20260421T015730Z
SUMMARY:Stress & Anger Management Class
DESCRIPTION:Take hold&nbsp\;of your temper with Army Community Service (ACS
 ) and join this informative class on how to understand and control stress 
 and anger.\n
X-ALT-DESC:FMTTYPE=text/html:<!DOCTYPE HTML PUBLIC "-//W3C//DTD HTML 3.2//E
 N"><HTML><p>Take hold&nbsp\;of your temper with Army Community Service (AC
 S) and join this informative class on how to understand and control stress
  and anger.</p>\n</HTML>
CREATED;TZID=Europe/Oslo:20231017T141452
URL;VALUE=URI:https://baumholder.armymwr.com/calendar/event
DTSTART;TZID=Europe/Oslo:20231017T113000
DTEND;TZID=Europe/Oslo:20231017T123000
SEQUENCE:25
END:VEVENT
BEGIN:VEVENT
UID:sabre-vobject-d857eef0-c7f8-4012-ac42-84d502302e42
DTSTAMP:20260421T015730Z
SUMMARY:Stress & Anger Management Class
DESCRIPTION:Take hold&nbsp\;of your temper with Army Community Service (ACS
 ) and join this informative class on how to understand and control stress 
 and anger.\n
X-ALT-DESC:FMTTYPE=text/html:<!DOCTYPE HTML PUBLIC "-//W3C//DTD HTML 3.2//E
 N"><HTML><p>Take hold&nbsp\;of your temper with Army Community Service (AC
 S) and join this informative class on how to understand and control stress
  and anger.</p>\n</HTML>
CREATED;TZID=Europe/Oslo:20231017T141452
URL;VALUE=URI:https://baumholder.armymwr.com/calendar/event
DTSTART;TZID=Europe/Oslo:20231114T113000
DTEND;TZID=Europe/Oslo:20231114T123000
SEQUENCE:26
END:VEVENT
END:VCALENDAR
