BEGIN:VCALENDAR
VERSION:2.0
PRODID:-//Sabre//Sabre VObject 4.5.8//EN
CALSCALE:GREGORIAN
BEGIN:VEVENT
UID:sabre-vobject-46e79da5-23a1-46f0-88c5-343dad336db7
DTSTAMP:20260421T132739Z
SUMMARY:Basic Training for New Parents
DESCRIPTION:Learn what to expect as a new parent!\n
X-ALT-DESC:FMTTYPE=text/html:<!DOCTYPE HTML PUBLIC "-//W3C//DTD HTML 3.2//E
 N"><HTML><p>Learn what to expect as a new parent!</p>\n</HTML>
CREATED;TZID=Europe/Oslo:20231214T115000
URL;VALUE=URI:https://baumholder.armymwr.com/calendar/event
DTSTART;TZID=Europe/Oslo:20220608T090000
DTEND;TZID=Europe/Oslo:20220608T130000
SEQUENCE:0
END:VEVENT
BEGIN:VEVENT
UID:sabre-vobject-0f8d637b-feab-4423-8d22-7a5dcbf7e39e
DTSTAMP:20260421T132739Z
SUMMARY:Basic Training for New Parents
DESCRIPTION:Learn what to expect as a new parent!\n
X-ALT-DESC:FMTTYPE=text/html:<!DOCTYPE HTML PUBLIC "-//W3C//DTD HTML 3.2//E
 N"><HTML><p>Learn what to expect as a new parent!</p>\n</HTML>
CREATED;TZID=Europe/Oslo:20231214T115000
URL;VALUE=URI:https://baumholder.armymwr.com/calendar/event
DTSTART;TZID=Europe/Oslo:20220614T173000
DTEND;TZID=Europe/Oslo:20220614T203000
SEQUENCE:1
END:VEVENT
BEGIN:VEVENT
UID:sabre-vobject-f6a0e8b9-60aa-4716-821d-a8199950c5ba
DTSTAMP:20260421T132739Z
SUMMARY:Basic Training for New Parents
DESCRIPTION:Learn what to expect as a new parent!\n
X-ALT-DESC:FMTTYPE=text/html:<!DOCTYPE HTML PUBLIC "-//W3C//DTD HTML 3.2//E
 N"><HTML><p>Learn what to expect as a new parent!</p>\n</HTML>
CREATED;TZID=Europe/Oslo:20231214T115000
URL;VALUE=URI:https://baumholder.armymwr.com/calendar/event
DTSTART;TZID=Europe/Oslo:20220713T090000
DTEND;TZID=Europe/Oslo:20220713T130000
SEQUENCE:2
END:VEVENT
BEGIN:VEVENT
UID:sabre-vobject-6ca9c541-13e9-4c58-a6a8-6a39478c9887
DTSTAMP:20260421T132739Z
SUMMARY:Basic Training for New Parents
DESCRIPTION:Learn what to expect as a new parent!\n
X-ALT-DESC:FMTTYPE=text/html:<!DOCTYPE HTML PUBLIC "-//W3C//DTD HTML 3.2//E
 N"><HTML><p>Learn what to expect as a new parent!</p>\n</HTML>
CREATED;TZID=Europe/Oslo:20231214T115000
URL;VALUE=URI:https://baumholder.armymwr.com/calendar/event
DTSTART;TZID=Europe/Oslo:20220719T173000
DTEND;TZID=Europe/Oslo:20220719T203000
SEQUENCE:3
END:VEVENT
BEGIN:VEVENT
UID:sabre-vobject-b1b3bca2-ee86-4f28-8091-3f940c789230
DTSTAMP:20260421T132739Z
SUMMARY:Basic Training for New Parents
DESCRIPTION:Learn what to expect as a new parent!\n
X-ALT-DESC:FMTTYPE=text/html:<!DOCTYPE HTML PUBLIC "-//W3C//DTD HTML 3.2//E
 N"><HTML><p>Learn what to expect as a new parent!</p>\n</HTML>
CREATED;TZID=Europe/Oslo:20231214T115000
URL;VALUE=URI:https://baumholder.armymwr.com/calendar/event
DTSTART;TZID=Europe/Oslo:20220810T090000
DTEND;TZID=Europe/Oslo:20220810T130000
SEQUENCE:4
END:VEVENT
BEGIN:VEVENT
UID:sabre-vobject-82f4f3c5-ea05-4960-94ee-943e8170b28c
DTSTAMP:20260421T132739Z
SUMMARY:Basic Training for New Parents
DESCRIPTION:Learn what to expect as a new parent!\n
X-ALT-DESC:FMTTYPE=text/html:<!DOCTYPE HTML PUBLIC "-//W3C//DTD HTML 3.2//E
 N"><HTML><p>Learn what to expect as a new parent!</p>\n</HTML>
CREATED;TZID=Europe/Oslo:20231214T115000
URL;VALUE=URI:https://baumholder.armymwr.com/calendar/event
DTSTART;TZID=Europe/Oslo:20220816T173000
DTEND;TZID=Europe/Oslo:20220816T203000
SEQUENCE:5
END:VEVENT
BEGIN:VEVENT
UID:sabre-vobject-92fbb7cd-be3a-456e-ae3b-2001c007ac0c
DTSTAMP:20260421T132739Z
SUMMARY:Basic Training for New Parents
DESCRIPTION:Learn what to expect as a new parent!\n
X-ALT-DESC:FMTTYPE=text/html:<!DOCTYPE HTML PUBLIC "-//W3C//DTD HTML 3.2//E
 N"><HTML><p>Learn what to expect as a new parent!</p>\n</HTML>
CREATED;TZID=Europe/Oslo:20231214T115000
URL;VALUE=URI:https://baumholder.armymwr.com/calendar/event
DTSTART;TZID=Europe/Oslo:20220920T173000
DTEND;TZID=Europe/Oslo:20220920T203000
SEQUENCE:6
END:VEVENT
BEGIN:VEVENT
UID:sabre-vobject-d684b338-c379-4fa5-b2e9-c463449e5039
DTSTAMP:20260421T132739Z
SUMMARY:Basic Training for New Parents
DESCRIPTION:Learn what to expect as a new parent!\n
X-ALT-DESC:FMTTYPE=text/html:<!DOCTYPE HTML PUBLIC "-//W3C//DTD HTML 3.2//E
 N"><HTML><p>Learn what to expect as a new parent!</p>\n</HTML>
CREATED;TZID=Europe/Oslo:20231214T115000
URL;VALUE=URI:https://baumholder.armymwr.com/calendar/event
DTSTART;TZID=Europe/Oslo:20221012T090000
DTEND;TZID=Europe/Oslo:20221012T130000
SEQUENCE:7
END:VEVENT
BEGIN:VEVENT
UID:sabre-vobject-7d2e5861-c8b4-40ae-97ce-5847a915a4ec
DTSTAMP:20260421T132739Z
SUMMARY:Basic Training for New Parents
DESCRIPTION:Learn what to expect as a new parent!\n
X-ALT-DESC:FMTTYPE=text/html:<!DOCTYPE HTML PUBLIC "-//W3C//DTD HTML 3.2//E
 N"><HTML><p>Learn what to expect as a new parent!</p>\n</HTML>
CREATED;TZID=Europe/Oslo:20231214T115000
URL;VALUE=URI:https://baumholder.armymwr.com/calendar/event
DTSTART;TZID=Europe/Oslo:20221018T173000
DTEND;TZID=Europe/Oslo:20221018T203000
SEQUENCE:8
END:VEVENT
BEGIN:VEVENT
UID:sabre-vobject-76480880-f754-4c61-9cc6-9a5e71c78650
DTSTAMP:20260421T132739Z
SUMMARY:Basic Training for New Parents
DESCRIPTION:Learn what to expect as a new parent!\n
X-ALT-DESC:FMTTYPE=text/html:<!DOCTYPE HTML PUBLIC "-//W3C//DTD HTML 3.2//E
 N"><HTML><p>Learn what to expect as a new parent!</p>\n</HTML>
CREATED;TZID=Europe/Oslo:20231214T115000
URL;VALUE=URI:https://baumholder.armymwr.com/calendar/event
DTSTART;TZID=Europe/Oslo:20221109T090000
DTEND;TZID=Europe/Oslo:20221109T130000
SEQUENCE:9
END:VEVENT
BEGIN:VEVENT
UID:sabre-vobject-35ab3528-5c59-4c0a-a897-14aeecbf77f7
DTSTAMP:20260421T132739Z
SUMMARY:Basic Training for New Parents
DESCRIPTION:Learn what to expect as a new parent!\n
X-ALT-DESC:FMTTYPE=text/html:<!DOCTYPE HTML PUBLIC "-//W3C//DTD HTML 3.2//E
 N"><HTML><p>Learn what to expect as a new parent!</p>\n</HTML>
CREATED;TZID=Europe/Oslo:20231214T115000
URL;VALUE=URI:https://baumholder.armymwr.com/calendar/event
DTSTART;TZID=Europe/Oslo:20221214T090000
DTEND;TZID=Europe/Oslo:20221214T130000
SEQUENCE:10
END:VEVENT
BEGIN:VEVENT
UID:sabre-vobject-68d362c2-e885-4f7f-9c0a-385aa2de3ffb
DTSTAMP:20260421T132739Z
SUMMARY:Basic Training for New Parents
DESCRIPTION:Learn what to expect as a new parent!\n
X-ALT-DESC:FMTTYPE=text/html:<!DOCTYPE HTML PUBLIC "-//W3C//DTD HTML 3.2//E
 N"><HTML><p>Learn what to expect as a new parent!</p>\n</HTML>
CREATED;TZID=Europe/Oslo:20231214T115000
URL;VALUE=URI:https://baumholder.armymwr.com/calendar/event
DTSTART;TZID=Europe/Oslo:20230104T090000
DTEND;TZID=Europe/Oslo:20230104T130000
SEQUENCE:11
END:VEVENT
BEGIN:VEVENT
UID:sabre-vobject-766b8380-0a2a-4cbb-b069-d8b043e5444b
DTSTAMP:20260421T132739Z
SUMMARY:Basic Training for New Parents
DESCRIPTION:Learn what to expect as a new parent!\n
X-ALT-DESC:FMTTYPE=text/html:<!DOCTYPE HTML PUBLIC "-//W3C//DTD HTML 3.2//E
 N"><HTML><p>Learn what to expect as a new parent!</p>\n</HTML>
CREATED;TZID=Europe/Oslo:20231214T115000
URL;VALUE=URI:https://baumholder.armymwr.com/calendar/event
DTSTART;TZID=Europe/Oslo:20230201T090000
DTEND;TZID=Europe/Oslo:20230201T130000
SEQUENCE:12
END:VEVENT
BEGIN:VEVENT
UID:sabre-vobject-6ba536c2-179a-436a-a15a-7597a331b45f
DTSTAMP:20260421T132739Z
SUMMARY:Basic Training for New Parents
DESCRIPTION:Learn what to expect as a new parent!\n
X-ALT-DESC:FMTTYPE=text/html:<!DOCTYPE HTML PUBLIC "-//W3C//DTD HTML 3.2//E
 N"><HTML><p>Learn what to expect as a new parent!</p>\n</HTML>
CREATED;TZID=Europe/Oslo:20231214T115000
URL;VALUE=URI:https://baumholder.armymwr.com/calendar/event
DTSTART;TZID=Europe/Oslo:20230301T090000
DTEND;TZID=Europe/Oslo:20230301T130000
SEQUENCE:13
END:VEVENT
BEGIN:VEVENT
UID:sabre-vobject-e11fa124-cb15-4681-87fb-dae4976ea8f6
DTSTAMP:20260421T132739Z
SUMMARY:Basic Training for New Parents
DESCRIPTION:Learn what to expect as a new parent!\n
X-ALT-DESC:FMTTYPE=text/html:<!DOCTYPE HTML PUBLIC "-//W3C//DTD HTML 3.2//E
 N"><HTML><p>Learn what to expect as a new parent!</p>\n</HTML>
CREATED;TZID=Europe/Oslo:20231214T115000
URL;VALUE=URI:https://baumholder.armymwr.com/calendar/event
DTSTART;TZID=Europe/Oslo:20230405T090000
DTEND;TZID=Europe/Oslo:20230405T130000
SEQUENCE:14
END:VEVENT
BEGIN:VEVENT
UID:sabre-vobject-3e9274e1-c875-4eeb-ad82-83b78e000a11
DTSTAMP:20260421T132739Z
SUMMARY:Basic Training for New Parents
DESCRIPTION:Learn what to expect as a new parent!\n
X-ALT-DESC:FMTTYPE=text/html:<!DOCTYPE HTML PUBLIC "-//W3C//DTD HTML 3.2//E
 N"><HTML><p>Learn what to expect as a new parent!</p>\n</HTML>
CREATED;TZID=Europe/Oslo:20231214T115000
URL;VALUE=URI:https://baumholder.armymwr.com/calendar/event
DTSTART;TZID=Europe/Oslo:20230503T090000
DTEND;TZID=Europe/Oslo:20230503T130000
SEQUENCE:15
END:VEVENT
BEGIN:VEVENT
UID:sabre-vobject-8e5fcb5d-9372-4767-915a-84c7cd756183
DTSTAMP:20260421T132739Z
SUMMARY:Basic Training for New Parents
DESCRIPTION:Learn what to expect as a new parent!\n
X-ALT-DESC:FMTTYPE=text/html:<!DOCTYPE HTML PUBLIC "-//W3C//DTD HTML 3.2//E
 N"><HTML><p>Learn what to expect as a new parent!</p>\n</HTML>
CREATED;TZID=Europe/Oslo:20231214T115000
URL;VALUE=URI:https://baumholder.armymwr.com/calendar/event
DTSTART;TZID=Europe/Oslo:20230607T090000
DTEND;TZID=Europe/Oslo:20230607T130000
SEQUENCE:16
END:VEVENT
BEGIN:VEVENT
UID:sabre-vobject-47599754-2fb8-442b-9bfe-d70771c420d3
DTSTAMP:20260421T132739Z
SUMMARY:Basic Training for New Parents
DESCRIPTION:Learn what to expect as a new parent!\n
X-ALT-DESC:FMTTYPE=text/html:<!DOCTYPE HTML PUBLIC "-//W3C//DTD HTML 3.2//E
 N"><HTML><p>Learn what to expect as a new parent!</p>\n</HTML>
CREATED;TZID=Europe/Oslo:20231214T115000
URL;VALUE=URI:https://baumholder.armymwr.com/calendar/event
DTSTART;TZID=Europe/Oslo:20230620T173000
DTEND;TZID=Europe/Oslo:20230620T203000
SEQUENCE:17
END:VEVENT
BEGIN:VEVENT
UID:sabre-vobject-166d8a88-18ea-4c98-96da-a2b014203c9a
DTSTAMP:20260421T132739Z
SUMMARY:Basic Training for New Parents
DESCRIPTION:Learn what to expect as a new parent!\n
X-ALT-DESC:FMTTYPE=text/html:<!DOCTYPE HTML PUBLIC "-//W3C//DTD HTML 3.2//E
 N"><HTML><p>Learn what to expect as a new parent!</p>\n</HTML>
CREATED;TZID=Europe/Oslo:20231214T115000
URL;VALUE=URI:https://baumholder.armymwr.com/calendar/event
DTSTART;TZID=Europe/Oslo:20230705T090000
DTEND;TZID=Europe/Oslo:20230705T130000
SEQUENCE:18
END:VEVENT
BEGIN:VEVENT
UID:sabre-vobject-9d6179c5-2cfa-4eeb-a94e-1eb1545baff4
DTSTAMP:20260421T132739Z
SUMMARY:Basic Training for New Parents
DESCRIPTION:Learn what to expect as a new parent!\n
X-ALT-DESC:FMTTYPE=text/html:<!DOCTYPE HTML PUBLIC "-//W3C//DTD HTML 3.2//E
 N"><HTML><p>Learn what to expect as a new parent!</p>\n</HTML>
CREATED;TZID=Europe/Oslo:20231214T115000
URL;VALUE=URI:https://baumholder.armymwr.com/calendar/event
DTSTART;TZID=Europe/Oslo:20230718T173000
DTEND;TZID=Europe/Oslo:20230718T203000
SEQUENCE:19
END:VEVENT
BEGIN:VEVENT
UID:sabre-vobject-3eb9b8ae-4598-42c4-bf61-7462000d3895
DTSTAMP:20260421T132739Z
SUMMARY:Basic Training for New Parents
DESCRIPTION:Learn what to expect as a new parent!\n
X-ALT-DESC:FMTTYPE=text/html:<!DOCTYPE HTML PUBLIC "-//W3C//DTD HTML 3.2//E
 N"><HTML><p>Learn what to expect as a new parent!</p>\n</HTML>
CREATED;TZID=Europe/Oslo:20231214T115000
URL;VALUE=URI:https://baumholder.armymwr.com/calendar/event
DTSTART;TZID=Europe/Oslo:20230802T090000
DTEND;TZID=Europe/Oslo:20230802T130000
SEQUENCE:20
END:VEVENT
BEGIN:VEVENT
UID:sabre-vobject-eced52b2-2e33-4739-b465-5bbda78cb8b6
DTSTAMP:20260421T132739Z
SUMMARY:Basic Training for New Parents
DESCRIPTION:Learn what to expect as a new parent!\n
X-ALT-DESC:FMTTYPE=text/html:<!DOCTYPE HTML PUBLIC "-//W3C//DTD HTML 3.2//E
 N"><HTML><p>Learn what to expect as a new parent!</p>\n</HTML>
CREATED;TZID=Europe/Oslo:20231214T115000
URL;VALUE=URI:https://baumholder.armymwr.com/calendar/event
DTSTART;TZID=Europe/Oslo:20230815T173000
DTEND;TZID=Europe/Oslo:20230815T203000
SEQUENCE:21
END:VEVENT
BEGIN:VEVENT
UID:sabre-vobject-56fc7327-7b55-4f7f-b8b7-4e8f91e8d5a1
DTSTAMP:20260421T132739Z
SUMMARY:Basic Training for New Parents
DESCRIPTION:Learn what to expect as a new parent!\n
X-ALT-DESC:FMTTYPE=text/html:<!DOCTYPE HTML PUBLIC "-//W3C//DTD HTML 3.2//E
 N"><HTML><p>Learn what to expect as a new parent!</p>\n</HTML>
CREATED;TZID=Europe/Oslo:20231214T115000
URL;VALUE=URI:https://baumholder.armymwr.com/calendar/event
DTSTART;TZID=Europe/Oslo:20230906T090000
DTEND;TZID=Europe/Oslo:20230906T130000
SEQUENCE:22
END:VEVENT
BEGIN:VEVENT
UID:sabre-vobject-472bf47e-9362-4f1a-b9d4-8420379aec32
DTSTAMP:20260421T132739Z
SUMMARY:Basic Training for New Parents
DESCRIPTION:Learn what to expect as a new parent!\n
X-ALT-DESC:FMTTYPE=text/html:<!DOCTYPE HTML PUBLIC "-//W3C//DTD HTML 3.2//E
 N"><HTML><p>Learn what to expect as a new parent!</p>\n</HTML>
CREATED;TZID=Europe/Oslo:20231214T115000
URL;VALUE=URI:https://baumholder.armymwr.com/calendar/event
DTSTART;TZID=Europe/Oslo:20230919T173000
DTEND;TZID=Europe/Oslo:20230919T203000
SEQUENCE:23
END:VEVENT
BEGIN:VEVENT
UID:sabre-vobject-0bf66036-ef4c-4ebb-b1a9-633d1ea85feb
DTSTAMP:20260421T132739Z
SUMMARY:Basic Training for New Parents
DESCRIPTION:Learn what to expect as a new parent!\n
X-ALT-DESC:FMTTYPE=text/html:<!DOCTYPE HTML PUBLIC "-//W3C//DTD HTML 3.2//E
 N"><HTML><p>Learn what to expect as a new parent!</p>\n</HTML>
CREATED;TZID=Europe/Oslo:20231214T115000
URL;VALUE=URI:https://baumholder.armymwr.com/calendar/event
DTSTART;TZID=Europe/Oslo:20231004T090000
DTEND;TZID=Europe/Oslo:20231004T130000
SEQUENCE:24
END:VEVENT
BEGIN:VEVENT
UID:sabre-vobject-123445bf-6080-43c3-be0b-b62b2741cb9e
DTSTAMP:20260421T132739Z
SUMMARY:Basic Training for New Parents
DESCRIPTION:Learn what to expect as a new parent!\n
X-ALT-DESC:FMTTYPE=text/html:<!DOCTYPE HTML PUBLIC "-//W3C//DTD HTML 3.2//E
 N"><HTML><p>Learn what to expect as a new parent!</p>\n</HTML>
CREATED;TZID=Europe/Oslo:20231214T115000
URL;VALUE=URI:https://baumholder.armymwr.com/calendar/event
DTSTART;TZID=Europe/Oslo:20231017T173000
DTEND;TZID=Europe/Oslo:20231017T203000
SEQUENCE:25
END:VEVENT
BEGIN:VEVENT
UID:sabre-vobject-ae5d2778-7383-4923-bd2a-a9111695969a
DTSTAMP:20260421T132739Z
SUMMARY:Basic Training for New Parents
DESCRIPTION:Learn what to expect as a new parent!\n
X-ALT-DESC:FMTTYPE=text/html:<!DOCTYPE HTML PUBLIC "-//W3C//DTD HTML 3.2//E
 N"><HTML><p>Learn what to expect as a new parent!</p>\n</HTML>
CREATED;TZID=Europe/Oslo:20231214T115000
URL;VALUE=URI:https://baumholder.armymwr.com/calendar/event
DTSTART;TZID=Europe/Oslo:20231101T090000
DTEND;TZID=Europe/Oslo:20231101T130000
SEQUENCE:26
END:VEVENT
BEGIN:VEVENT
UID:sabre-vobject-0e19537d-56f0-4dfc-b19f-bb5010983c50
DTSTAMP:20260421T132739Z
SUMMARY:Basic Training for New Parents
DESCRIPTION:Learn what to expect as a new parent!\n
X-ALT-DESC:FMTTYPE=text/html:<!DOCTYPE HTML PUBLIC "-//W3C//DTD HTML 3.2//E
 N"><HTML><p>Learn what to expect as a new parent!</p>\n</HTML>
CREATED;TZID=Europe/Oslo:20231214T115000
URL;VALUE=URI:https://baumholder.armymwr.com/calendar/event
DTSTART;TZID=Europe/Oslo:20231121T173000
DTEND;TZID=Europe/Oslo:20231121T203000
SEQUENCE:27
END:VEVENT
BEGIN:VEVENT
UID:sabre-vobject-72defdf2-5544-4837-a22f-69cb6dfebb85
DTSTAMP:20260421T132739Z
SUMMARY:Basic Training for New Parents
DESCRIPTION:Learn what to expect as a new parent!\n
X-ALT-DESC:FMTTYPE=text/html:<!DOCTYPE HTML PUBLIC "-//W3C//DTD HTML 3.2//E
 N"><HTML><p>Learn what to expect as a new parent!</p>\n</HTML>
CREATED;TZID=Europe/Oslo:20231214T115000
URL;VALUE=URI:https://baumholder.armymwr.com/calendar/event
DTSTART;TZID=Europe/Oslo:20231206T173000
DTEND;TZID=Europe/Oslo:20231206T203000
SEQUENCE:28
END:VEVENT
END:VCALENDAR
