BEGIN:VCALENDAR
VERSION:2.0
PRODID:-//Sabre//Sabre VObject 4.5.8//EN
CALSCALE:GREGORIAN
BEGIN:VEVENT
UID:sabre-vobject-e3dea914-d86c-406e-966f-77eea0532792
DTSTAMP:20260424T100454Z
SUMMARY:SFRG Command Family Readiness Representative Training - HYBRID
DESCRIPTION:Learn about the roles of the CFRR.&nbsp\;\n
X-ALT-DESC:FMTTYPE=text/html:<!DOCTYPE HTML PUBLIC "-//W3C//DTD HTML 3.2//E
 N"><HTML><p>Learn about the roles of the CFRR.&nbsp\;</p>\n</HTML>
CREATED;TZID=Europe/Oslo:20231017T112435
URL;VALUE=URI:https://baumholder.armymwr.com/calendar/event
DTSTART;TZID=Europe/Oslo:20220609T100000
DTEND;TZID=Europe/Oslo:20220609T120000
SEQUENCE:0
END:VEVENT
BEGIN:VEVENT
UID:sabre-vobject-121b6e69-62f0-415d-aca6-ed6ebc68f3a9
DTSTAMP:20260424T100454Z
SUMMARY:SFRG Command Family Readiness Representative Training - HYBRID
DESCRIPTION:Learn about the roles of the CFRR.&nbsp\;\n
X-ALT-DESC:FMTTYPE=text/html:<!DOCTYPE HTML PUBLIC "-//W3C//DTD HTML 3.2//E
 N"><HTML><p>Learn about the roles of the CFRR.&nbsp\;</p>\n</HTML>
CREATED;TZID=Europe/Oslo:20231017T112435
URL;VALUE=URI:https://baumholder.armymwr.com/calendar/event
DTSTART;TZID=Europe/Oslo:20220707T100000
DTEND;TZID=Europe/Oslo:20220707T120000
SEQUENCE:1
END:VEVENT
BEGIN:VEVENT
UID:sabre-vobject-347fa15d-cf24-44c1-85ed-f41ecf331205
DTSTAMP:20260424T100454Z
SUMMARY:SFRG Command Family Readiness Representative Training - HYBRID
DESCRIPTION:Learn about the roles of the CFRR.&nbsp\;\n
X-ALT-DESC:FMTTYPE=text/html:<!DOCTYPE HTML PUBLIC "-//W3C//DTD HTML 3.2//E
 N"><HTML><p>Learn about the roles of the CFRR.&nbsp\;</p>\n</HTML>
CREATED;TZID=Europe/Oslo:20231017T112435
URL;VALUE=URI:https://baumholder.armymwr.com/calendar/event
DTSTART;TZID=Europe/Oslo:20220804T100000
DTEND;TZID=Europe/Oslo:20220804T120000
SEQUENCE:2
END:VEVENT
BEGIN:VEVENT
UID:sabre-vobject-aba2e22f-8e63-4d2b-a964-f018b51a33f9
DTSTAMP:20260424T100454Z
SUMMARY:SFRG Command Family Readiness Representative Training - HYBRID
DESCRIPTION:Learn about the roles of the CFRR.&nbsp\;\n
X-ALT-DESC:FMTTYPE=text/html:<!DOCTYPE HTML PUBLIC "-//W3C//DTD HTML 3.2//E
 N"><HTML><p>Learn about the roles of the CFRR.&nbsp\;</p>\n</HTML>
CREATED;TZID=Europe/Oslo:20231017T112435
URL;VALUE=URI:https://baumholder.armymwr.com/calendar/event
DTSTART;TZID=Europe/Oslo:20221201T100000
DTEND;TZID=Europe/Oslo:20221201T120000
SEQUENCE:3
END:VEVENT
BEGIN:VEVENT
UID:sabre-vobject-8bb4860d-9ea1-4cb8-b87d-2970060b7f4f
DTSTAMP:20260424T100454Z
SUMMARY:SFRG Command Family Readiness Representative Training - HYBRID
DESCRIPTION:Learn about the roles of the CFRR.&nbsp\;\n
X-ALT-DESC:FMTTYPE=text/html:<!DOCTYPE HTML PUBLIC "-//W3C//DTD HTML 3.2//E
 N"><HTML><p>Learn about the roles of the CFRR.&nbsp\;</p>\n</HTML>
CREATED;TZID=Europe/Oslo:20231017T112435
URL;VALUE=URI:https://baumholder.armymwr.com/calendar/event
DTSTART;TZID=Europe/Oslo:20230105T100000
DTEND;TZID=Europe/Oslo:20230105T120000
SEQUENCE:4
END:VEVENT
BEGIN:VEVENT
UID:sabre-vobject-2260630e-8793-49a4-9f32-d2211afc6068
DTSTAMP:20260424T100454Z
SUMMARY:SFRG Command Family Readiness Representative Training - HYBRID
DESCRIPTION:Learn about the roles of the CFRR.&nbsp\;\n
X-ALT-DESC:FMTTYPE=text/html:<!DOCTYPE HTML PUBLIC "-//W3C//DTD HTML 3.2//E
 N"><HTML><p>Learn about the roles of the CFRR.&nbsp\;</p>\n</HTML>
CREATED;TZID=Europe/Oslo:20231017T112435
URL;VALUE=URI:https://baumholder.armymwr.com/calendar/event
DTSTART;TZID=Europe/Oslo:20230202T100000
DTEND;TZID=Europe/Oslo:20230202T120000
SEQUENCE:5
END:VEVENT
BEGIN:VEVENT
UID:sabre-vobject-7d2fc941-258e-45a8-b325-039f17d19e08
DTSTAMP:20260424T100454Z
SUMMARY:SFRG Command Family Readiness Representative Training - HYBRID
DESCRIPTION:Learn about the roles of the CFRR.&nbsp\;\n
X-ALT-DESC:FMTTYPE=text/html:<!DOCTYPE HTML PUBLIC "-//W3C//DTD HTML 3.2//E
 N"><HTML><p>Learn about the roles of the CFRR.&nbsp\;</p>\n</HTML>
CREATED;TZID=Europe/Oslo:20231017T112435
URL;VALUE=URI:https://baumholder.armymwr.com/calendar/event
DTSTART;TZID=Europe/Oslo:20230302T100000
DTEND;TZID=Europe/Oslo:20230302T120000
SEQUENCE:6
END:VEVENT
BEGIN:VEVENT
UID:sabre-vobject-4f14e9fa-9571-438e-9bdc-69027adc62ed
DTSTAMP:20260424T100454Z
SUMMARY:SFRG Command Family Readiness Representative Training - HYBRID
DESCRIPTION:Learn about the roles of the CFRR.&nbsp\;\n
X-ALT-DESC:FMTTYPE=text/html:<!DOCTYPE HTML PUBLIC "-//W3C//DTD HTML 3.2//E
 N"><HTML><p>Learn about the roles of the CFRR.&nbsp\;</p>\n</HTML>
CREATED;TZID=Europe/Oslo:20231017T112435
URL;VALUE=URI:https://baumholder.armymwr.com/calendar/event
DTSTART;TZID=Europe/Oslo:20230406T100000
DTEND;TZID=Europe/Oslo:20230406T120000
SEQUENCE:7
END:VEVENT
BEGIN:VEVENT
UID:sabre-vobject-8d71bd88-ce5b-4a33-91ca-017ba0c92a98
DTSTAMP:20260424T100454Z
SUMMARY:SFRG Command Family Readiness Representative Training - HYBRID
DESCRIPTION:Learn about the roles of the CFRR.&nbsp\;\n
X-ALT-DESC:FMTTYPE=text/html:<!DOCTYPE HTML PUBLIC "-//W3C//DTD HTML 3.2//E
 N"><HTML><p>Learn about the roles of the CFRR.&nbsp\;</p>\n</HTML>
CREATED;TZID=Europe/Oslo:20231017T112435
URL;VALUE=URI:https://baumholder.armymwr.com/calendar/event
DTSTART;TZID=Europe/Oslo:20230601T100000
DTEND;TZID=Europe/Oslo:20230601T120000
SEQUENCE:8
END:VEVENT
BEGIN:VEVENT
UID:sabre-vobject-c0859061-3053-4d17-9b41-ca187bdb0c18
DTSTAMP:20260424T100454Z
SUMMARY:SFRG Command Family Readiness Representative Training - HYBRID
DESCRIPTION:Learn about the roles of the CFRR.&nbsp\;\n
X-ALT-DESC:FMTTYPE=text/html:<!DOCTYPE HTML PUBLIC "-//W3C//DTD HTML 3.2//E
 N"><HTML><p>Learn about the roles of the CFRR.&nbsp\;</p>\n</HTML>
CREATED;TZID=Europe/Oslo:20231017T112435
URL;VALUE=URI:https://baumholder.armymwr.com/calendar/event
DTSTART;TZID=Europe/Oslo:20230706T100000
DTEND;TZID=Europe/Oslo:20230706T120000
SEQUENCE:9
END:VEVENT
BEGIN:VEVENT
UID:sabre-vobject-4a3fcc3b-d3f7-4838-9875-83e35048c22a
DTSTAMP:20260424T100454Z
SUMMARY:SFRG Command Family Readiness Representative Training - HYBRID
DESCRIPTION:Learn about the roles of the CFRR.&nbsp\;\n
X-ALT-DESC:FMTTYPE=text/html:<!DOCTYPE HTML PUBLIC "-//W3C//DTD HTML 3.2//E
 N"><HTML><p>Learn about the roles of the CFRR.&nbsp\;</p>\n</HTML>
CREATED;TZID=Europe/Oslo:20231017T112435
URL;VALUE=URI:https://baumholder.armymwr.com/calendar/event
DTSTART;TZID=Europe/Oslo:20230803T100000
DTEND;TZID=Europe/Oslo:20230803T120000
SEQUENCE:10
END:VEVENT
BEGIN:VEVENT
UID:sabre-vobject-5da5a6fd-93cc-4681-bea6-c248778af787
DTSTAMP:20260424T100454Z
SUMMARY:SFRG Command Family Readiness Representative Training - HYBRID
DESCRIPTION:Learn about the roles of the CFRR.&nbsp\;\n
X-ALT-DESC:FMTTYPE=text/html:<!DOCTYPE HTML PUBLIC "-//W3C//DTD HTML 3.2//E
 N"><HTML><p>Learn about the roles of the CFRR.&nbsp\;</p>\n</HTML>
CREATED;TZID=Europe/Oslo:20231017T112435
URL;VALUE=URI:https://baumholder.armymwr.com/calendar/event
DTSTART;TZID=Europe/Oslo:20230907T100000
DTEND;TZID=Europe/Oslo:20230907T120000
SEQUENCE:11
END:VEVENT
BEGIN:VEVENT
UID:sabre-vobject-29bc5084-8029-4734-b2bf-367c6d847566
DTSTAMP:20260424T100454Z
SUMMARY:SFRG Command Family Readiness Representative Training - HYBRID
DESCRIPTION:Learn about the roles of the CFRR.&nbsp\;\n
X-ALT-DESC:FMTTYPE=text/html:<!DOCTYPE HTML PUBLIC "-//W3C//DTD HTML 3.2//E
 N"><HTML><p>Learn about the roles of the CFRR.&nbsp\;</p>\n</HTML>
CREATED;TZID=Europe/Oslo:20231017T112435
URL;VALUE=URI:https://baumholder.armymwr.com/calendar/event
DTSTART;TZID=Europe/Oslo:20231005T100000
DTEND;TZID=Europe/Oslo:20231005T120000
SEQUENCE:12
END:VEVENT
BEGIN:VEVENT
UID:sabre-vobject-4ecb9bf2-2428-4155-a8ef-434ef8026a08
DTSTAMP:20260424T100454Z
SUMMARY:SFRG Command Family Readiness Representative Training - HYBRID
DESCRIPTION:Learn about the roles of the CFRR.&nbsp\;\n
X-ALT-DESC:FMTTYPE=text/html:<!DOCTYPE HTML PUBLIC "-//W3C//DTD HTML 3.2//E
 N"><HTML><p>Learn about the roles of the CFRR.&nbsp\;</p>\n</HTML>
CREATED;TZID=Europe/Oslo:20231017T112435
URL;VALUE=URI:https://baumholder.armymwr.com/calendar/event
DTSTART;TZID=Europe/Oslo:20231102T100000
DTEND;TZID=Europe/Oslo:20231102T120000
SEQUENCE:13
END:VEVENT
END:VCALENDAR
