BEGIN:VCALENDAR
VERSION:2.0
PRODID:-//Sabre//Sabre VObject 4.5.8//EN
CALSCALE:GREGORIAN
BEGIN:VEVENT
UID:sabre-vobject-c0c6b473-af71-4389-a438-375ea8c0d96b
DTSTAMP:20260424T011115Z
SUMMARY:USA Jobs Tutorial (HYBRID)
DESCRIPTION:Are you looking for a government job? ACS can help you understa
 nd the process of applying for open positions available on USA Jobs.\n
X-ALT-DESC:FMTTYPE=text/html:<!DOCTYPE HTML PUBLIC "-//W3C//DTD HTML 3.2//E
 N"><HTML><p>Are you looking for a government job? ACS can help you underst
 and the process of applying for open positions available on USA Jobs.</p>\
 n</HTML>
CREATED;TZID=Europe/Oslo:20231017T141044
URL;VALUE=URI:https://baumholder.armymwr.com/calendar/event
DTSTART;TZID=Europe/Oslo:20220614T093000
DTEND;TZID=Europe/Oslo:20220614T113000
SEQUENCE:0
END:VEVENT
BEGIN:VEVENT
UID:sabre-vobject-b23bc46f-84e9-4344-85fa-e7061c084111
DTSTAMP:20260424T011115Z
SUMMARY:USA Jobs Tutorial (HYBRID)
DESCRIPTION:Are you looking for a government job? ACS can help you understa
 nd the process of applying for open positions available on USA Jobs.\n
X-ALT-DESC:FMTTYPE=text/html:<!DOCTYPE HTML PUBLIC "-//W3C//DTD HTML 3.2//E
 N"><HTML><p>Are you looking for a government job? ACS can help you underst
 and the process of applying for open positions available on USA Jobs.</p>\
 n</HTML>
CREATED;TZID=Europe/Oslo:20231017T141044
URL;VALUE=URI:https://baumholder.armymwr.com/calendar/event
DTSTART;TZID=Europe/Oslo:20220712T093000
DTEND;TZID=Europe/Oslo:20220712T113000
SEQUENCE:1
END:VEVENT
BEGIN:VEVENT
UID:sabre-vobject-8aac7ea8-444e-49ee-90f3-f6a8a9b49078
DTSTAMP:20260424T011115Z
SUMMARY:USA Jobs Tutorial (HYBRID)
DESCRIPTION:Are you looking for a government job? ACS can help you understa
 nd the process of applying for open positions available on USA Jobs.\n
X-ALT-DESC:FMTTYPE=text/html:<!DOCTYPE HTML PUBLIC "-//W3C//DTD HTML 3.2//E
 N"><HTML><p>Are you looking for a government job? ACS can help you underst
 and the process of applying for open positions available on USA Jobs.</p>\
 n</HTML>
CREATED;TZID=Europe/Oslo:20231017T141044
URL;VALUE=URI:https://baumholder.armymwr.com/calendar/event
DTSTART;TZID=Europe/Oslo:20220809T093000
DTEND;TZID=Europe/Oslo:20220809T113000
SEQUENCE:2
END:VEVENT
BEGIN:VEVENT
UID:sabre-vobject-01f2bdd9-f7cd-47e5-8bfa-743e4ad35c40
DTSTAMP:20260424T011115Z
SUMMARY:USA Jobs Tutorial (HYBRID)
DESCRIPTION:Are you looking for a government job? ACS can help you understa
 nd the process of applying for open positions available on USA Jobs.\n
X-ALT-DESC:FMTTYPE=text/html:<!DOCTYPE HTML PUBLIC "-//W3C//DTD HTML 3.2//E
 N"><HTML><p>Are you looking for a government job? ACS can help you underst
 and the process of applying for open positions available on USA Jobs.</p>\
 n</HTML>
CREATED;TZID=Europe/Oslo:20231017T141044
URL;VALUE=URI:https://baumholder.armymwr.com/calendar/event
DTSTART;TZID=Europe/Oslo:20220906T093000
DTEND;TZID=Europe/Oslo:20220906T113000
SEQUENCE:3
END:VEVENT
BEGIN:VEVENT
UID:sabre-vobject-4e8626f8-ede8-4018-8aa4-26097632b398
DTSTAMP:20260424T011115Z
SUMMARY:USA Jobs Tutorial (HYBRID)
DESCRIPTION:Are you looking for a government job? ACS can help you understa
 nd the process of applying for open positions available on USA Jobs.\n
X-ALT-DESC:FMTTYPE=text/html:<!DOCTYPE HTML PUBLIC "-//W3C//DTD HTML 3.2//E
 N"><HTML><p>Are you looking for a government job? ACS can help you underst
 and the process of applying for open positions available on USA Jobs.</p>\
 n</HTML>
CREATED;TZID=Europe/Oslo:20231017T141044
URL;VALUE=URI:https://baumholder.armymwr.com/calendar/event
DTSTART;TZID=Europe/Oslo:20221004T093000
DTEND;TZID=Europe/Oslo:20221004T113000
SEQUENCE:4
END:VEVENT
BEGIN:VEVENT
UID:sabre-vobject-e8824de4-14b8-49dd-822e-5babc0b85b6e
DTSTAMP:20260424T011115Z
SUMMARY:USA Jobs Tutorial (HYBRID)
DESCRIPTION:Are you looking for a government job? ACS can help you understa
 nd the process of applying for open positions available on USA Jobs.\n
X-ALT-DESC:FMTTYPE=text/html:<!DOCTYPE HTML PUBLIC "-//W3C//DTD HTML 3.2//E
 N"><HTML><p>Are you looking for a government job? ACS can help you underst
 and the process of applying for open positions available on USA Jobs.</p>\
 n</HTML>
CREATED;TZID=Europe/Oslo:20231017T141044
URL;VALUE=URI:https://baumholder.armymwr.com/calendar/event
DTSTART;TZID=Europe/Oslo:20221101T093000
DTEND;TZID=Europe/Oslo:20221101T113000
SEQUENCE:5
END:VEVENT
BEGIN:VEVENT
UID:sabre-vobject-e672130b-c240-4915-9b64-673fb604221d
DTSTAMP:20260424T011115Z
SUMMARY:USA Jobs Tutorial (HYBRID)
DESCRIPTION:Are you looking for a government job? ACS can help you understa
 nd the process of applying for open positions available on USA Jobs.\n
X-ALT-DESC:FMTTYPE=text/html:<!DOCTYPE HTML PUBLIC "-//W3C//DTD HTML 3.2//E
 N"><HTML><p>Are you looking for a government job? ACS can help you underst
 and the process of applying for open positions available on USA Jobs.</p>\
 n</HTML>
CREATED;TZID=Europe/Oslo:20231017T141044
URL;VALUE=URI:https://baumholder.armymwr.com/calendar/event
DTSTART;TZID=Europe/Oslo:20221206T093000
DTEND;TZID=Europe/Oslo:20221206T113000
SEQUENCE:6
END:VEVENT
BEGIN:VEVENT
UID:sabre-vobject-3346fbb5-5c9b-45e2-977c-591ea6afb5bd
DTSTAMP:20260424T011115Z
SUMMARY:USA Jobs Tutorial (HYBRID)
DESCRIPTION:Are you looking for a government job? ACS can help you understa
 nd the process of applying for open positions available on USA Jobs.\n
X-ALT-DESC:FMTTYPE=text/html:<!DOCTYPE HTML PUBLIC "-//W3C//DTD HTML 3.2//E
 N"><HTML><p>Are you looking for a government job? ACS can help you underst
 and the process of applying for open positions available on USA Jobs.</p>\
 n</HTML>
CREATED;TZID=Europe/Oslo:20231017T141044
URL;VALUE=URI:https://baumholder.armymwr.com/calendar/event
DTSTART;TZID=Europe/Oslo:20230103T093000
DTEND;TZID=Europe/Oslo:20230103T113000
SEQUENCE:7
END:VEVENT
BEGIN:VEVENT
UID:sabre-vobject-8e08b8fa-e89a-4e11-8d32-ab0eeb3af6d4
DTSTAMP:20260424T011115Z
SUMMARY:USA Jobs Tutorial (HYBRID)
DESCRIPTION:Are you looking for a government job? ACS can help you understa
 nd the process of applying for open positions available on USA Jobs.\n
X-ALT-DESC:FMTTYPE=text/html:<!DOCTYPE HTML PUBLIC "-//W3C//DTD HTML 3.2//E
 N"><HTML><p>Are you looking for a government job? ACS can help you underst
 and the process of applying for open positions available on USA Jobs.</p>\
 n</HTML>
CREATED;TZID=Europe/Oslo:20231017T141044
URL;VALUE=URI:https://baumholder.armymwr.com/calendar/event
DTSTART;TZID=Europe/Oslo:20230207T093000
DTEND;TZID=Europe/Oslo:20230207T113000
SEQUENCE:8
END:VEVENT
BEGIN:VEVENT
UID:sabre-vobject-aee08ff3-39c8-4b13-baab-25ba974513fd
DTSTAMP:20260424T011115Z
SUMMARY:USA Jobs Tutorial (HYBRID)
DESCRIPTION:Are you looking for a government job? ACS can help you understa
 nd the process of applying for open positions available on USA Jobs.\n
X-ALT-DESC:FMTTYPE=text/html:<!DOCTYPE HTML PUBLIC "-//W3C//DTD HTML 3.2//E
 N"><HTML><p>Are you looking for a government job? ACS can help you underst
 and the process of applying for open positions available on USA Jobs.</p>\
 n</HTML>
CREATED;TZID=Europe/Oslo:20231017T141044
URL;VALUE=URI:https://baumholder.armymwr.com/calendar/event
DTSTART;TZID=Europe/Oslo:20230307T093000
DTEND;TZID=Europe/Oslo:20230307T113000
SEQUENCE:9
END:VEVENT
BEGIN:VEVENT
UID:sabre-vobject-fa47eb08-0ce4-43b9-aa21-1def4bd6f687
DTSTAMP:20260424T011115Z
SUMMARY:USA Jobs Tutorial (HYBRID)
DESCRIPTION:Are you looking for a government job? ACS can help you understa
 nd the process of applying for open positions available on USA Jobs.\n
X-ALT-DESC:FMTTYPE=text/html:<!DOCTYPE HTML PUBLIC "-//W3C//DTD HTML 3.2//E
 N"><HTML><p>Are you looking for a government job? ACS can help you underst
 and the process of applying for open positions available on USA Jobs.</p>\
 n</HTML>
CREATED;TZID=Europe/Oslo:20231017T141044
URL;VALUE=URI:https://baumholder.armymwr.com/calendar/event
DTSTART;TZID=Europe/Oslo:20230404T093000
DTEND;TZID=Europe/Oslo:20230404T113000
SEQUENCE:10
END:VEVENT
BEGIN:VEVENT
UID:sabre-vobject-91940514-27b4-4584-a10a-9855d03aabb9
DTSTAMP:20260424T011115Z
SUMMARY:USA Jobs Tutorial (HYBRID)
DESCRIPTION:Are you looking for a government job? ACS can help you understa
 nd the process of applying for open positions available on USA Jobs.\n
X-ALT-DESC:FMTTYPE=text/html:<!DOCTYPE HTML PUBLIC "-//W3C//DTD HTML 3.2//E
 N"><HTML><p>Are you looking for a government job? ACS can help you underst
 and the process of applying for open positions available on USA Jobs.</p>\
 n</HTML>
CREATED;TZID=Europe/Oslo:20231017T141044
URL;VALUE=URI:https://baumholder.armymwr.com/calendar/event
DTSTART;TZID=Europe/Oslo:20230502T093000
DTEND;TZID=Europe/Oslo:20230502T113000
SEQUENCE:11
END:VEVENT
BEGIN:VEVENT
UID:sabre-vobject-0e4f996e-9168-4dfc-b606-1af7d62236db
DTSTAMP:20260424T011115Z
SUMMARY:USA Jobs Tutorial (HYBRID)
DESCRIPTION:Are you looking for a government job? ACS can help you understa
 nd the process of applying for open positions available on USA Jobs.\n
X-ALT-DESC:FMTTYPE=text/html:<!DOCTYPE HTML PUBLIC "-//W3C//DTD HTML 3.2//E
 N"><HTML><p>Are you looking for a government job? ACS can help you underst
 and the process of applying for open positions available on USA Jobs.</p>\
 n</HTML>
CREATED;TZID=Europe/Oslo:20231017T141044
URL;VALUE=URI:https://baumholder.armymwr.com/calendar/event
DTSTART;TZID=Europe/Oslo:20230606T093000
DTEND;TZID=Europe/Oslo:20230606T113000
SEQUENCE:12
END:VEVENT
BEGIN:VEVENT
UID:sabre-vobject-fda67b33-b218-4e2c-b4c2-d307ee3b9696
DTSTAMP:20260424T011115Z
SUMMARY:USA Jobs Tutorial (HYBRID)
DESCRIPTION:Are you looking for a government job? ACS can help you understa
 nd the process of applying for open positions available on USA Jobs.\n
X-ALT-DESC:FMTTYPE=text/html:<!DOCTYPE HTML PUBLIC "-//W3C//DTD HTML 3.2//E
 N"><HTML><p>Are you looking for a government job? ACS can help you underst
 and the process of applying for open positions available on USA Jobs.</p>\
 n</HTML>
CREATED;TZID=Europe/Oslo:20231017T141044
URL;VALUE=URI:https://baumholder.armymwr.com/calendar/event
DTSTART;TZID=Europe/Oslo:20230705T093000
DTEND;TZID=Europe/Oslo:20230705T113000
SEQUENCE:13
END:VEVENT
BEGIN:VEVENT
UID:sabre-vobject-c1aaedbb-be37-49f0-9ae3-e9a00eb41570
DTSTAMP:20260424T011115Z
SUMMARY:USA Jobs Tutorial (HYBRID)
DESCRIPTION:Are you looking for a government job? ACS can help you understa
 nd the process of applying for open positions available on USA Jobs.\n
X-ALT-DESC:FMTTYPE=text/html:<!DOCTYPE HTML PUBLIC "-//W3C//DTD HTML 3.2//E
 N"><HTML><p>Are you looking for a government job? ACS can help you underst
 and the process of applying for open positions available on USA Jobs.</p>\
 n</HTML>
CREATED;TZID=Europe/Oslo:20231017T141044
URL;VALUE=URI:https://baumholder.armymwr.com/calendar/event
DTSTART;TZID=Europe/Oslo:20230801T093000
DTEND;TZID=Europe/Oslo:20230801T113000
SEQUENCE:14
END:VEVENT
BEGIN:VEVENT
UID:sabre-vobject-f8df1386-bdb8-4581-b44a-4207417f4188
DTSTAMP:20260424T011115Z
SUMMARY:USA Jobs Tutorial (HYBRID)
DESCRIPTION:Are you looking for a government job? ACS can help you understa
 nd the process of applying for open positions available on USA Jobs.\n
X-ALT-DESC:FMTTYPE=text/html:<!DOCTYPE HTML PUBLIC "-//W3C//DTD HTML 3.2//E
 N"><HTML><p>Are you looking for a government job? ACS can help you underst
 and the process of applying for open positions available on USA Jobs.</p>\
 n</HTML>
CREATED;TZID=Europe/Oslo:20231017T141044
URL;VALUE=URI:https://baumholder.armymwr.com/calendar/event
DTSTART;TZID=Europe/Oslo:20230919T093000
DTEND;TZID=Europe/Oslo:20230919T113000
SEQUENCE:15
END:VEVENT
BEGIN:VEVENT
UID:sabre-vobject-030552e7-9c51-4bdf-a9b5-7d098de9e40b
DTSTAMP:20260424T011115Z
SUMMARY:USA Jobs Tutorial (HYBRID)
DESCRIPTION:Are you looking for a government job? ACS can help you understa
 nd the process of applying for open positions available on USA Jobs.\n
X-ALT-DESC:FMTTYPE=text/html:<!DOCTYPE HTML PUBLIC "-//W3C//DTD HTML 3.2//E
 N"><HTML><p>Are you looking for a government job? ACS can help you underst
 and the process of applying for open positions available on USA Jobs.</p>\
 n</HTML>
CREATED;TZID=Europe/Oslo:20231017T141044
URL;VALUE=URI:https://baumholder.armymwr.com/calendar/event
DTSTART;TZID=Europe/Oslo:20231107T093000
DTEND;TZID=Europe/Oslo:20231107T113000
SEQUENCE:16
END:VEVENT
END:VCALENDAR
