BEGIN:VCALENDAR
VERSION:2.0
PRODID:-//Sabre//Sabre VObject 4.5.8//EN
CALSCALE:GREGORIAN
BEGIN:VEVENT
UID:sabre-vobject-0b9bd0e3-62eb-438d-bc1e-f0183b05d7dd
DTSTAMP:20260423T223211Z
SUMMARY:Valkenburg Caves Christmas Market
DESCRIPTION:A fairytale Christmas in Valkenburg\n\nWhere the Christmas mark
 ets are a real experience\, where you can walk endlessly in unique and bea
 utiful winter landscapes\, where Christmas stimulates all your senses\, wh
 ere Christmas lights are enchanting and where you can have endless fun. In
  Valkenburg\, you&rsquo\;ll settle in for a Christmas experience in a magi
 cal atmosphere\, both above ground and underground!\n\nDiscover the nicest
  must do&#39\;s!\n
X-ALT-DESC:FMTTYPE=text/html:<!DOCTYPE HTML PUBLIC "-//W3C//DTD HTML 3.2//E
 N"><HTML><h3>A fairytale Christmas in Valkenburg</h3>\n\n<p>Where the Chri
 stmas markets are a real experience\, where you can walk endlessly in uniq
 ue and beautiful winter landscapes\, where Christmas stimulates all your s
 enses\, where Christmas lights are enchanting and where you can have endle
 ss fun. In Valkenburg\, you&rsquo\;ll settle in for a Christmas experience
  in a magical atmosphere\, both above ground and underground!</p>\n\n<p><a
  href="https://www.christmastownvalkenburg.com/to-do/" target="_self">Disc
 over the nicest must do&#39\;s!</a></p>\n</HTML>
CREATED;TZID=Europe/Oslo:20251017T105215
URL;VALUE=URI:https://baumholder.armymwr.com/calendar/event
DTSTART;TZID=Europe/Oslo:20221203T090000
DTEND;TZID=Europe/Oslo:20221203T230000
SEQUENCE:0
END:VEVENT
BEGIN:VEVENT
UID:sabre-vobject-2341023c-b387-4f31-99aa-5ed05dcd68bd
DTSTAMP:20260423T223211Z
SUMMARY:Valkenburg Caves Christmas Market
DESCRIPTION:A fairytale Christmas in Valkenburg\n\nWhere the Christmas mark
 ets are a real experience\, where you can walk endlessly in unique and bea
 utiful winter landscapes\, where Christmas stimulates all your senses\, wh
 ere Christmas lights are enchanting and where you can have endless fun. In
  Valkenburg\, you&rsquo\;ll settle in for a Christmas experience in a magi
 cal atmosphere\, both above ground and underground!\n\nDiscover the nicest
  must do&#39\;s!\n
X-ALT-DESC:FMTTYPE=text/html:<!DOCTYPE HTML PUBLIC "-//W3C//DTD HTML 3.2//E
 N"><HTML><h3>A fairytale Christmas in Valkenburg</h3>\n\n<p>Where the Chri
 stmas markets are a real experience\, where you can walk endlessly in uniq
 ue and beautiful winter landscapes\, where Christmas stimulates all your s
 enses\, where Christmas lights are enchanting and where you can have endle
 ss fun. In Valkenburg\, you&rsquo\;ll settle in for a Christmas experience
  in a magical atmosphere\, both above ground and underground!</p>\n\n<p><a
  href="https://www.christmastownvalkenburg.com/to-do/" target="_self">Disc
 over the nicest must do&#39\;s!</a></p>\n</HTML>
CREATED;TZID=Europe/Oslo:20251017T105215
URL;VALUE=URI:https://baumholder.armymwr.com/calendar/event
DTSTART;TZID=Europe/Oslo:20231118T070000
DTEND;TZID=Europe/Oslo:20231118T230000
SEQUENCE:1
END:VEVENT
BEGIN:VEVENT
UID:sabre-vobject-771f5f8e-6f1d-4d09-808a-bf87636fcc35
DTSTAMP:20260423T223211Z
SUMMARY:Valkenburg Caves Christmas Market
DESCRIPTION:A fairytale Christmas in Valkenburg\n\nWhere the Christmas mark
 ets are a real experience\, where you can walk endlessly in unique and bea
 utiful winter landscapes\, where Christmas stimulates all your senses\, wh
 ere Christmas lights are enchanting and where you can have endless fun. In
  Valkenburg\, you&rsquo\;ll settle in for a Christmas experience in a magi
 cal atmosphere\, both above ground and underground!\n\nDiscover the nicest
  must do&#39\;s!\n
X-ALT-DESC:FMTTYPE=text/html:<!DOCTYPE HTML PUBLIC "-//W3C//DTD HTML 3.2//E
 N"><HTML><h3>A fairytale Christmas in Valkenburg</h3>\n\n<p>Where the Chri
 stmas markets are a real experience\, where you can walk endlessly in uniq
 ue and beautiful winter landscapes\, where Christmas stimulates all your s
 enses\, where Christmas lights are enchanting and where you can have endle
 ss fun. In Valkenburg\, you&rsquo\;ll settle in for a Christmas experience
  in a magical atmosphere\, both above ground and underground!</p>\n\n<p><a
  href="https://www.christmastownvalkenburg.com/to-do/" target="_self">Disc
 over the nicest must do&#39\;s!</a></p>\n</HTML>
CREATED;TZID=Europe/Oslo:20251017T105215
URL;VALUE=URI:https://baumholder.armymwr.com/calendar/event
DTSTART;TZID=Europe/Oslo:20241116T163000
DTEND;TZID=Europe/Oslo:20241116T173000
SEQUENCE:2
END:VEVENT
BEGIN:VEVENT
UID:sabre-vobject-669a76d1-c0aa-4c24-97a2-e7aecb71d53c
DTSTAMP:20260423T223211Z
SUMMARY:Valkenburg Caves Christmas Market
DESCRIPTION:A fairytale Christmas in Valkenburg\n\nWhere the Christmas mark
 ets are a real experience\, where you can walk endlessly in unique and bea
 utiful winter landscapes\, where Christmas stimulates all your senses\, wh
 ere Christmas lights are enchanting and where you can have endless fun. In
  Valkenburg\, you&rsquo\;ll settle in for a Christmas experience in a magi
 cal atmosphere\, both above ground and underground!\n\nDiscover the nicest
  must do&#39\;s!\n
X-ALT-DESC:FMTTYPE=text/html:<!DOCTYPE HTML PUBLIC "-//W3C//DTD HTML 3.2//E
 N"><HTML><h3>A fairytale Christmas in Valkenburg</h3>\n\n<p>Where the Chri
 stmas markets are a real experience\, where you can walk endlessly in uniq
 ue and beautiful winter landscapes\, where Christmas stimulates all your s
 enses\, where Christmas lights are enchanting and where you can have endle
 ss fun. In Valkenburg\, you&rsquo\;ll settle in for a Christmas experience
  in a magical atmosphere\, both above ground and underground!</p>\n\n<p><a
  href="https://www.christmastownvalkenburg.com/to-do/" target="_self">Disc
 over the nicest must do&#39\;s!</a></p>\n</HTML>
CREATED;TZID=Europe/Oslo:20251017T105215
URL;VALUE=URI:https://baumholder.armymwr.com/calendar/event
DTSTART;TZID=Europe/Oslo:20251115T070000
DTEND;TZID=Europe/Oslo:20251115T230000
SEQUENCE:3
END:VEVENT
END:VCALENDAR
