BEGIN:VCALENDAR
VERSION:2.0
PRODID:-//Sabre//Sabre VObject 4.5.8//EN
CALSCALE:GREGORIAN
BEGIN:VEVENT
UID:sabre-vobject-183172c6-a006-4c25-9340-811383a44732
DTSTAMP:20260423T063529Z
SUMMARY:Post-Deployment (Financial Readiness) HYBRID
DESCRIPTION:Deployment puts a strain on personal and household finances. Le
 t&#39\;s teach you how to make your reunification seamless and easier on t
 he wallet. Learn how to transition your finances.&nbsp\;\n
X-ALT-DESC:FMTTYPE=text/html:<!DOCTYPE HTML PUBLIC "-//W3C//DTD HTML 3.2//E
 N"><HTML><p>Deployment puts a strain on personal and household finances. L
 et&#39\;s teach you how to make your reunification seamless and easier on 
 the wallet. Learn how to transition your finances.&nbsp\;</p>\n</HTML>
CREATED;TZID=Europe/Oslo:20240730T160646
URL;VALUE=URI:https://baumholder.armymwr.com/calendar/event
DTSTART;TZID=Europe/Oslo:20221117T090000
DTEND;TZID=Europe/Oslo:20221117T103000
SEQUENCE:0
END:VEVENT
BEGIN:VEVENT
UID:sabre-vobject-e893ccf1-5491-438b-b70d-04c5e5493d62
DTSTAMP:20260423T063529Z
SUMMARY:Post-Deployment (Financial Readiness) HYBRID
DESCRIPTION:Deployment puts a strain on personal and household finances. Le
 t&#39\;s teach you how to make your reunification seamless and easier on t
 he wallet. Learn how to transition your finances.&nbsp\;\n
X-ALT-DESC:FMTTYPE=text/html:<!DOCTYPE HTML PUBLIC "-//W3C//DTD HTML 3.2//E
 N"><HTML><p>Deployment puts a strain on personal and household finances. L
 et&#39\;s teach you how to make your reunification seamless and easier on 
 the wallet. Learn how to transition your finances.&nbsp\;</p>\n</HTML>
CREATED;TZID=Europe/Oslo:20240730T160646
URL;VALUE=URI:https://baumholder.armymwr.com/calendar/event
DTSTART;TZID=Europe/Oslo:20230118T090000
DTEND;TZID=Europe/Oslo:20230118T103000
SEQUENCE:1
END:VEVENT
BEGIN:VEVENT
UID:sabre-vobject-630c647b-7a08-4f27-8fdd-e9baf64facc3
DTSTAMP:20260423T063529Z
SUMMARY:Post-Deployment (Financial Readiness) HYBRID
DESCRIPTION:Deployment puts a strain on personal and household finances. Le
 t&#39\;s teach you how to make your reunification seamless and easier on t
 he wallet. Learn how to transition your finances.&nbsp\;\n
X-ALT-DESC:FMTTYPE=text/html:<!DOCTYPE HTML PUBLIC "-//W3C//DTD HTML 3.2//E
 N"><HTML><p>Deployment puts a strain on personal and household finances. L
 et&#39\;s teach you how to make your reunification seamless and easier on 
 the wallet. Learn how to transition your finances.&nbsp\;</p>\n</HTML>
CREATED;TZID=Europe/Oslo:20240730T160646
URL;VALUE=URI:https://baumholder.armymwr.com/calendar/event
DTSTART;TZID=Europe/Oslo:20230324T090000
DTEND;TZID=Europe/Oslo:20230324T103000
SEQUENCE:2
END:VEVENT
BEGIN:VEVENT
UID:sabre-vobject-bc212777-7e1b-4439-ade7-1920a946c093
DTSTAMP:20260423T063529Z
SUMMARY:Post-Deployment (Financial Readiness) HYBRID
DESCRIPTION:Deployment puts a strain on personal and household finances. Le
 t&#39\;s teach you how to make your reunification seamless and easier on t
 he wallet. Learn how to transition your finances.&nbsp\;\n
X-ALT-DESC:FMTTYPE=text/html:<!DOCTYPE HTML PUBLIC "-//W3C//DTD HTML 3.2//E
 N"><HTML><p>Deployment puts a strain on personal and household finances. L
 et&#39\;s teach you how to make your reunification seamless and easier on 
 the wallet. Learn how to transition your finances.&nbsp\;</p>\n</HTML>
CREATED;TZID=Europe/Oslo:20240730T160646
URL;VALUE=URI:https://baumholder.armymwr.com/calendar/event
DTSTART;TZID=Europe/Oslo:20230517T090000
DTEND;TZID=Europe/Oslo:20230517T103000
SEQUENCE:3
END:VEVENT
BEGIN:VEVENT
UID:sabre-vobject-4132d654-60c8-47f5-9767-0ac13d946e7a
DTSTAMP:20260423T063529Z
SUMMARY:Post-Deployment (Financial Readiness) HYBRID
DESCRIPTION:Deployment puts a strain on personal and household finances. Le
 t&#39\;s teach you how to make your reunification seamless and easier on t
 he wallet. Learn how to transition your finances.&nbsp\;\n
X-ALT-DESC:FMTTYPE=text/html:<!DOCTYPE HTML PUBLIC "-//W3C//DTD HTML 3.2//E
 N"><HTML><p>Deployment puts a strain on personal and household finances. L
 et&#39\;s teach you how to make your reunification seamless and easier on 
 the wallet. Learn how to transition your finances.&nbsp\;</p>\n</HTML>
CREATED;TZID=Europe/Oslo:20240730T160646
URL;VALUE=URI:https://baumholder.armymwr.com/calendar/event
DTSTART;TZID=Europe/Oslo:20230817T090000
DTEND;TZID=Europe/Oslo:20230817T103000
SEQUENCE:4
END:VEVENT
BEGIN:VEVENT
UID:sabre-vobject-3ae656b6-09e1-4c43-a7a7-e83062b95168
DTSTAMP:20260423T063529Z
SUMMARY:Post-Deployment (Financial Readiness) HYBRID
DESCRIPTION:Deployment puts a strain on personal and household finances. Le
 t&#39\;s teach you how to make your reunification seamless and easier on t
 he wallet. Learn how to transition your finances.&nbsp\;\n
X-ALT-DESC:FMTTYPE=text/html:<!DOCTYPE HTML PUBLIC "-//W3C//DTD HTML 3.2//E
 N"><HTML><p>Deployment puts a strain on personal and household finances. L
 et&#39\;s teach you how to make your reunification seamless and easier on 
 the wallet. Learn how to transition your finances.&nbsp\;</p>\n</HTML>
CREATED;TZID=Europe/Oslo:20240730T160646
URL;VALUE=URI:https://baumholder.armymwr.com/calendar/event
DTSTART;TZID=Europe/Oslo:20231122T090000
DTEND;TZID=Europe/Oslo:20231122T103000
SEQUENCE:5
END:VEVENT
BEGIN:VEVENT
UID:sabre-vobject-cf88e200-3bd4-4241-a66f-30e235ba160c
DTSTAMP:20260423T063529Z
SUMMARY:Post-Deployment (Financial Readiness) HYBRID
DESCRIPTION:Deployment puts a strain on personal and household finances. Le
 t&#39\;s teach you how to make your reunification seamless and easier on t
 he wallet. Learn how to transition your finances.&nbsp\;\n
X-ALT-DESC:FMTTYPE=text/html:<!DOCTYPE HTML PUBLIC "-//W3C//DTD HTML 3.2//E
 N"><HTML><p>Deployment puts a strain on personal and household finances. L
 et&#39\;s teach you how to make your reunification seamless and easier on 
 the wallet. Learn how to transition your finances.&nbsp\;</p>\n</HTML>
CREATED;TZID=Europe/Oslo:20240730T160646
URL;VALUE=URI:https://baumholder.armymwr.com/calendar/event
DTSTART;TZID=Europe/Oslo:20240807T090000
DTEND;TZID=Europe/Oslo:20240807T103000
SEQUENCE:6
END:VEVENT
END:VCALENDAR
