BEGIN:VCALENDAR
VERSION:2.0
PRODID:-//Sabre//Sabre VObject 4.5.8//EN
CALSCALE:GREGORIAN
BEGIN:VEVENT
UID:sabre-vobject-ef2f30df-38db-4d61-adb5-d3bc9414a461
DTSTAMP:20260420T091939Z
SUMMARY:German Level 2 
DESCRIPTION:Take advantage of this free opportunity to learn German with AC
 S!\n
X-ALT-DESC:FMTTYPE=text/html:<!DOCTYPE HTML PUBLIC "-//W3C//DTD HTML 3.2//E
 N"><HTML><p>Take advantage of this free opportunity to learn German with A
 CS!</p>\n</HTML>
CREATED;TZID=Europe/Oslo:20231002T114646
URL;VALUE=URI:https://baumholder.armymwr.com/calendar/event
DTSTART;TZID=Europe/Oslo:20220602T134500
DTEND;TZID=Europe/Oslo:20220602T151500
SEQUENCE:0
END:VEVENT
BEGIN:VEVENT
UID:sabre-vobject-281cfd33-b758-4f0c-a1ef-225135948a5c
DTSTAMP:20260420T091939Z
SUMMARY:German Level 2 
DESCRIPTION:Take advantage of this free opportunity to learn German with AC
 S!\n
X-ALT-DESC:FMTTYPE=text/html:<!DOCTYPE HTML PUBLIC "-//W3C//DTD HTML 3.2//E
 N"><HTML><p>Take advantage of this free opportunity to learn German with A
 CS!</p>\n</HTML>
CREATED;TZID=Europe/Oslo:20231002T114646
URL;VALUE=URI:https://baumholder.armymwr.com/calendar/event
DTSTART;TZID=Europe/Oslo:20220602T180000
DTEND;TZID=Europe/Oslo:20220602T193000
SEQUENCE:1
END:VEVENT
BEGIN:VEVENT
UID:sabre-vobject-992c153b-2e80-478c-a273-cb5e28abad7a
DTSTAMP:20260420T091939Z
SUMMARY:German Level 2 
DESCRIPTION:Take advantage of this free opportunity to learn German with AC
 S!\n
X-ALT-DESC:FMTTYPE=text/html:<!DOCTYPE HTML PUBLIC "-//W3C//DTD HTML 3.2//E
 N"><HTML><p>Take advantage of this free opportunity to learn German with A
 CS!</p>\n</HTML>
CREATED;TZID=Europe/Oslo:20231002T114646
URL;VALUE=URI:https://baumholder.armymwr.com/calendar/event
DTSTART;TZID=Europe/Oslo:20220601T134500
DTEND;TZID=Europe/Oslo:20220601T151500
SEQUENCE:2
END:VEVENT
BEGIN:VEVENT
UID:sabre-vobject-b822efb2-0fe4-404d-b714-f1c2f89da18a
DTSTAMP:20260420T091939Z
SUMMARY:German Level 2 
DESCRIPTION:Take advantage of this free opportunity to learn German with AC
 S!\n
X-ALT-DESC:FMTTYPE=text/html:<!DOCTYPE HTML PUBLIC "-//W3C//DTD HTML 3.2//E
 N"><HTML><p>Take advantage of this free opportunity to learn German with A
 CS!</p>\n</HTML>
CREATED;TZID=Europe/Oslo:20231002T114646
URL;VALUE=URI:https://baumholder.armymwr.com/calendar/event
DTSTART;TZID=Europe/Oslo:20221006T180000
DTEND;TZID=Europe/Oslo:20221006T193000
SEQUENCE:3
END:VEVENT
BEGIN:VEVENT
UID:sabre-vobject-5b92c005-e831-46db-b860-302e3fc25e87
DTSTAMP:20260420T091939Z
SUMMARY:German Level 2 
DESCRIPTION:Take advantage of this free opportunity to learn German with AC
 S!\n
X-ALT-DESC:FMTTYPE=text/html:<!DOCTYPE HTML PUBLIC "-//W3C//DTD HTML 3.2//E
 N"><HTML><p>Take advantage of this free opportunity to learn German with A
 CS!</p>\n</HTML>
CREATED;TZID=Europe/Oslo:20231002T114646
URL;VALUE=URI:https://baumholder.armymwr.com/calendar/event
DTSTART;TZID=Europe/Oslo:20221102T134500
DTEND;TZID=Europe/Oslo:20221102T151500
SEQUENCE:4
END:VEVENT
BEGIN:VEVENT
UID:sabre-vobject-965e13b0-bdeb-4356-b3e1-89f0c8b9f12b
DTSTAMP:20260420T091939Z
SUMMARY:German Level 2 
DESCRIPTION:Take advantage of this free opportunity to learn German with AC
 S!\n
X-ALT-DESC:FMTTYPE=text/html:<!DOCTYPE HTML PUBLIC "-//W3C//DTD HTML 3.2//E
 N"><HTML><p>Take advantage of this free opportunity to learn German with A
 CS!</p>\n</HTML>
CREATED;TZID=Europe/Oslo:20231002T114646
URL;VALUE=URI:https://baumholder.armymwr.com/calendar/event
DTSTART;TZID=Europe/Oslo:20221103T134500
DTEND;TZID=Europe/Oslo:20221103T151500
SEQUENCE:5
END:VEVENT
BEGIN:VEVENT
UID:sabre-vobject-77ca5107-89ea-4d60-8ae6-a06dc97b0485
DTSTAMP:20260420T091939Z
SUMMARY:German Level 2 
DESCRIPTION:Take advantage of this free opportunity to learn German with AC
 S!\n
X-ALT-DESC:FMTTYPE=text/html:<!DOCTYPE HTML PUBLIC "-//W3C//DTD HTML 3.2//E
 N"><HTML><p>Take advantage of this free opportunity to learn German with A
 CS!</p>\n</HTML>
CREATED;TZID=Europe/Oslo:20231002T114646
URL;VALUE=URI:https://baumholder.armymwr.com/calendar/event
DTSTART;TZID=Europe/Oslo:20221103T180000
DTEND;TZID=Europe/Oslo:20221103T193000
SEQUENCE:6
END:VEVENT
BEGIN:VEVENT
UID:sabre-vobject-c46ef463-0434-4f97-8b8d-441f85ce34ad
DTSTAMP:20260420T091939Z
SUMMARY:German Level 2 
DESCRIPTION:Take advantage of this free opportunity to learn German with AC
 S!\n
X-ALT-DESC:FMTTYPE=text/html:<!DOCTYPE HTML PUBLIC "-//W3C//DTD HTML 3.2//E
 N"><HTML><p>Take advantage of this free opportunity to learn German with A
 CS!</p>\n</HTML>
CREATED;TZID=Europe/Oslo:20231002T114646
URL;VALUE=URI:https://baumholder.armymwr.com/calendar/event
DTSTART;TZID=Europe/Oslo:20221201T134500
DTEND;TZID=Europe/Oslo:20221201T151500
SEQUENCE:7
END:VEVENT
BEGIN:VEVENT
UID:sabre-vobject-ce6f7860-0b7c-4302-b23e-f4abdc3bd4c0
DTSTAMP:20260420T091939Z
SUMMARY:German Level 2 
DESCRIPTION:Take advantage of this free opportunity to learn German with AC
 S!\n
X-ALT-DESC:FMTTYPE=text/html:<!DOCTYPE HTML PUBLIC "-//W3C//DTD HTML 3.2//E
 N"><HTML><p>Take advantage of this free opportunity to learn German with A
 CS!</p>\n</HTML>
CREATED;TZID=Europe/Oslo:20231002T114646
URL;VALUE=URI:https://baumholder.armymwr.com/calendar/event
DTSTART;TZID=Europe/Oslo:20221201T180000
DTEND;TZID=Europe/Oslo:20221201T193000
SEQUENCE:8
END:VEVENT
BEGIN:VEVENT
UID:sabre-vobject-8f98e12c-18bf-4f21-b37d-eca417d6d4b5
DTSTAMP:20260420T091939Z
SUMMARY:German Level 2 
DESCRIPTION:Take advantage of this free opportunity to learn German with AC
 S!\n
X-ALT-DESC:FMTTYPE=text/html:<!DOCTYPE HTML PUBLIC "-//W3C//DTD HTML 3.2//E
 N"><HTML><p>Take advantage of this free opportunity to learn German with A
 CS!</p>\n</HTML>
CREATED;TZID=Europe/Oslo:20231002T114646
URL;VALUE=URI:https://baumholder.armymwr.com/calendar/event
DTSTART;TZID=Europe/Oslo:20221207T134500
DTEND;TZID=Europe/Oslo:20221207T151500
SEQUENCE:9
END:VEVENT
BEGIN:VEVENT
UID:sabre-vobject-7cb8e48b-04f4-4f72-98b0-ff6e2b5b9ac4
DTSTAMP:20260420T091939Z
SUMMARY:German Level 2 
DESCRIPTION:Take advantage of this free opportunity to learn German with AC
 S!\n
X-ALT-DESC:FMTTYPE=text/html:<!DOCTYPE HTML PUBLIC "-//W3C//DTD HTML 3.2//E
 N"><HTML><p>Take advantage of this free opportunity to learn German with A
 CS!</p>\n</HTML>
CREATED;TZID=Europe/Oslo:20231002T114646
URL;VALUE=URI:https://baumholder.armymwr.com/calendar/event
DTSTART;TZID=Europe/Oslo:20230104T134500
DTEND;TZID=Europe/Oslo:20230104T151500
SEQUENCE:10
END:VEVENT
BEGIN:VEVENT
UID:sabre-vobject-6f7edc3a-c5b5-41bd-93df-ffec856eb3dc
DTSTAMP:20260420T091939Z
SUMMARY:German Level 2 
DESCRIPTION:Take advantage of this free opportunity to learn German with AC
 S!\n
X-ALT-DESC:FMTTYPE=text/html:<!DOCTYPE HTML PUBLIC "-//W3C//DTD HTML 3.2//E
 N"><HTML><p>Take advantage of this free opportunity to learn German with A
 CS!</p>\n</HTML>
CREATED;TZID=Europe/Oslo:20231002T114646
URL;VALUE=URI:https://baumholder.armymwr.com/calendar/event
DTSTART;TZID=Europe/Oslo:20230105T134500
DTEND;TZID=Europe/Oslo:20230105T151500
SEQUENCE:11
END:VEVENT
BEGIN:VEVENT
UID:sabre-vobject-883b85e6-8732-449d-8128-d9d6ff40e3f0
DTSTAMP:20260420T091939Z
SUMMARY:German Level 2 
DESCRIPTION:Take advantage of this free opportunity to learn German with AC
 S!\n
X-ALT-DESC:FMTTYPE=text/html:<!DOCTYPE HTML PUBLIC "-//W3C//DTD HTML 3.2//E
 N"><HTML><p>Take advantage of this free opportunity to learn German with A
 CS!</p>\n</HTML>
CREATED;TZID=Europe/Oslo:20231002T114646
URL;VALUE=URI:https://baumholder.armymwr.com/calendar/event
DTSTART;TZID=Europe/Oslo:20230105T180000
DTEND;TZID=Europe/Oslo:20230105T193000
SEQUENCE:12
END:VEVENT
BEGIN:VEVENT
UID:sabre-vobject-881a8362-5838-4ea8-8cc9-b4ed98e78aac
DTSTAMP:20260420T091939Z
SUMMARY:German Level 2 
DESCRIPTION:Take advantage of this free opportunity to learn German with AC
 S!\n
X-ALT-DESC:FMTTYPE=text/html:<!DOCTYPE HTML PUBLIC "-//W3C//DTD HTML 3.2//E
 N"><HTML><p>Take advantage of this free opportunity to learn German with A
 CS!</p>\n</HTML>
CREATED;TZID=Europe/Oslo:20231002T114646
URL;VALUE=URI:https://baumholder.armymwr.com/calendar/event
DTSTART;TZID=Europe/Oslo:20230206T140000
DTEND;TZID=Europe/Oslo:20230206T150000
SEQUENCE:13
END:VEVENT
BEGIN:VEVENT
UID:sabre-vobject-df2c5d23-5479-478a-997b-d4abfd06b3f3
DTSTAMP:20260420T091939Z
SUMMARY:German Level 2 
DESCRIPTION:Take advantage of this free opportunity to learn German with AC
 S!\n
X-ALT-DESC:FMTTYPE=text/html:<!DOCTYPE HTML PUBLIC "-//W3C//DTD HTML 3.2//E
 N"><HTML><p>Take advantage of this free opportunity to learn German with A
 CS!</p>\n</HTML>
CREATED;TZID=Europe/Oslo:20231002T114646
URL;VALUE=URI:https://baumholder.armymwr.com/calendar/event
DTSTART;TZID=Europe/Oslo:20230301T134500
DTEND;TZID=Europe/Oslo:20230301T151500
SEQUENCE:14
END:VEVENT
END:VCALENDAR
