BEGIN:VCALENDAR
VERSION:2.0
PRODID:-//Sabre//Sabre VObject 4.5.8//EN
CALSCALE:GREGORIAN
BEGIN:VEVENT
UID:sabre-vobject-b9834406-c61a-43ae-b409-488e54912dd5
DTSTAMP:20260420T114527Z
SUMMARY:German Level 1 
DESCRIPTION:Take advantage of this free opportunity to learn German with AC
 S!\n
X-ALT-DESC:FMTTYPE=text/html:<!DOCTYPE HTML PUBLIC "-//W3C//DTD HTML 3.2//E
 N"><HTML><p>Take advantage of this free opportunity to learn German with A
 CS!</p>\n</HTML>
CREATED;TZID=Europe/Oslo:20231002T101355
URL;VALUE=URI:https://baumholder.armymwr.com/calendar/event
DTSTART;TZID=Europe/Oslo:20220602T120000
DTEND;TZID=Europe/Oslo:20220602T133000
SEQUENCE:0
END:VEVENT
BEGIN:VEVENT
UID:sabre-vobject-a31dc482-ea43-455f-b813-409ec6ecd205
DTSTAMP:20260420T114527Z
SUMMARY:German Level 1 
DESCRIPTION:Take advantage of this free opportunity to learn German with AC
 S!\n
X-ALT-DESC:FMTTYPE=text/html:<!DOCTYPE HTML PUBLIC "-//W3C//DTD HTML 3.2//E
 N"><HTML><p>Take advantage of this free opportunity to learn German with A
 CS!</p>\n</HTML>
CREATED;TZID=Europe/Oslo:20231002T101355
URL;VALUE=URI:https://baumholder.armymwr.com/calendar/event
DTSTART;TZID=Europe/Oslo:20220601T120000
DTEND;TZID=Europe/Oslo:20220601T133000
SEQUENCE:1
END:VEVENT
BEGIN:VEVENT
UID:sabre-vobject-58403dce-d42d-4b0c-8b49-4d500fe892b3
DTSTAMP:20260420T114527Z
SUMMARY:German Level 1 
DESCRIPTION:Take advantage of this free opportunity to learn German with AC
 S!\n
X-ALT-DESC:FMTTYPE=text/html:<!DOCTYPE HTML PUBLIC "-//W3C//DTD HTML 3.2//E
 N"><HTML><p>Take advantage of this free opportunity to learn German with A
 CS!</p>\n</HTML>
CREATED;TZID=Europe/Oslo:20231002T101355
URL;VALUE=URI:https://baumholder.armymwr.com/calendar/event
DTSTART;TZID=Europe/Oslo:20220727T180000
DTEND;TZID=Europe/Oslo:20220727T193000
SEQUENCE:2
END:VEVENT
BEGIN:VEVENT
UID:sabre-vobject-a2e33037-0fc9-4349-94ea-3d5e7102c335
DTSTAMP:20260420T114527Z
SUMMARY:German Level 1 
DESCRIPTION:Take advantage of this free opportunity to learn German with AC
 S!\n
X-ALT-DESC:FMTTYPE=text/html:<!DOCTYPE HTML PUBLIC "-//W3C//DTD HTML 3.2//E
 N"><HTML><p>Take advantage of this free opportunity to learn German with A
 CS!</p>\n</HTML>
CREATED;TZID=Europe/Oslo:20231002T101355
URL;VALUE=URI:https://baumholder.armymwr.com/calendar/event
DTSTART;TZID=Europe/Oslo:20221005T120000
DTEND;TZID=Europe/Oslo:20221005T133000
SEQUENCE:3
END:VEVENT
BEGIN:VEVENT
UID:sabre-vobject-8dc76968-34d8-4946-80ad-b1b10a179b6f
DTSTAMP:20260420T114527Z
SUMMARY:German Level 1 
DESCRIPTION:Take advantage of this free opportunity to learn German with AC
 S!\n
X-ALT-DESC:FMTTYPE=text/html:<!DOCTYPE HTML PUBLIC "-//W3C//DTD HTML 3.2//E
 N"><HTML><p>Take advantage of this free opportunity to learn German with A
 CS!</p>\n</HTML>
CREATED;TZID=Europe/Oslo:20231002T101355
URL;VALUE=URI:https://baumholder.armymwr.com/calendar/event
DTSTART;TZID=Europe/Oslo:20221006T120000
DTEND;TZID=Europe/Oslo:20221006T133000
SEQUENCE:4
END:VEVENT
BEGIN:VEVENT
UID:sabre-vobject-5f8da1e2-d2d6-424f-9fb8-fbcc7b8f2a06
DTSTAMP:20260420T114527Z
SUMMARY:German Level 1 
DESCRIPTION:Take advantage of this free opportunity to learn German with AC
 S!\n
X-ALT-DESC:FMTTYPE=text/html:<!DOCTYPE HTML PUBLIC "-//W3C//DTD HTML 3.2//E
 N"><HTML><p>Take advantage of this free opportunity to learn German with A
 CS!</p>\n</HTML>
CREATED;TZID=Europe/Oslo:20231002T101355
URL;VALUE=URI:https://baumholder.armymwr.com/calendar/event
DTSTART;TZID=Europe/Oslo:20221102T180000
DTEND;TZID=Europe/Oslo:20221102T193000
SEQUENCE:5
END:VEVENT
BEGIN:VEVENT
UID:sabre-vobject-ff72d381-b0c3-401a-a3a0-687aba13de22
DTSTAMP:20260420T114527Z
SUMMARY:German Level 1 
DESCRIPTION:Take advantage of this free opportunity to learn German with AC
 S!\n
X-ALT-DESC:FMTTYPE=text/html:<!DOCTYPE HTML PUBLIC "-//W3C//DTD HTML 3.2//E
 N"><HTML><p>Take advantage of this free opportunity to learn German with A
 CS!</p>\n</HTML>
CREATED;TZID=Europe/Oslo:20231002T101355
URL;VALUE=URI:https://baumholder.armymwr.com/calendar/event
DTSTART;TZID=Europe/Oslo:20221201T120000
DTEND;TZID=Europe/Oslo:20221201T133000
SEQUENCE:6
END:VEVENT
BEGIN:VEVENT
UID:sabre-vobject-5c217347-e4a8-442e-bb14-dafd0bd4108e
DTSTAMP:20260420T114527Z
SUMMARY:German Level 1 
DESCRIPTION:Take advantage of this free opportunity to learn German with AC
 S!\n
X-ALT-DESC:FMTTYPE=text/html:<!DOCTYPE HTML PUBLIC "-//W3C//DTD HTML 3.2//E
 N"><HTML><p>Take advantage of this free opportunity to learn German with A
 CS!</p>\n</HTML>
CREATED;TZID=Europe/Oslo:20231002T101355
URL;VALUE=URI:https://baumholder.armymwr.com/calendar/event
DTSTART;TZID=Europe/Oslo:20221207T120000
DTEND;TZID=Europe/Oslo:20221207T133000
SEQUENCE:7
END:VEVENT
BEGIN:VEVENT
UID:sabre-vobject-2492cc62-0d4f-495f-8c51-0d891574be84
DTSTAMP:20260420T114527Z
SUMMARY:German Level 1 
DESCRIPTION:Take advantage of this free opportunity to learn German with AC
 S!\n
X-ALT-DESC:FMTTYPE=text/html:<!DOCTYPE HTML PUBLIC "-//W3C//DTD HTML 3.2//E
 N"><HTML><p>Take advantage of this free opportunity to learn German with A
 CS!</p>\n</HTML>
CREATED;TZID=Europe/Oslo:20231002T101355
URL;VALUE=URI:https://baumholder.armymwr.com/calendar/event
DTSTART;TZID=Europe/Oslo:20221207T180000
DTEND;TZID=Europe/Oslo:20221207T193000
SEQUENCE:8
END:VEVENT
BEGIN:VEVENT
UID:sabre-vobject-58a86b1b-7ee2-4686-a43c-1a2c241d6ca1
DTSTAMP:20260420T114527Z
SUMMARY:German Level 1 
DESCRIPTION:Take advantage of this free opportunity to learn German with AC
 S!\n
X-ALT-DESC:FMTTYPE=text/html:<!DOCTYPE HTML PUBLIC "-//W3C//DTD HTML 3.2//E
 N"><HTML><p>Take advantage of this free opportunity to learn German with A
 CS!</p>\n</HTML>
CREATED;TZID=Europe/Oslo:20231002T101355
URL;VALUE=URI:https://baumholder.armymwr.com/calendar/event
DTSTART;TZID=Europe/Oslo:20230104T120000
DTEND;TZID=Europe/Oslo:20230104T133000
SEQUENCE:9
END:VEVENT
BEGIN:VEVENT
UID:sabre-vobject-dd6ddd87-06f4-427c-a871-370022f0a114
DTSTAMP:20260420T114527Z
SUMMARY:German Level 1 
DESCRIPTION:Take advantage of this free opportunity to learn German with AC
 S!\n
X-ALT-DESC:FMTTYPE=text/html:<!DOCTYPE HTML PUBLIC "-//W3C//DTD HTML 3.2//E
 N"><HTML><p>Take advantage of this free opportunity to learn German with A
 CS!</p>\n</HTML>
CREATED;TZID=Europe/Oslo:20231002T101355
URL;VALUE=URI:https://baumholder.armymwr.com/calendar/event
DTSTART;TZID=Europe/Oslo:20230104T180000
DTEND;TZID=Europe/Oslo:20230104T193000
SEQUENCE:10
END:VEVENT
BEGIN:VEVENT
UID:sabre-vobject-9339ebc3-8b3f-46c8-bbaa-5ed5f9eb16fb
DTSTAMP:20260420T114527Z
SUMMARY:German Level 1 
DESCRIPTION:Take advantage of this free opportunity to learn German with AC
 S!\n
X-ALT-DESC:FMTTYPE=text/html:<!DOCTYPE HTML PUBLIC "-//W3C//DTD HTML 3.2//E
 N"><HTML><p>Take advantage of this free opportunity to learn German with A
 CS!</p>\n</HTML>
CREATED;TZID=Europe/Oslo:20231002T101355
URL;VALUE=URI:https://baumholder.armymwr.com/calendar/event
DTSTART;TZID=Europe/Oslo:20230105T120000
DTEND;TZID=Europe/Oslo:20230105T133000
SEQUENCE:11
END:VEVENT
END:VCALENDAR
