BEGIN:VCALENDAR
VERSION:2.0
PRODID:-//Sabre//Sabre VObject 4.5.8//EN
CALSCALE:GREGORIAN
BEGIN:VEVENT
UID:sabre-vobject-db03ca1a-fd5b-4e1b-96d2-20da5c3934d5
DTSTAMP:20260424T102725Z
SUMMARY:Thursday Night Golf Scramble
DESCRIPTION:Starts May 4 and takes place every Thursday evening.\n
X-ALT-DESC:FMTTYPE=text/html:<!DOCTYPE HTML PUBLIC "-//W3C//DTD HTML 3.2//E
 N"><HTML><p>Starts <strong>May 4</strong> and takes place every Thursday e
 vening.</p>\n</HTML>
CREATED;TZID=Europe/Oslo:20230406T134858
URL;VALUE=URI:https://baumholder.armymwr.com/calendar/event
DTSTART;TZID=Europe/Oslo:20230504T173000
DTEND;TZID=Europe/Oslo:20230504T193000
SEQUENCE:0
END:VEVENT
END:VCALENDAR
