BEGIN:VCALENDAR
VERSION:2.0
PRODID:-//Sabre//Sabre VObject 4.5.8//EN
CALSCALE:GREGORIAN
BEGIN:VEVENT
UID:sabre-vobject-05a4cf2a-038d-489b-9708-3a385750ed8a
DTSTAMP:20260421T133410Z
SUMMARY:Co-Parenting Workshop - LIVE STREAM
DESCRIPTION:Join Family Advocacy Program for an educational discussion/supp
 ort group to learn about services and tools to aid in successful parenting
 .&nbsp\;\n
X-ALT-DESC:FMTTYPE=text/html:<!DOCTYPE HTML PUBLIC "-//W3C//DTD HTML 3.2//E
 N"><HTML><p>Join Family Advocacy Program for an educational discussion/sup
 port group to learn about services and tools to aid in successful parentin
 g.&nbsp\;</p>\n</HTML>
CREATED;TZID=Europe/Oslo:20231214T113834
URL;VALUE=URI:https://baumholder.armymwr.com/calendar/event
DTSTART;TZID=Europe/Oslo:20230524T150000
DTEND;TZID=Europe/Oslo:20230524T160000
SEQUENCE:0
END:VEVENT
BEGIN:VEVENT
UID:sabre-vobject-01ef9d14-cb85-45f0-b276-ea6989eee4ed
DTSTAMP:20260421T133410Z
SUMMARY:Co-Parenting Workshop - LIVE STREAM
DESCRIPTION:Join Family Advocacy Program for an educational discussion/supp
 ort group to learn about services and tools to aid in successful parenting
 .&nbsp\;\n
X-ALT-DESC:FMTTYPE=text/html:<!DOCTYPE HTML PUBLIC "-//W3C//DTD HTML 3.2//E
 N"><HTML><p>Join Family Advocacy Program for an educational discussion/sup
 port group to learn about services and tools to aid in successful parentin
 g.&nbsp\;</p>\n</HTML>
CREATED;TZID=Europe/Oslo:20231214T113834
URL;VALUE=URI:https://baumholder.armymwr.com/calendar/event
DTSTART;TZID=Europe/Oslo:20230628T150000
DTEND;TZID=Europe/Oslo:20230628T160000
SEQUENCE:1
END:VEVENT
BEGIN:VEVENT
UID:sabre-vobject-475d6b0f-76e1-44cd-8070-419c1ad1ed24
DTSTAMP:20260421T133410Z
SUMMARY:Co-Parenting Workshop - LIVE STREAM
DESCRIPTION:Join Family Advocacy Program for an educational discussion/supp
 ort group to learn about services and tools to aid in successful parenting
 .&nbsp\;\n
X-ALT-DESC:FMTTYPE=text/html:<!DOCTYPE HTML PUBLIC "-//W3C//DTD HTML 3.2//E
 N"><HTML><p>Join Family Advocacy Program for an educational discussion/sup
 port group to learn about services and tools to aid in successful parentin
 g.&nbsp\;</p>\n</HTML>
CREATED;TZID=Europe/Oslo:20231214T113834
URL;VALUE=URI:https://baumholder.armymwr.com/calendar/event
DTSTART;TZID=Europe/Oslo:20230726T150000
DTEND;TZID=Europe/Oslo:20230726T160000
SEQUENCE:2
END:VEVENT
BEGIN:VEVENT
UID:sabre-vobject-85aef48c-927e-4809-8be2-9022415f9cfa
DTSTAMP:20260421T133410Z
SUMMARY:Co-Parenting Workshop - LIVE STREAM
DESCRIPTION:Join Family Advocacy Program for an educational discussion/supp
 ort group to learn about services and tools to aid in successful parenting
 .&nbsp\;\n
X-ALT-DESC:FMTTYPE=text/html:<!DOCTYPE HTML PUBLIC "-//W3C//DTD HTML 3.2//E
 N"><HTML><p>Join Family Advocacy Program for an educational discussion/sup
 port group to learn about services and tools to aid in successful parentin
 g.&nbsp\;</p>\n</HTML>
CREATED;TZID=Europe/Oslo:20231214T113834
URL;VALUE=URI:https://baumholder.armymwr.com/calendar/event
DTSTART;TZID=Europe/Oslo:20230823T150000
DTEND;TZID=Europe/Oslo:20230823T160000
SEQUENCE:3
END:VEVENT
BEGIN:VEVENT
UID:sabre-vobject-549b619d-530c-4bfe-aaed-f5d95c6cba0f
DTSTAMP:20260421T133410Z
SUMMARY:Co-Parenting Workshop - LIVE STREAM
DESCRIPTION:Join Family Advocacy Program for an educational discussion/supp
 ort group to learn about services and tools to aid in successful parenting
 .&nbsp\;\n
X-ALT-DESC:FMTTYPE=text/html:<!DOCTYPE HTML PUBLIC "-//W3C//DTD HTML 3.2//E
 N"><HTML><p>Join Family Advocacy Program for an educational discussion/sup
 port group to learn about services and tools to aid in successful parentin
 g.&nbsp\;</p>\n</HTML>
CREATED;TZID=Europe/Oslo:20231214T113834
URL;VALUE=URI:https://baumholder.armymwr.com/calendar/event
DTSTART;TZID=Europe/Oslo:20230927T150000
DTEND;TZID=Europe/Oslo:20230927T160000
SEQUENCE:4
END:VEVENT
BEGIN:VEVENT
UID:sabre-vobject-fe8bd33e-bcff-4d80-abf3-4722bf382af0
DTSTAMP:20260421T133410Z
SUMMARY:Co-Parenting Workshop - LIVE STREAM
DESCRIPTION:Join Family Advocacy Program for an educational discussion/supp
 ort group to learn about services and tools to aid in successful parenting
 .&nbsp\;\n
X-ALT-DESC:FMTTYPE=text/html:<!DOCTYPE HTML PUBLIC "-//W3C//DTD HTML 3.2//E
 N"><HTML><p>Join Family Advocacy Program for an educational discussion/sup
 port group to learn about services and tools to aid in successful parentin
 g.&nbsp\;</p>\n</HTML>
CREATED;TZID=Europe/Oslo:20231214T113834
URL;VALUE=URI:https://baumholder.armymwr.com/calendar/event
DTSTART;TZID=Europe/Oslo:20231025T150000
DTEND;TZID=Europe/Oslo:20231025T160000
SEQUENCE:5
END:VEVENT
BEGIN:VEVENT
UID:sabre-vobject-38049980-36c8-4aab-b2e6-e7196bf370ae
DTSTAMP:20260421T133410Z
SUMMARY:Co-Parenting Workshop - LIVE STREAM
DESCRIPTION:Join Family Advocacy Program for an educational discussion/supp
 ort group to learn about services and tools to aid in successful parenting
 .&nbsp\;\n
X-ALT-DESC:FMTTYPE=text/html:<!DOCTYPE HTML PUBLIC "-//W3C//DTD HTML 3.2//E
 N"><HTML><p>Join Family Advocacy Program for an educational discussion/sup
 port group to learn about services and tools to aid in successful parentin
 g.&nbsp\;</p>\n</HTML>
CREATED;TZID=Europe/Oslo:20231214T113834
URL;VALUE=URI:https://baumholder.armymwr.com/calendar/event
DTSTART;TZID=Europe/Oslo:20231122T150000
DTEND;TZID=Europe/Oslo:20231122T160000
SEQUENCE:6
END:VEVENT
BEGIN:VEVENT
UID:sabre-vobject-907bbce4-3cc9-4a7e-90fd-5850ce08f42b
DTSTAMP:20260421T133410Z
SUMMARY:Co-Parenting Workshop - LIVE STREAM
DESCRIPTION:Join Family Advocacy Program for an educational discussion/supp
 ort group to learn about services and tools to aid in successful parenting
 .&nbsp\;\n
X-ALT-DESC:FMTTYPE=text/html:<!DOCTYPE HTML PUBLIC "-//W3C//DTD HTML 3.2//E
 N"><HTML><p>Join Family Advocacy Program for an educational discussion/sup
 port group to learn about services and tools to aid in successful parentin
 g.&nbsp\;</p>\n</HTML>
CREATED;TZID=Europe/Oslo:20231214T113834
URL;VALUE=URI:https://baumholder.armymwr.com/calendar/event
DTSTART;TZID=Europe/Oslo:20231205T150000
DTEND;TZID=Europe/Oslo:20231205T160000
SEQUENCE:7
END:VEVENT
END:VCALENDAR
