BEGIN:VCALENDAR
VERSION:2.0
PRODID:-//Sabre//Sabre VObject 4.5.8//EN
CALSCALE:GREGORIAN
BEGIN:VEVENT
UID:sabre-vobject-c8008ccd-a986-4a41-a01c-0ed1808e3309
DTSTAMP:20260424T164004Z
SUMMARY:EFMP Walk-n-Talk
DESCRIPTION:Meet new people\, boost your mood and get in shape.&nbsp\;\n
X-ALT-DESC:FMTTYPE=text/html:<!DOCTYPE HTML PUBLIC "-//W3C//DTD HTML 3.2//E
 N"><HTML><p>Meet new people\, boost your mood and get in shape.&nbsp\;</p>
 \n</HTML>
CREATED;TZID=Europe/Oslo:20231002T111551
URL;VALUE=URI:https://baumholder.armymwr.com/calendar/event
DTSTART;TZID=Europe/Oslo:20230511T100000
DTEND;TZID=Europe/Oslo:20230511T113000
SEQUENCE:0
END:VEVENT
BEGIN:VEVENT
UID:sabre-vobject-6268dc85-d5c0-4e29-b43a-76916179dd4c
DTSTAMP:20260424T164004Z
SUMMARY:EFMP Walk-n-Talk
DESCRIPTION:Meet new people\, boost your mood and get in shape.&nbsp\;\n
X-ALT-DESC:FMTTYPE=text/html:<!DOCTYPE HTML PUBLIC "-//W3C//DTD HTML 3.2//E
 N"><HTML><p>Meet new people\, boost your mood and get in shape.&nbsp\;</p>
 \n</HTML>
CREATED;TZID=Europe/Oslo:20231002T111551
URL;VALUE=URI:https://baumholder.armymwr.com/calendar/event
DTSTART;TZID=Europe/Oslo:20230525T100000
DTEND;TZID=Europe/Oslo:20230525T113000
SEQUENCE:1
END:VEVENT
BEGIN:VEVENT
UID:sabre-vobject-b1219f57-88c7-4376-8a3b-11942622707c
DTSTAMP:20260424T164004Z
SUMMARY:EFMP Walk-n-Talk
DESCRIPTION:Meet new people\, boost your mood and get in shape.&nbsp\;\n
X-ALT-DESC:FMTTYPE=text/html:<!DOCTYPE HTML PUBLIC "-//W3C//DTD HTML 3.2//E
 N"><HTML><p>Meet new people\, boost your mood and get in shape.&nbsp\;</p>
 \n</HTML>
CREATED;TZID=Europe/Oslo:20231002T111551
URL;VALUE=URI:https://baumholder.armymwr.com/calendar/event
DTSTART;TZID=Europe/Oslo:20230601T100000
DTEND;TZID=Europe/Oslo:20230601T113000
SEQUENCE:2
END:VEVENT
BEGIN:VEVENT
UID:sabre-vobject-fe9d47fd-0891-4902-82b2-8448bdce1b79
DTSTAMP:20260424T164004Z
SUMMARY:EFMP Walk-n-Talk
DESCRIPTION:Meet new people\, boost your mood and get in shape.&nbsp\;\n
X-ALT-DESC:FMTTYPE=text/html:<!DOCTYPE HTML PUBLIC "-//W3C//DTD HTML 3.2//E
 N"><HTML><p>Meet new people\, boost your mood and get in shape.&nbsp\;</p>
 \n</HTML>
CREATED;TZID=Europe/Oslo:20231002T111551
URL;VALUE=URI:https://baumholder.armymwr.com/calendar/event
DTSTART;TZID=Europe/Oslo:20230615T100000
DTEND;TZID=Europe/Oslo:20230615T113000
SEQUENCE:3
END:VEVENT
BEGIN:VEVENT
UID:sabre-vobject-2e2b4d19-e438-4870-9e12-1db793d426ce
DTSTAMP:20260424T164004Z
SUMMARY:EFMP Walk-n-Talk
DESCRIPTION:Meet new people\, boost your mood and get in shape.&nbsp\;\n
X-ALT-DESC:FMTTYPE=text/html:<!DOCTYPE HTML PUBLIC "-//W3C//DTD HTML 3.2//E
 N"><HTML><p>Meet new people\, boost your mood and get in shape.&nbsp\;</p>
 \n</HTML>
CREATED;TZID=Europe/Oslo:20231002T111551
URL;VALUE=URI:https://baumholder.armymwr.com/calendar/event
DTSTART;TZID=Europe/Oslo:20230706T100000
DTEND;TZID=Europe/Oslo:20230706T113000
SEQUENCE:4
END:VEVENT
BEGIN:VEVENT
UID:sabre-vobject-05548927-fe6b-462c-a585-5f955c62e4a9
DTSTAMP:20260424T164004Z
SUMMARY:EFMP Walk-n-Talk
DESCRIPTION:Meet new people\, boost your mood and get in shape.&nbsp\;\n
X-ALT-DESC:FMTTYPE=text/html:<!DOCTYPE HTML PUBLIC "-//W3C//DTD HTML 3.2//E
 N"><HTML><p>Meet new people\, boost your mood and get in shape.&nbsp\;</p>
 \n</HTML>
CREATED;TZID=Europe/Oslo:20231002T111551
URL;VALUE=URI:https://baumholder.armymwr.com/calendar/event
DTSTART;TZID=Europe/Oslo:20230720T100000
DTEND;TZID=Europe/Oslo:20230720T113000
SEQUENCE:5
END:VEVENT
BEGIN:VEVENT
UID:sabre-vobject-eac5ec6f-193d-4cd6-9399-fd11979f222f
DTSTAMP:20260424T164004Z
SUMMARY:EFMP Walk-n-Talk
DESCRIPTION:Meet new people\, boost your mood and get in shape.&nbsp\;\n
X-ALT-DESC:FMTTYPE=text/html:<!DOCTYPE HTML PUBLIC "-//W3C//DTD HTML 3.2//E
 N"><HTML><p>Meet new people\, boost your mood and get in shape.&nbsp\;</p>
 \n</HTML>
CREATED;TZID=Europe/Oslo:20231002T111551
URL;VALUE=URI:https://baumholder.armymwr.com/calendar/event
DTSTART;TZID=Europe/Oslo:20230803T100000
DTEND;TZID=Europe/Oslo:20230803T113000
SEQUENCE:6
END:VEVENT
BEGIN:VEVENT
UID:sabre-vobject-74731240-f55a-4468-88e5-e3f886c42029
DTSTAMP:20260424T164004Z
SUMMARY:EFMP Walk-n-Talk
DESCRIPTION:Meet new people\, boost your mood and get in shape.&nbsp\;\n
X-ALT-DESC:FMTTYPE=text/html:<!DOCTYPE HTML PUBLIC "-//W3C//DTD HTML 3.2//E
 N"><HTML><p>Meet new people\, boost your mood and get in shape.&nbsp\;</p>
 \n</HTML>
CREATED;TZID=Europe/Oslo:20231002T111551
URL;VALUE=URI:https://baumholder.armymwr.com/calendar/event
DTSTART;TZID=Europe/Oslo:20230817T100000
DTEND;TZID=Europe/Oslo:20230817T113000
SEQUENCE:7
END:VEVENT
BEGIN:VEVENT
UID:sabre-vobject-28a2dc49-fc83-4f36-9ebe-ad62ac0e9ca8
DTSTAMP:20260424T164004Z
SUMMARY:EFMP Walk-n-Talk
DESCRIPTION:Meet new people\, boost your mood and get in shape.&nbsp\;\n
X-ALT-DESC:FMTTYPE=text/html:<!DOCTYPE HTML PUBLIC "-//W3C//DTD HTML 3.2//E
 N"><HTML><p>Meet new people\, boost your mood and get in shape.&nbsp\;</p>
 \n</HTML>
CREATED;TZID=Europe/Oslo:20231002T111551
URL;VALUE=URI:https://baumholder.armymwr.com/calendar/event
DTSTART;TZID=Europe/Oslo:20230907T100000
DTEND;TZID=Europe/Oslo:20230907T113000
SEQUENCE:8
END:VEVENT
BEGIN:VEVENT
UID:sabre-vobject-48968842-13e4-4847-97ac-cc9ad901455c
DTSTAMP:20260424T164004Z
SUMMARY:EFMP Walk-n-Talk
DESCRIPTION:Meet new people\, boost your mood and get in shape.&nbsp\;\n
X-ALT-DESC:FMTTYPE=text/html:<!DOCTYPE HTML PUBLIC "-//W3C//DTD HTML 3.2//E
 N"><HTML><p>Meet new people\, boost your mood and get in shape.&nbsp\;</p>
 \n</HTML>
CREATED;TZID=Europe/Oslo:20231002T111551
URL;VALUE=URI:https://baumholder.armymwr.com/calendar/event
DTSTART;TZID=Europe/Oslo:20230921T100000
DTEND;TZID=Europe/Oslo:20230921T113000
SEQUENCE:9
END:VEVENT
BEGIN:VEVENT
UID:sabre-vobject-cdd8954c-6c79-4587-b8b5-4f53debec051
DTSTAMP:20260424T164004Z
SUMMARY:EFMP Walk-n-Talk
DESCRIPTION:Meet new people\, boost your mood and get in shape.&nbsp\;\n
X-ALT-DESC:FMTTYPE=text/html:<!DOCTYPE HTML PUBLIC "-//W3C//DTD HTML 3.2//E
 N"><HTML><p>Meet new people\, boost your mood and get in shape.&nbsp\;</p>
 \n</HTML>
CREATED;TZID=Europe/Oslo:20231002T111551
URL;VALUE=URI:https://baumholder.armymwr.com/calendar/event
DTSTART;TZID=Europe/Oslo:20231005T100000
DTEND;TZID=Europe/Oslo:20231005T113000
SEQUENCE:10
END:VEVENT
BEGIN:VEVENT
UID:sabre-vobject-3a0cbcd0-e5ae-4e70-9eae-a90d757fa016
DTSTAMP:20260424T164004Z
SUMMARY:EFMP Walk-n-Talk
DESCRIPTION:Meet new people\, boost your mood and get in shape.&nbsp\;\n
X-ALT-DESC:FMTTYPE=text/html:<!DOCTYPE HTML PUBLIC "-//W3C//DTD HTML 3.2//E
 N"><HTML><p>Meet new people\, boost your mood and get in shape.&nbsp\;</p>
 \n</HTML>
CREATED;TZID=Europe/Oslo:20231002T111551
URL;VALUE=URI:https://baumholder.armymwr.com/calendar/event
DTSTART;TZID=Europe/Oslo:20231019T100000
DTEND;TZID=Europe/Oslo:20231019T113000
SEQUENCE:11
END:VEVENT
END:VCALENDAR
