BEGIN:VCALENDAR
VERSION:2.0
PRODID:-//Sabre//Sabre VObject 4.5.8//EN
CALSCALE:GREGORIAN
BEGIN:VEVENT
UID:sabre-vobject-1ab3bd43-1fae-41ad-a3ef-9a16edfc3b18
DTSTAMP:20260425T222722Z
SUMMARY:Army Community Service Job Fair
DESCRIPTION:Mark your calendar for this upcoming job fair!\n
X-ALT-DESC:FMTTYPE=text/html:<!DOCTYPE HTML PUBLIC "-//W3C//DTD HTML 3.2//E
 N"><HTML><p>Mark your calendar for this upcoming job fair!</p>\n</HTML>
CREATED;TZID=Europe/Oslo:20230712T090826
URL;VALUE=URI:https://baumholder.armymwr.com/calendar/event
DTSTART;TZID=Europe/Oslo:20230914T100000
DTEND;TZID=Europe/Oslo:20230914T150000
SEQUENCE:0
END:VEVENT
END:VCALENDAR
