BEGIN:VCALENDAR
VERSION:2.0
PRODID:-//Sabre//Sabre VObject 4.5.8//EN
CALSCALE:GREGORIAN
BEGIN:VEVENT
UID:sabre-vobject-de9cc97b-20ff-463b-8cf7-ead883e64a61
DTSTAMP:20260425T203308Z
SUMMARY:Child & Youth Service Job Fair
DESCRIPTION:Interested in making a difference for our children in the commu
 nity?\n
X-ALT-DESC:FMTTYPE=text/html:<!DOCTYPE HTML PUBLIC "-//W3C//DTD HTML 3.2//E
 N"><HTML><p>Interested in making a difference for our children in the comm
 unity?</p>\n</HTML>
CREATED;TZID=Europe/Oslo:20230725T111225
URL;VALUE=URI:https://baumholder.armymwr.com/calendar/event
DTSTART;TZID=Europe/Oslo:20230913T090000
DTEND;TZID=Europe/Oslo:20230913T130000
SEQUENCE:0
END:VEVENT
END:VCALENDAR
