BEGIN:VCALENDAR
VERSION:2.0
PRODID:-//Sabre//Sabre VObject 4.5.8//EN
CALSCALE:GREGORIAN
BEGIN:VEVENT
UID:sabre-vobject-ef59155a-8949-437f-9657-a3e6acba388a
DTSTAMP:20260425T030453Z
SUMMARY:Air Force Birthday Scramble
DESCRIPTION:Celebrate the U.S. Air Force birthday\, Sep 23 at the Rolling H
 ills Golf Course.\n
X-ALT-DESC:FMTTYPE=text/html:<!DOCTYPE HTML PUBLIC "-//W3C//DTD HTML 3.2//E
 N"><HTML><p>Celebrate the U.S. Air Force birthday\, Sep 23 at the Rolling 
 Hills Golf Course.</p>\n</HTML>
CREATED;TZID=Europe/Oslo:20230815T101024
URL;VALUE=URI:https://baumholder.armymwr.com/calendar/event
DTSTART;TZID=Europe/Oslo:20230923T100000
DTEND;TZID=Europe/Oslo:20230923T110000
SEQUENCE:0
END:VEVENT
END:VCALENDAR
