BEGIN:VCALENDAR
VERSION:2.0
PRODID:-//Sabre//Sabre VObject 4.5.8//EN
CALSCALE:GREGORIAN
BEGIN:VEVENT
UID:sabre-vobject-16e9a008-f174-441e-9ad0-e1490d86902e
DTSTAMP:20260425T121259Z
SUMMARY:Stuffed Animal Sleepover
DESCRIPTION:Tuck your furry friends in at the Baumholder Library.\n
X-ALT-DESC:FMTTYPE=text/html:<!DOCTYPE HTML PUBLIC "-//W3C//DTD HTML 3.2//E
 N"><HTML><p>Tuck your furry friends in at the Baumholder Library.</p>\n</H
 TML>
CREATED;TZID=Europe/Oslo:20230825T131656
URL;VALUE=URI:https://baumholder.armymwr.com/calendar/event
DTSTART;TZID=Europe/Oslo:20230929T120000
DTEND;TZID=Europe/Oslo:20230929T160000
SEQUENCE:0
END:VEVENT
BEGIN:VEVENT
UID:sabre-vobject-e374a4ef-3272-414c-9aeb-500eb1d11b91
DTSTAMP:20260425T121259Z
SUMMARY:Stuffed Animal Sleepover
DESCRIPTION:Tuck your furry friends in at the Baumholder Library.\n
X-ALT-DESC:FMTTYPE=text/html:<!DOCTYPE HTML PUBLIC "-//W3C//DTD HTML 3.2//E
 N"><HTML><p>Tuck your furry friends in at the Baumholder Library.</p>\n</H
 TML>
CREATED;TZID=Europe/Oslo:20230825T131656
URL;VALUE=URI:https://baumholder.armymwr.com/calendar/event
DTSTART;TZID=Europe/Oslo:20231002T100000
DTEND;TZID=Europe/Oslo:20231002T180000
SEQUENCE:1
END:VEVENT
END:VCALENDAR
