BEGIN:VCALENDAR
VERSION:2.0
PRODID:-//Sabre//Sabre VObject 4.5.8//EN
CALSCALE:GREGORIAN
BEGIN:VEVENT
UID:sabre-vobject-311d58b4-982e-4d4c-a9a3-958469c966aa
DTSTAMP:20260424T164007Z
SUMMARY:Sunday Spa Day
DESCRIPTION:
X-ALT-DESC:FMTTYPE=text/html:<!DOCTYPE HTML PUBLIC "-//W3C//DTD HTML 3.2//E
 N"><HTML></HTML>
CREATED;TZID=Europe/Oslo:20230903T165148
URL;VALUE=URI:https://baumholder.armymwr.com/calendar/event
DTSTART;TZID=Europe/Oslo:20231022T090000
DTEND;TZID=Europe/Oslo:20231022T200000
SEQUENCE:0
END:VEVENT
END:VCALENDAR
