BEGIN:VCALENDAR
VERSION:2.0
PRODID:-//Sabre//Sabre VObject 4.5.8//EN
CALSCALE:GREGORIAN
BEGIN:VEVENT
UID:sabre-vobject-9953daaf-04b4-47d2-9a0e-43be0ea490d9
DTSTAMP:20260425T103655Z
SUMMARY:Night Golf
DESCRIPTION:Starts one hour before sunset!\n
X-ALT-DESC:FMTTYPE=text/html:<!DOCTYPE HTML PUBLIC "-//W3C//DTD HTML 3.2//E
 N"><HTML><p>Starts one hour before sunset!</p>\n</HTML>
CREATED;TZID=Europe/Oslo:20230830T091330
URL;VALUE=URI:https://baumholder.armymwr.com/calendar/event
DTSTART;TZID=Europe/Oslo:20231013T170000
DTEND;TZID=Europe/Oslo:20231013T180000
SEQUENCE:0
END:VEVENT
END:VCALENDAR
