BEGIN:VCALENDAR
VERSION:2.0
PRODID:-//Sabre//Sabre VObject 4.5.8//EN
CALSCALE:GREGORIAN
BEGIN:VEVENT
UID:sabre-vobject-d02add5e-3f88-4af0-93b9-807cc636bc68
DTSTAMP:20260424T164009Z
SUMMARY:Halloween Bowling
DESCRIPTION:Come in full costume to get the shoe rental for free!\n
X-ALT-DESC:FMTTYPE=text/html:<!DOCTYPE HTML PUBLIC "-//W3C//DTD HTML 3.2//E
 N"><HTML><p>Come in full costume to get the shoe rental for free!</p>\n</H
 TML>
CREATED;TZID=Europe/Oslo:20230913T104034
URL;VALUE=URI:https://baumholder.armymwr.com/calendar/event
DTSTART;TZID=Europe/Oslo:20231028T160000
DTEND;TZID=Europe/Oslo:20231028T210000
SEQUENCE:0
END:VEVENT
END:VCALENDAR
