BEGIN:VCALENDAR
VERSION:2.0
PRODID:-//Sabre//Sabre VObject 4.5.8//EN
CALSCALE:GREGORIAN
BEGIN:VEVENT
UID:sabre-vobject-636dbcba-9bbd-43e7-9a9a-12cd241d28d1
DTSTAMP:20260424T131643Z
SUMMARY:Holiday Bazaar
DESCRIPTION:Join Family &amp\; MWR for the Holiday Bazaar-Nov 3-5!\n
X-ALT-DESC:FMTTYPE=text/html:<!DOCTYPE HTML PUBLIC "-//W3C//DTD HTML 3.2//E
 N"><HTML><p>Join Family &amp\; MWR for the Holiday Bazaar-Nov 3-5!</p>\n</
 HTML>
CREATED;TZID=Europe/Oslo:20231023T105505
URL;VALUE=URI:https://baumholder.armymwr.com/calendar/event
DTSTART;TZID=Europe/Oslo:20231103T100000
DTEND;TZID=Europe/Oslo:20231103T190000
SEQUENCE:0
END:VEVENT
BEGIN:VEVENT
UID:sabre-vobject-e6f3e575-f1fb-443e-a00d-fb7a2ff7892d
DTSTAMP:20260424T131643Z
SUMMARY:Holiday Bazaar
DESCRIPTION:Join Family &amp\; MWR for the Holiday Bazaar-Nov 3-5!\n
X-ALT-DESC:FMTTYPE=text/html:<!DOCTYPE HTML PUBLIC "-//W3C//DTD HTML 3.2//E
 N"><HTML><p>Join Family &amp\; MWR for the Holiday Bazaar-Nov 3-5!</p>\n</
 HTML>
CREATED;TZID=Europe/Oslo:20231023T105505
URL;VALUE=URI:https://baumholder.armymwr.com/calendar/event
DTSTART;TZID=Europe/Oslo:20231104T100000
DTEND;TZID=Europe/Oslo:20231104T190000
SEQUENCE:1
END:VEVENT
BEGIN:VEVENT
UID:sabre-vobject-4bc1979f-dd20-4163-8abc-5109fc83b706
DTSTAMP:20260424T131643Z
SUMMARY:Holiday Bazaar
DESCRIPTION:Join Family &amp\; MWR for the Holiday Bazaar-Nov 3-5!\n
X-ALT-DESC:FMTTYPE=text/html:<!DOCTYPE HTML PUBLIC "-//W3C//DTD HTML 3.2//E
 N"><HTML><p>Join Family &amp\; MWR for the Holiday Bazaar-Nov 3-5!</p>\n</
 HTML>
CREATED;TZID=Europe/Oslo:20231023T105505
URL;VALUE=URI:https://baumholder.armymwr.com/calendar/event
DTSTART;TZID=Europe/Oslo:20231105T100000
DTEND;TZID=Europe/Oslo:20231105T170000
SEQUENCE:2
END:VEVENT
END:VCALENDAR
