BEGIN:VCALENDAR
VERSION:2.0
PRODID:-//Sabre//Sabre VObject 4.5.8//EN
CALSCALE:GREGORIAN
BEGIN:VEVENT
UID:sabre-vobject-dbed8f9b-8309-44f8-a524-1a431fee9a0e
DTSTAMP:20260424T100453Z
SUMMARY:Intramural Unit Level Basketball Registration
DESCRIPTION:November 1-14\n
X-ALT-DESC:FMTTYPE=text/html:<!DOCTYPE HTML PUBLIC "-//W3C//DTD HTML 3.2//E
 N"><HTML><p>November 1-14</p>\n</HTML>
CREATED;TZID=Europe/Oslo:20231012T103945
URL;VALUE=URI:https://baumholder.armymwr.com/calendar/event
DTSTART;TZID=Europe/Oslo:20231101T103000
DTEND;TZID=Europe/Oslo:20231114T113000
SEQUENCE:0
END:VEVENT
END:VCALENDAR
