BEGIN:VCALENDAR
VERSION:2.0
PRODID:-//Sabre//Sabre VObject 4.5.8//EN
CALSCALE:GREGORIAN
BEGIN:VEVENT
UID:sabre-vobject-48b66ca4-f8cc-4a28-ab29-95e38596d99a
DTSTAMP:20260421T132828Z
SUMMARY:The Sound of Music
DESCRIPTION:Bring the entire family to this beloved family classic!\n
X-ALT-DESC:FMTTYPE=text/html:<!DOCTYPE HTML PUBLIC "-//W3C//DTD HTML 3.2//E
 N"><HTML><p>Bring the entire family to this beloved family classic!</p>\n<
 /HTML>
CREATED;TZID=Europe/Oslo:20231106T151442
URL;VALUE=URI:https://baumholder.armymwr.com/calendar/event
DTSTART;TZID=Europe/Oslo:20231201T190000
DTEND;TZID=Europe/Oslo:20231201T200000
SEQUENCE:0
END:VEVENT
BEGIN:VEVENT
UID:sabre-vobject-e7283714-e09f-4c01-bb8d-c6ab181e4da5
DTSTAMP:20260421T132828Z
SUMMARY:The Sound of Music
DESCRIPTION:Bring the entire family to this beloved family classic!\n
X-ALT-DESC:FMTTYPE=text/html:<!DOCTYPE HTML PUBLIC "-//W3C//DTD HTML 3.2//E
 N"><HTML><p>Bring the entire family to this beloved family classic!</p>\n<
 /HTML>
CREATED;TZID=Europe/Oslo:20231106T151442
URL;VALUE=URI:https://baumholder.armymwr.com/calendar/event
DTSTART;TZID=Europe/Oslo:20231202T190000
DTEND;TZID=Europe/Oslo:20231202T200000
SEQUENCE:1
END:VEVENT
BEGIN:VEVENT
UID:sabre-vobject-ea409dbc-c559-4899-ad2a-0109a65a5c69
DTSTAMP:20260421T132828Z
SUMMARY:The Sound of Music
DESCRIPTION:Bring the entire family to this beloved family classic!\n
X-ALT-DESC:FMTTYPE=text/html:<!DOCTYPE HTML PUBLIC "-//W3C//DTD HTML 3.2//E
 N"><HTML><p>Bring the entire family to this beloved family classic!</p>\n<
 /HTML>
CREATED;TZID=Europe/Oslo:20231106T151442
URL;VALUE=URI:https://baumholder.armymwr.com/calendar/event
DTSTART;TZID=Europe/Oslo:20231203T140000
DTEND;TZID=Europe/Oslo:20231203T150000
SEQUENCE:2
END:VEVENT
BEGIN:VEVENT
UID:sabre-vobject-bfce0c3d-1066-468f-9d89-f194e4ac9f58
DTSTAMP:20260421T132828Z
SUMMARY:The Sound of Music
DESCRIPTION:Bring the entire family to this beloved family classic!\n
X-ALT-DESC:FMTTYPE=text/html:<!DOCTYPE HTML PUBLIC "-//W3C//DTD HTML 3.2//E
 N"><HTML><p>Bring the entire family to this beloved family classic!</p>\n<
 /HTML>
CREATED;TZID=Europe/Oslo:20231106T151442
URL;VALUE=URI:https://baumholder.armymwr.com/calendar/event
DTSTART;TZID=Europe/Oslo:20231208T190000
DTEND;TZID=Europe/Oslo:20231208T200000
SEQUENCE:3
END:VEVENT
BEGIN:VEVENT
UID:sabre-vobject-f1bc3f7a-7ffe-4b38-a559-18edcc30ee23
DTSTAMP:20260421T132828Z
SUMMARY:The Sound of Music
DESCRIPTION:Bring the entire family to this beloved family classic!\n
X-ALT-DESC:FMTTYPE=text/html:<!DOCTYPE HTML PUBLIC "-//W3C//DTD HTML 3.2//E
 N"><HTML><p>Bring the entire family to this beloved family classic!</p>\n<
 /HTML>
CREATED;TZID=Europe/Oslo:20231106T151442
URL;VALUE=URI:https://baumholder.armymwr.com/calendar/event
DTSTART;TZID=Europe/Oslo:20231209T190000
DTEND;TZID=Europe/Oslo:20231209T200000
SEQUENCE:4
END:VEVENT
BEGIN:VEVENT
UID:sabre-vobject-0659da17-8e9e-41f3-9774-7d55b99226e3
DTSTAMP:20260421T132828Z
SUMMARY:The Sound of Music
DESCRIPTION:Bring the entire family to this beloved family classic!\n
X-ALT-DESC:FMTTYPE=text/html:<!DOCTYPE HTML PUBLIC "-//W3C//DTD HTML 3.2//E
 N"><HTML><p>Bring the entire family to this beloved family classic!</p>\n<
 /HTML>
CREATED;TZID=Europe/Oslo:20231106T151442
URL;VALUE=URI:https://baumholder.armymwr.com/calendar/event
DTSTART;TZID=Europe/Oslo:20231210T190000
DTEND;TZID=Europe/Oslo:20231210T200000
SEQUENCE:5
END:VEVENT
END:VCALENDAR
