BEGIN:VCALENDAR
VERSION:2.0
PRODID:-//Sabre//Sabre VObject 4.5.8//EN
CALSCALE:GREGORIAN
BEGIN:VEVENT
UID:sabre-vobject-5b4ebfc6-7f32-4d71-adc6-fe554fdbd9b9
DTSTAMP:20260421T132741Z
SUMMARY:Hagrid's Birthday Celebration
DESCRIPTION:Celebrate with Harry Potter trivia and a costume contest.\n
X-ALT-DESC:FMTTYPE=text/html:<!DOCTYPE HTML PUBLIC "-//W3C//DTD HTML 3.2//E
 N"><HTML><p>Celebrate with Harry Potter trivia and a costume contest.</p>\
 n</HTML>
CREATED;TZID=Europe/Oslo:20231107T093651
URL;VALUE=URI:https://baumholder.armymwr.com/calendar/event
DTSTART;TZID=Europe/Oslo:20231208T180000
DTEND;TZID=Europe/Oslo:20231208T200000
SEQUENCE:0
END:VEVENT
END:VCALENDAR
