BEGIN:VCALENDAR
VERSION:2.0
PRODID:-//Sabre//Sabre VObject 4.5.8//EN
CALSCALE:GREGORIAN
BEGIN:VEVENT
UID:sabre-vobject-c63764a9-12d8-4531-bc7d-cf5d816c49b4
DTSTAMP:20260420T142747Z
SUMMARY:Black Forest Ski Express
DESCRIPTION:
X-ALT-DESC:FMTTYPE=text/html:<!DOCTYPE HTML PUBLIC "-//W3C//DTD HTML 3.2//E
 N"><HTML></HTML>
CREATED;TZID=Europe/Oslo:20231116T142222
URL;VALUE=URI:https://baumholder.armymwr.com/calendar/event
DTSTART;TZID=Europe/Oslo:20240106T050000
DTEND;TZID=Europe/Oslo:20240106T220000
SEQUENCE:0
END:VEVENT
BEGIN:VEVENT
UID:sabre-vobject-8138407a-2828-45ad-bcf2-c552c0fa5ef5
DTSTAMP:20260420T142747Z
SUMMARY:Black Forest Ski Express
DESCRIPTION:
X-ALT-DESC:FMTTYPE=text/html:<!DOCTYPE HTML PUBLIC "-//W3C//DTD HTML 3.2//E
 N"><HTML></HTML>
CREATED;TZID=Europe/Oslo:20231116T142222
URL;VALUE=URI:https://baumholder.armymwr.com/calendar/event
DTSTART;TZID=Europe/Oslo:20240127T050000
DTEND;TZID=Europe/Oslo:20240127T220000
SEQUENCE:1
END:VEVENT
BEGIN:VEVENT
UID:sabre-vobject-3d868cf8-1f5a-4685-9eb1-c537f6911054
DTSTAMP:20260420T142747Z
SUMMARY:Black Forest Ski Express
DESCRIPTION:
X-ALT-DESC:FMTTYPE=text/html:<!DOCTYPE HTML PUBLIC "-//W3C//DTD HTML 3.2//E
 N"><HTML></HTML>
CREATED;TZID=Europe/Oslo:20231116T142222
URL;VALUE=URI:https://baumholder.armymwr.com/calendar/event
DTSTART;TZID=Europe/Oslo:20240210T050000
DTEND;TZID=Europe/Oslo:20240210T220000
SEQUENCE:2
END:VEVENT
END:VCALENDAR
